BEGIN:VCALENDAR
VERSION:2.0
PRODID:http://www.kufer.de/kuferweb / DE
METHOD:PUBLISH
CALSCALE:GREGORIAN
X-WR-TIMEZONE:Europe/Berlin
BEGIN:VTIMEZONE
TZID:Europe/Berlin
X-LIC-LOCATION:Europe/Berlin
BEGIN:DAYLIGHT
TZOFFSETFROM:+0100
TZOFFSETTO:+0200
TZNAME:CEST
DTSTART;TZID=Europe/Berlin:19700329T020000
RRULE:FREQ=YEARLY;INTERVAL=1;BYDAY=-1SU;BYMONTH=3
END:DAYLIGHT
BEGIN:STANDARD
TZOFFSETFROM:+0200
TZOFFSETTO:+0100
TZNAME:CET
DTSTART;TZID=Europe/Berlin:19701025T030000
RRULE:FREQ=YEARLY;INTERVAL=1;BYDAY=-1SU;BYMONTH=10
END:STANDARD
END:VTIMEZONE
BEGIN:VEVENT
DTSTAMP:20260422T185905
DTSTART;TZID=Europe/Berlin:20260512T130000
DTEND;TZID=Europe/Berlin:20260512T163000
UID:261AD0130-20260512T130000@VHSZWECKVERBAND VHS HANNOVER LAND
SUMMARY:KI-Workflows für Ihr Unternehmen: Prozesse optimieren & Zeit sparen (261AD0130) 
LOCATION:Web-Seminar 6, Den Zugang bekommen Sie ca. eine Woche vor Beginn, Zoom
END:VEVENT
END:VCALENDAR