BEGIN:VCALENDAR
VERSION:2.0
PRODID:http://www.kufer.de/kuferweb / DE
METHOD:PUBLISH
CALSCALE:GREGORIAN
X-WR-TIMEZONE:Europe/Berlin
BEGIN:VTIMEZONE
TZID:Europe/Berlin
X-LIC-LOCATION:Europe/Berlin
BEGIN:DAYLIGHT
TZOFFSETFROM:+0100
TZOFFSETTO:+0200
TZNAME:CEST
DTSTART;TZID=Europe/Berlin:19700329T020000
RRULE:FREQ=YEARLY;INTERVAL=1;BYDAY=-1SU;BYMONTH=3
END:DAYLIGHT
BEGIN:STANDARD
TZOFFSETFROM:+0200
TZOFFSETTO:+0100
TZNAME:CET
DTSTART;TZID=Europe/Berlin:19701025T030000
RRULE:FREQ=YEARLY;INTERVAL=1;BYDAY=-1SU;BYMONTH=10
END:STANDARD
END:VTIMEZONE
BEGIN:VEVENT
DTSTAMP:20260422T124434
DTSTART;TZID=Europe/Berlin:20260128T140000
DTEND;TZID=Europe/Berlin:20260128T161500
UID:261DN0022-20260128T140000@VHSZWECKVERBAND VHS HANNOVER LAND
SUMMARY:Fit mit Smartphone & Tablet – Der Treff für Senior*innen (261DN0022) 
LOCATION:Garbsen; Geschäftsstelle vhs (am Planetencenter); AUR1, Planetenring 35, 30823 Garbsen
END:VEVENT
BEGIN:VEVENT
DTSTAMP:20260422T124434
DTSTART;TZID=Europe/Berlin:20260225T140000
DTEND;TZID=Europe/Berlin:20260225T161500
UID:261DN0022-20260225T140000@VHSZWECKVERBAND VHS HANNOVER LAND
SUMMARY:Fit mit Smartphone & Tablet – Der Treff für Senior*innen (261DN0022) 
LOCATION:Garbsen; Geschäftsstelle vhs (am Planetencenter); EDV-Raum, Planetenring 35, 30823 Garbsen
END:VEVENT
BEGIN:VEVENT
DTSTAMP:20260422T124434
DTSTART;TZID=Europe/Berlin:20260422T140000
DTEND;TZID=Europe/Berlin:20260422T161500
UID:261DN0022-20260422T140000@VHSZWECKVERBAND VHS HANNOVER LAND
SUMMARY:Fit mit Smartphone & Tablet – Der Treff für Senior*innen (261DN0022) 
LOCATION:Garbsen; Geschäftsstelle vhs (am Planetencenter); EDV-Raum, Planetenring 35, 30823 Garbsen
END:VEVENT
BEGIN:VEVENT
DTSTAMP:20260422T124434
DTSTART;TZID=Europe/Berlin:20260527T140000
DTEND;TZID=Europe/Berlin:20260527T161500
UID:261DN0022-20260527T140000@VHSZWECKVERBAND VHS HANNOVER LAND
SUMMARY:Fit mit Smartphone & Tablet – Der Treff für Senior*innen (261DN0022) 
LOCATION:Garbsen; Geschäftsstelle vhs (am Planetencenter); EDV-Raum, Planetenring 35, 30823 Garbsen
END:VEVENT
BEGIN:VEVENT
DTSTAMP:20260422T124434
DTSTART;TZID=Europe/Berlin:20260624T140000
DTEND;TZID=Europe/Berlin:20260624T161500
UID:261DN0022-20260624T140000@VHSZWECKVERBAND VHS HANNOVER LAND
SUMMARY:Fit mit Smartphone & Tablet – Der Treff für Senior*innen (261DN0022) 
LOCATION:Garbsen; Geschäftsstelle vhs (am Planetencenter); EDV-Raum, Planetenring 35, 30823 Garbsen
END:VEVENT
END:VCALENDAR