BEGIN:VCALENDAR
VERSION:2.0
PRODID:http://www.kufer.de/kuferweb / DE
METHOD:PUBLISH
CALSCALE:GREGORIAN
X-WR-TIMEZONE:Europe/Berlin
BEGIN:VTIMEZONE
TZID:Europe/Berlin
X-LIC-LOCATION:Europe/Berlin
BEGIN:DAYLIGHT
TZOFFSETFROM:+0100
TZOFFSETTO:+0200
TZNAME:CEST
DTSTART;TZID=Europe/Berlin:19700329T020000
RRULE:FREQ=YEARLY;INTERVAL=1;BYDAY=-1SU;BYMONTH=3
END:DAYLIGHT
BEGIN:STANDARD
TZOFFSETFROM:+0200
TZOFFSETTO:+0100
TZNAME:CET
DTSTART;TZID=Europe/Berlin:19701025T030000
RRULE:FREQ=YEARLY;INTERVAL=1;BYDAY=-1SU;BYMONTH=10
END:STANDARD
END:VTIMEZONE
BEGIN:VEVENT
DTSTAMP:20260422T174151
DTSTART;TZID=Europe/Berlin:20260113T170000
DTEND;TZID=Europe/Berlin:20260113T180000
UID:261GF0012-20260113T170000@VHSZWECKVERBAND VHS HANNOVER LAND
SUMMARY:Gymnastik für Senioren (261GF0012) 
LOCATION:Garbsen;Kleegrund (FB 7); Sporthalle, Planetenring  15, 30823 Garbsen
END:VEVENT
BEGIN:VEVENT
DTSTAMP:20260422T174151
DTSTART;TZID=Europe/Berlin:20260120T170000
DTEND;TZID=Europe/Berlin:20260120T180000
UID:261GF0012-20260120T170000@VHSZWECKVERBAND VHS HANNOVER LAND
SUMMARY:Gymnastik für Senioren (261GF0012) 
LOCATION:Garbsen;Kleegrund (FB 7); Sporthalle, Planetenring  15, 30823 Garbsen
END:VEVENT
BEGIN:VEVENT
DTSTAMP:20260422T174151
DTSTART;TZID=Europe/Berlin:20260127T170000
DTEND;TZID=Europe/Berlin:20260127T180000
UID:261GF0012-20260127T170000@VHSZWECKVERBAND VHS HANNOVER LAND
SUMMARY:Gymnastik für Senioren (261GF0012) 
LOCATION:Garbsen;Kleegrund (FB 7); Sporthalle, Planetenring  15, 30823 Garbsen
END:VEVENT
BEGIN:VEVENT
DTSTAMP:20260422T174151
DTSTART;TZID=Europe/Berlin:20260210T170000
DTEND;TZID=Europe/Berlin:20260210T180000
UID:261GF0012-20260210T170000@VHSZWECKVERBAND VHS HANNOVER LAND
SUMMARY:Gymnastik für Senioren (261GF0012) 
LOCATION:Garbsen;Kleegrund (FB 7); Sporthalle, Planetenring  15, 30823 Garbsen
END:VEVENT
BEGIN:VEVENT
DTSTAMP:20260422T174151
DTSTART;TZID=Europe/Berlin:20260217T170000
DTEND;TZID=Europe/Berlin:20260217T180000
UID:261GF0012-20260217T170000@VHSZWECKVERBAND VHS HANNOVER LAND
SUMMARY:Gymnastik für Senioren (261GF0012) 
LOCATION:Garbsen;Kleegrund (FB 7); Sporthalle, Planetenring  15, 30823 Garbsen
END:VEVENT
BEGIN:VEVENT
DTSTAMP:20260422T174151
DTSTART;TZID=Europe/Berlin:20260224T170000
DTEND;TZID=Europe/Berlin:20260224T180000
UID:261GF0012-20260224T170000@VHSZWECKVERBAND VHS HANNOVER LAND
SUMMARY:Gymnastik für Senioren (261GF0012) 
LOCATION:Garbsen;Kleegrund (FB 7); Sporthalle, Planetenring  15, 30823 Garbsen
END:VEVENT
BEGIN:VEVENT
DTSTAMP:20260422T174151
DTSTART;TZID=Europe/Berlin:20260303T170000
DTEND;TZID=Europe/Berlin:20260303T180000
UID:261GF0012-20260303T170000@VHSZWECKVERBAND VHS HANNOVER LAND
SUMMARY:Gymnastik für Senioren (261GF0012) 
LOCATION:Garbsen;Kleegrund (FB 7); Sporthalle, Planetenring  15, 30823 Garbsen
END:VEVENT
BEGIN:VEVENT
DTSTAMP:20260422T174151
DTSTART;TZID=Europe/Berlin:20260310T170000
DTEND;TZID=Europe/Berlin:20260310T180000
UID:261GF0012-20260310T170000@VHSZWECKVERBAND VHS HANNOVER LAND
SUMMARY:Gymnastik für Senioren (261GF0012) 
LOCATION:Garbsen;Kleegrund (FB 7); Sporthalle, Planetenring  15, 30823 Garbsen
END:VEVENT
BEGIN:VEVENT
DTSTAMP:20260422T174151
DTSTART;TZID=Europe/Berlin:20260317T170000
DTEND;TZID=Europe/Berlin:20260317T180000
UID:261GF0012-20260317T170000@VHSZWECKVERBAND VHS HANNOVER LAND
SUMMARY:Gymnastik für Senioren (261GF0012) 
LOCATION:Garbsen;Kleegrund (FB 7); Sporthalle, Planetenring  15, 30823 Garbsen
END:VEVENT
BEGIN:VEVENT
DTSTAMP:20260422T174151
DTSTART;TZID=Europe/Berlin:20260414T170000
DTEND;TZID=Europe/Berlin:20260414T180000
UID:261GF0012-20260414T170000@VHSZWECKVERBAND VHS HANNOVER LAND
SUMMARY:Gymnastik für Senioren (261GF0012) 
LOCATION:Garbsen;Kleegrund (FB 7); Sporthalle, Planetenring  15, 30823 Garbsen
END:VEVENT
BEGIN:VEVENT
DTSTAMP:20260422T174151
DTSTART;TZID=Europe/Berlin:20260428T170000
DTEND;TZID=Europe/Berlin:20260428T180000
UID:261GF0012-20260428T170000@VHSZWECKVERBAND VHS HANNOVER LAND
SUMMARY:Gymnastik für Senioren (261GF0012) 
LOCATION:Garbsen;Kleegrund (FB 7); Sporthalle, Planetenring  15, 30823 Garbsen
END:VEVENT
BEGIN:VEVENT
DTSTAMP:20260422T174151
DTSTART;TZID=Europe/Berlin:20260505T170000
DTEND;TZID=Europe/Berlin:20260505T180000
UID:261GF0012-20260505T170000@VHSZWECKVERBAND VHS HANNOVER LAND
SUMMARY:Gymnastik für Senioren (261GF0012) 
LOCATION:Garbsen;Kleegrund (FB 7); Sporthalle, Planetenring  15, 30823 Garbsen
END:VEVENT
BEGIN:VEVENT
DTSTAMP:20260422T174151
DTSTART;TZID=Europe/Berlin:20260512T170000
DTEND;TZID=Europe/Berlin:20260512T180000
UID:261GF0012-20260512T170000@VHSZWECKVERBAND VHS HANNOVER LAND
SUMMARY:Gymnastik für Senioren (261GF0012) 
LOCATION:Garbsen;Kleegrund (FB 7); Sporthalle, Planetenring  15, 30823 Garbsen
END:VEVENT
BEGIN:VEVENT
DTSTAMP:20260422T174151
DTSTART;TZID=Europe/Berlin:20260519T170000
DTEND;TZID=Europe/Berlin:20260519T180000
UID:261GF0012-20260519T170000@VHSZWECKVERBAND VHS HANNOVER LAND
SUMMARY:Gymnastik für Senioren (261GF0012) 
LOCATION:Garbsen;Kleegrund (FB 7); Sporthalle, Planetenring  15, 30823 Garbsen
END:VEVENT
BEGIN:VEVENT
DTSTAMP:20260422T174151
DTSTART;TZID=Europe/Berlin:20260526T170000
DTEND;TZID=Europe/Berlin:20260526T180000
UID:261GF0012-20260526T170000@VHSZWECKVERBAND VHS HANNOVER LAND
DESCRIPTION:Ersatztermin zum  21.04.2026
SUMMARY:Gymnastik für Senioren (261GF0012) 
LOCATION:Garbsen;Kleegrund (FB 7); Sporthalle, Planetenring  15, 30823 Garbsen
END:VEVENT
END:VCALENDAR