BEGIN:VCALENDAR
VERSION:2.0
PRODID:http://www.kufer.de/kuferweb / DE
METHOD:PUBLISH
CALSCALE:GREGORIAN
X-WR-TIMEZONE:Europe/Berlin
BEGIN:VTIMEZONE
TZID:Europe/Berlin
X-LIC-LOCATION:Europe/Berlin
BEGIN:DAYLIGHT
TZOFFSETFROM:+0100
TZOFFSETTO:+0200
TZNAME:CEST
DTSTART;TZID=Europe/Berlin:19700329T020000
RRULE:FREQ=YEARLY;INTERVAL=1;BYDAY=-1SU;BYMONTH=3
END:DAYLIGHT
BEGIN:STANDARD
TZOFFSETFROM:+0200
TZOFFSETTO:+0100
TZNAME:CET
DTSTART;TZID=Europe/Berlin:19701025T030000
RRULE:FREQ=YEARLY;INTERVAL=1;BYDAY=-1SU;BYMONTH=10
END:STANDARD
END:VTIMEZONE
BEGIN:VEVENT
DTSTAMP:20260422T204552
DTSTART;TZID=Europe/Berlin:20260416T191500
DTEND;TZID=Europe/Berlin:20260416T201500
UID:261GF0614-20260416T191500@VHSZWECKVERBAND VHS HANNOVER LAND
SUMMARY:Tanzen mit lateinamerikanischen Rhythmen (261GF0614) 
LOCATION:Wedemark-Hellendorf; Grundschule Am Steinkreis; Sporthalle, Hellendorfer Str. 20, 30900 Wedemark
END:VEVENT
BEGIN:VEVENT
DTSTAMP:20260422T204552
DTSTART;TZID=Europe/Berlin:20260423T191500
DTEND;TZID=Europe/Berlin:20260423T201500
UID:261GF0614-20260423T191500@VHSZWECKVERBAND VHS HANNOVER LAND
SUMMARY:Tanzen mit lateinamerikanischen Rhythmen (261GF0614) 
LOCATION:Wedemark-Hellendorf; Grundschule Am Steinkreis; Sporthalle, Hellendorfer Str. 20, 30900 Wedemark
END:VEVENT
BEGIN:VEVENT
DTSTAMP:20260422T204552
DTSTART;TZID=Europe/Berlin:20260430T191500
DTEND;TZID=Europe/Berlin:20260430T201500
UID:261GF0614-20260430T191500@VHSZWECKVERBAND VHS HANNOVER LAND
SUMMARY:Tanzen mit lateinamerikanischen Rhythmen (261GF0614) 
LOCATION:Wedemark-Hellendorf; Grundschule Am Steinkreis; Sporthalle, Hellendorfer Str. 20, 30900 Wedemark
END:VEVENT
BEGIN:VEVENT
DTSTAMP:20260422T204552
DTSTART;TZID=Europe/Berlin:20260507T191500
DTEND;TZID=Europe/Berlin:20260507T201500
UID:261GF0614-20260507T191500@VHSZWECKVERBAND VHS HANNOVER LAND
SUMMARY:Tanzen mit lateinamerikanischen Rhythmen (261GF0614) 
LOCATION:Wedemark-Hellendorf; Grundschule Am Steinkreis; Sporthalle, Hellendorfer Str. 20, 30900 Wedemark
END:VEVENT
BEGIN:VEVENT
DTSTAMP:20260422T204552
DTSTART;TZID=Europe/Berlin:20260521T191500
DTEND;TZID=Europe/Berlin:20260521T201500
UID:261GF0614-20260521T191500@VHSZWECKVERBAND VHS HANNOVER LAND
SUMMARY:Tanzen mit lateinamerikanischen Rhythmen (261GF0614) 
LOCATION:Wedemark-Hellendorf; Grundschule Am Steinkreis; Sporthalle, Hellendorfer Str. 20, 30900 Wedemark
END:VEVENT
BEGIN:VEVENT
DTSTAMP:20260422T204552
DTSTART;TZID=Europe/Berlin:20260528T191500
DTEND;TZID=Europe/Berlin:20260528T201500
UID:261GF0614-20260528T191500@VHSZWECKVERBAND VHS HANNOVER LAND
SUMMARY:Tanzen mit lateinamerikanischen Rhythmen (261GF0614) 
LOCATION:Wedemark-Hellendorf; Grundschule Am Steinkreis; Sporthalle, Hellendorfer Str. 20, 30900 Wedemark
END:VEVENT
BEGIN:VEVENT
DTSTAMP:20260422T204552
DTSTART;TZID=Europe/Berlin:20260604T191500
DTEND;TZID=Europe/Berlin:20260604T201500
UID:261GF0614-20260604T191500@VHSZWECKVERBAND VHS HANNOVER LAND
SUMMARY:Tanzen mit lateinamerikanischen Rhythmen (261GF0614) 
LOCATION:Wedemark-Hellendorf; Grundschule Am Steinkreis; Sporthalle, Hellendorfer Str. 20, 30900 Wedemark
END:VEVENT
BEGIN:VEVENT
DTSTAMP:20260422T204552
DTSTART;TZID=Europe/Berlin:20260611T191500
DTEND;TZID=Europe/Berlin:20260611T201500
UID:261GF0614-20260611T191500@VHSZWECKVERBAND VHS HANNOVER LAND
SUMMARY:Tanzen mit lateinamerikanischen Rhythmen (261GF0614) 
LOCATION:Wedemark-Hellendorf; Grundschule Am Steinkreis; Sporthalle, Hellendorfer Str. 20, 30900 Wedemark
END:VEVENT
BEGIN:VEVENT
DTSTAMP:20260422T204552
DTSTART;TZID=Europe/Berlin:20260618T191500
DTEND;TZID=Europe/Berlin:20260618T201500
UID:261GF0614-20260618T191500@VHSZWECKVERBAND VHS HANNOVER LAND
SUMMARY:Tanzen mit lateinamerikanischen Rhythmen (261GF0614) 
LOCATION:Wedemark-Hellendorf; Grundschule Am Steinkreis; Sporthalle, Hellendorfer Str. 20, 30900 Wedemark
END:VEVENT
BEGIN:VEVENT
DTSTAMP:20260422T204552
DTSTART;TZID=Europe/Berlin:20260625T191500
DTEND;TZID=Europe/Berlin:20260625T201500
UID:261GF0614-20260625T191500@VHSZWECKVERBAND VHS HANNOVER LAND
SUMMARY:Tanzen mit lateinamerikanischen Rhythmen (261GF0614) 
LOCATION:Wedemark-Hellendorf; Grundschule Am Steinkreis; Sporthalle, Hellendorfer Str. 20, 30900 Wedemark
END:VEVENT
END:VCALENDAR