BEGIN:VCALENDAR
VERSION:2.0
PRODID:http://www.kufer.de/kuferweb / DE
METHOD:PUBLISH
CALSCALE:GREGORIAN
X-WR-TIMEZONE:Europe/Berlin
BEGIN:VTIMEZONE
TZID:Europe/Berlin
X-LIC-LOCATION:Europe/Berlin
BEGIN:DAYLIGHT
TZOFFSETFROM:+0100
TZOFFSETTO:+0200
TZNAME:CEST
DTSTART;TZID=Europe/Berlin:19700329T020000
RRULE:FREQ=YEARLY;INTERVAL=1;BYDAY=-1SU;BYMONTH=3
END:DAYLIGHT
BEGIN:STANDARD
TZOFFSETFROM:+0200
TZOFFSETTO:+0100
TZNAME:CET
DTSTART;TZID=Europe/Berlin:19701025T030000
RRULE:FREQ=YEARLY;INTERVAL=1;BYDAY=-1SU;BYMONTH=10
END:STANDARD
END:VTIMEZONE
BEGIN:VEVENT
DTSTAMP:20260422T174214
DTSTART;TZID=Europe/Berlin:20260414T181000
DTEND;TZID=Europe/Berlin:20260414T191000
UID:261GF0714-20260414T181000@VHSZWECKVERBAND VHS HANNOVER LAND
SUMMARY:Tanzen mit lateinamerikanischen Rhythmen (261GF0714) 
LOCATION:Wedemark-Hellendorf; Grundschule Am Steinkreis; Sporthalle, Hellendorfer Str. 20, 30900 Wedemark
END:VEVENT
BEGIN:VEVENT
DTSTAMP:20260422T174214
DTSTART;TZID=Europe/Berlin:20260421T181000
DTEND;TZID=Europe/Berlin:20260421T191000
UID:261GF0714-20260421T181000@VHSZWECKVERBAND VHS HANNOVER LAND
SUMMARY:Tanzen mit lateinamerikanischen Rhythmen (261GF0714) 
LOCATION:Wedemark-Hellendorf; Grundschule Am Steinkreis; Sporthalle, Hellendorfer Str. 20, 30900 Wedemark
END:VEVENT
BEGIN:VEVENT
DTSTAMP:20260422T174214
DTSTART;TZID=Europe/Berlin:20260428T181000
DTEND;TZID=Europe/Berlin:20260428T191000
UID:261GF0714-20260428T181000@VHSZWECKVERBAND VHS HANNOVER LAND
SUMMARY:Tanzen mit lateinamerikanischen Rhythmen (261GF0714) 
LOCATION:Wedemark-Hellendorf; Grundschule Am Steinkreis; Sporthalle, Hellendorfer Str. 20, 30900 Wedemark
END:VEVENT
BEGIN:VEVENT
DTSTAMP:20260422T174214
DTSTART;TZID=Europe/Berlin:20260505T181000
DTEND;TZID=Europe/Berlin:20260505T191000
UID:261GF0714-20260505T181000@VHSZWECKVERBAND VHS HANNOVER LAND
SUMMARY:Tanzen mit lateinamerikanischen Rhythmen (261GF0714) 
LOCATION:Wedemark-Hellendorf; Grundschule Am Steinkreis; Sporthalle, Hellendorfer Str. 20, 30900 Wedemark
END:VEVENT
BEGIN:VEVENT
DTSTAMP:20260422T174214
DTSTART;TZID=Europe/Berlin:20260512T181000
DTEND;TZID=Europe/Berlin:20260512T191000
UID:261GF0714-20260512T181000@VHSZWECKVERBAND VHS HANNOVER LAND
SUMMARY:Tanzen mit lateinamerikanischen Rhythmen (261GF0714) 
LOCATION:Wedemark-Hellendorf; Grundschule Am Steinkreis; Sporthalle, Hellendorfer Str. 20, 30900 Wedemark
END:VEVENT
BEGIN:VEVENT
DTSTAMP:20260422T174214
DTSTART;TZID=Europe/Berlin:20260519T181000
DTEND;TZID=Europe/Berlin:20260519T191000
UID:261GF0714-20260519T181000@VHSZWECKVERBAND VHS HANNOVER LAND
SUMMARY:Tanzen mit lateinamerikanischen Rhythmen (261GF0714) 
LOCATION:Wedemark-Hellendorf; Grundschule Am Steinkreis; Sporthalle, Hellendorfer Str. 20, 30900 Wedemark
END:VEVENT
BEGIN:VEVENT
DTSTAMP:20260422T174214
DTSTART;TZID=Europe/Berlin:20260602T181000
DTEND;TZID=Europe/Berlin:20260602T191000
UID:261GF0714-20260602T181000@VHSZWECKVERBAND VHS HANNOVER LAND
SUMMARY:Tanzen mit lateinamerikanischen Rhythmen (261GF0714) 
LOCATION:Wedemark-Hellendorf; Grundschule Am Steinkreis; Sporthalle, Hellendorfer Str. 20, 30900 Wedemark
END:VEVENT
BEGIN:VEVENT
DTSTAMP:20260422T174214
DTSTART;TZID=Europe/Berlin:20260609T181000
DTEND;TZID=Europe/Berlin:20260609T191000
UID:261GF0714-20260609T181000@VHSZWECKVERBAND VHS HANNOVER LAND
SUMMARY:Tanzen mit lateinamerikanischen Rhythmen (261GF0714) 
LOCATION:Wedemark-Hellendorf; Grundschule Am Steinkreis; Sporthalle, Hellendorfer Str. 20, 30900 Wedemark
END:VEVENT
BEGIN:VEVENT
DTSTAMP:20260422T174214
DTSTART;TZID=Europe/Berlin:20260616T181000
DTEND;TZID=Europe/Berlin:20260616T191000
UID:261GF0714-20260616T181000@VHSZWECKVERBAND VHS HANNOVER LAND
SUMMARY:Tanzen mit lateinamerikanischen Rhythmen (261GF0714) 
LOCATION:Wedemark-Hellendorf; Grundschule Am Steinkreis; Sporthalle, Hellendorfer Str. 20, 30900 Wedemark
END:VEVENT
BEGIN:VEVENT
DTSTAMP:20260422T174214
DTSTART;TZID=Europe/Berlin:20260623T181000
DTEND;TZID=Europe/Berlin:20260623T191000
UID:261GF0714-20260623T181000@VHSZWECKVERBAND VHS HANNOVER LAND
SUMMARY:Tanzen mit lateinamerikanischen Rhythmen (261GF0714) 
LOCATION:Wedemark-Hellendorf; Grundschule Am Steinkreis; Sporthalle, Hellendorfer Str. 20, 30900 Wedemark
END:VEVENT
END:VCALENDAR