BEGIN:VCALENDAR
VERSION:2.0
PRODID:http://www.kufer.de/kuferweb / DE
METHOD:PUBLISH
CALSCALE:GREGORIAN
X-WR-TIMEZONE:Europe/Berlin
BEGIN:VTIMEZONE
TZID:Europe/Berlin
X-LIC-LOCATION:Europe/Berlin
BEGIN:DAYLIGHT
TZOFFSETFROM:+0100
TZOFFSETTO:+0200
TZNAME:CEST
DTSTART;TZID=Europe/Berlin:19700329T020000
RRULE:FREQ=YEARLY;INTERVAL=1;BYDAY=-1SU;BYMONTH=3
END:DAYLIGHT
BEGIN:STANDARD
TZOFFSETFROM:+0200
TZOFFSETTO:+0100
TZNAME:CET
DTSTART;TZID=Europe/Berlin:19701025T030000
RRULE:FREQ=YEARLY;INTERVAL=1;BYDAY=-1SU;BYMONTH=10
END:STANDARD
END:VTIMEZONE
BEGIN:VEVENT
DTSTAMP:20260422T174217
DTSTART;TZID=Europe/Berlin:20260410T090000
DTEND;TZID=Europe/Berlin:20260410T100000
UID:261GR0232-20260410T090000@VHSZWECKVERBAND VHS HANNOVER LAND
SUMMARY:Präventives Rückentraining und Nackenschule (261GR0232) 
LOCATION:Garbsen; Geschäftsstelle vhs (am Planetencenter); Entspannung, Planetenring 35, 30823 Garbsen
END:VEVENT
BEGIN:VEVENT
DTSTAMP:20260422T174217
DTSTART;TZID=Europe/Berlin:20260417T090000
DTEND;TZID=Europe/Berlin:20260417T100000
UID:261GR0232-20260417T090000@VHSZWECKVERBAND VHS HANNOVER LAND
SUMMARY:Präventives Rückentraining und Nackenschule (261GR0232) 
LOCATION:Garbsen; Geschäftsstelle vhs (am Planetencenter); Entspannung, Planetenring 35, 30823 Garbsen
END:VEVENT
BEGIN:VEVENT
DTSTAMP:20260422T174217
DTSTART;TZID=Europe/Berlin:20260424T090000
DTEND;TZID=Europe/Berlin:20260424T100000
UID:261GR0232-20260424T090000@VHSZWECKVERBAND VHS HANNOVER LAND
SUMMARY:Präventives Rückentraining und Nackenschule (261GR0232) 
LOCATION:Garbsen; Geschäftsstelle vhs (am Planetencenter); Entspannung, Planetenring 35, 30823 Garbsen
END:VEVENT
BEGIN:VEVENT
DTSTAMP:20260422T174217
DTSTART;TZID=Europe/Berlin:20260508T090000
DTEND;TZID=Europe/Berlin:20260508T100000
UID:261GR0232-20260508T090000@VHSZWECKVERBAND VHS HANNOVER LAND
SUMMARY:Präventives Rückentraining und Nackenschule (261GR0232) 
LOCATION:Garbsen; Geschäftsstelle vhs (am Planetencenter); Entspannung, Planetenring 35, 30823 Garbsen
END:VEVENT
BEGIN:VEVENT
DTSTAMP:20260422T174217
DTSTART;TZID=Europe/Berlin:20260522T090000
DTEND;TZID=Europe/Berlin:20260522T100000
UID:261GR0232-20260522T090000@VHSZWECKVERBAND VHS HANNOVER LAND
SUMMARY:Präventives Rückentraining und Nackenschule (261GR0232) 
LOCATION:Garbsen; Geschäftsstelle vhs (am Planetencenter); Entspannung, Planetenring 35, 30823 Garbsen
END:VEVENT
BEGIN:VEVENT
DTSTAMP:20260422T174217
DTSTART;TZID=Europe/Berlin:20260529T090000
DTEND;TZID=Europe/Berlin:20260529T100000
UID:261GR0232-20260529T090000@VHSZWECKVERBAND VHS HANNOVER LAND
SUMMARY:Präventives Rückentraining und Nackenschule (261GR0232) 
LOCATION:Garbsen; Geschäftsstelle vhs (am Planetencenter); Entspannung, Planetenring 35, 30823 Garbsen
END:VEVENT
BEGIN:VEVENT
DTSTAMP:20260422T174217
DTSTART;TZID=Europe/Berlin:20260605T090000
DTEND;TZID=Europe/Berlin:20260605T100000
UID:261GR0232-20260605T090000@VHSZWECKVERBAND VHS HANNOVER LAND
SUMMARY:Präventives Rückentraining und Nackenschule (261GR0232) 
LOCATION:Garbsen; Geschäftsstelle vhs (am Planetencenter); Entspannung, Planetenring 35, 30823 Garbsen
END:VEVENT
BEGIN:VEVENT
DTSTAMP:20260422T174217
DTSTART;TZID=Europe/Berlin:20260612T090000
DTEND;TZID=Europe/Berlin:20260612T100000
UID:261GR0232-20260612T090000@VHSZWECKVERBAND VHS HANNOVER LAND
SUMMARY:Präventives Rückentraining und Nackenschule (261GR0232) 
LOCATION:Garbsen; Geschäftsstelle vhs (am Planetencenter); Entspannung, Planetenring 35, 30823 Garbsen
END:VEVENT
END:VCALENDAR