BEGIN:VCALENDAR
VERSION:2.0
PRODID:http://www.kufer.de/kuferweb / DE
METHOD:PUBLISH
CALSCALE:GREGORIAN
X-WR-TIMEZONE:Europe/Berlin
BEGIN:VTIMEZONE
TZID:Europe/Berlin
X-LIC-LOCATION:Europe/Berlin
BEGIN:DAYLIGHT
TZOFFSETFROM:+0100
TZOFFSETTO:+0200
TZNAME:CEST
DTSTART;TZID=Europe/Berlin:19700329T020000
RRULE:FREQ=YEARLY;INTERVAL=1;BYDAY=-1SU;BYMONTH=3
END:DAYLIGHT
BEGIN:STANDARD
TZOFFSETFROM:+0200
TZOFFSETTO:+0100
TZNAME:CET
DTSTART;TZID=Europe/Berlin:19701025T030000
RRULE:FREQ=YEARLY;INTERVAL=1;BYDAY=-1SU;BYMONTH=10
END:STANDARD
END:VTIMEZONE
BEGIN:VEVENT
DTSTAMP:20260422T124436
DTSTART;TZID=Europe/Berlin:20260303T090000
DTEND;TZID=Europe/Berlin:20260303T103000
UID:261GY1104-20260303T090000@VHSZWECKVERBAND VHS HANNOVER LAND
SUMMARY:Yoga für den Rücken (261GY1104) 
LOCATION:Wedemark-Elze; VHS; Gymnastikraum, Poststraße 8, 30900 Wedemark
END:VEVENT
BEGIN:VEVENT
DTSTAMP:20260422T124436
DTSTART;TZID=Europe/Berlin:20260310T090000
DTEND;TZID=Europe/Berlin:20260310T103000
UID:261GY1104-20260310T090000@VHSZWECKVERBAND VHS HANNOVER LAND
SUMMARY:Yoga für den Rücken (261GY1104) 
LOCATION:Wedemark-Elze; VHS; Gymnastikraum, Poststraße 8, 30900 Wedemark
END:VEVENT
BEGIN:VEVENT
DTSTAMP:20260422T124436
DTSTART;TZID=Europe/Berlin:20260317T090000
DTEND;TZID=Europe/Berlin:20260317T103000
UID:261GY1104-20260317T090000@VHSZWECKVERBAND VHS HANNOVER LAND
SUMMARY:Yoga für den Rücken (261GY1104) 
LOCATION:Wedemark-Elze; VHS; Gymnastikraum, Poststraße 8, 30900 Wedemark
END:VEVENT
BEGIN:VEVENT
DTSTAMP:20260422T124436
DTSTART;TZID=Europe/Berlin:20260324T090000
DTEND;TZID=Europe/Berlin:20260324T103000
UID:261GY1104-20260324T090000@VHSZWECKVERBAND VHS HANNOVER LAND
SUMMARY:Yoga für den Rücken (261GY1104) 
LOCATION:Wedemark-Elze; VHS; Gymnastikraum, Poststraße 8, 30900 Wedemark
END:VEVENT
BEGIN:VEVENT
DTSTAMP:20260422T124436
DTSTART;TZID=Europe/Berlin:20260331T090000
DTEND;TZID=Europe/Berlin:20260331T103000
UID:261GY1104-20260331T090000@VHSZWECKVERBAND VHS HANNOVER LAND
SUMMARY:Yoga für den Rücken (261GY1104) 
LOCATION:Wedemark-Elze; VHS; Gymnastikraum, Poststraße 8, 30900 Wedemark
END:VEVENT
BEGIN:VEVENT
DTSTAMP:20260422T124436
DTSTART;TZID=Europe/Berlin:20260414T090000
DTEND;TZID=Europe/Berlin:20260414T103000
UID:261GY1104-20260414T090000@VHSZWECKVERBAND VHS HANNOVER LAND
SUMMARY:Yoga für den Rücken (261GY1104) 
LOCATION:Wedemark-Elze; VHS; Gymnastikraum, Poststraße 8, 30900 Wedemark
END:VEVENT
BEGIN:VEVENT
DTSTAMP:20260422T124436
DTSTART;TZID=Europe/Berlin:20260421T090000
DTEND;TZID=Europe/Berlin:20260421T103000
UID:261GY1104-20260421T090000@VHSZWECKVERBAND VHS HANNOVER LAND
SUMMARY:Yoga für den Rücken (261GY1104) 
LOCATION:Wedemark-Elze; VHS; Gymnastikraum, Poststraße 8, 30900 Wedemark
END:VEVENT
BEGIN:VEVENT
DTSTAMP:20260422T124436
DTSTART;TZID=Europe/Berlin:20260428T090000
DTEND;TZID=Europe/Berlin:20260428T103000
UID:261GY1104-20260428T090000@VHSZWECKVERBAND VHS HANNOVER LAND
SUMMARY:Yoga für den Rücken (261GY1104) 
LOCATION:Wedemark-Elze; VHS; Gymnastikraum, Poststraße 8, 30900 Wedemark
END:VEVENT
END:VCALENDAR