BEGIN:VCALENDAR
VERSION:2.0
PRODID:http://www.kufer.de/kuferweb / DE
METHOD:PUBLISH
CALSCALE:GREGORIAN
X-WR-TIMEZONE:Europe/Berlin
BEGIN:VTIMEZONE
TZID:Europe/Berlin
X-LIC-LOCATION:Europe/Berlin
BEGIN:DAYLIGHT
TZOFFSETFROM:+0100
TZOFFSETTO:+0200
TZNAME:CEST
DTSTART;TZID=Europe/Berlin:19700329T020000
RRULE:FREQ=YEARLY;INTERVAL=1;BYDAY=-1SU;BYMONTH=3
END:DAYLIGHT
BEGIN:STANDARD
TZOFFSETFROM:+0200
TZOFFSETTO:+0100
TZNAME:CET
DTSTART;TZID=Europe/Berlin:19701025T030000
RRULE:FREQ=YEARLY;INTERVAL=1;BYDAY=-1SU;BYMONTH=10
END:STANDARD
END:VTIMEZONE
BEGIN:VEVENT
DTSTAMP:20260422T130228
DTSTART;TZID=Europe/Berlin:20260302T121500
DTEND;TZID=Europe/Berlin:20260302T123000
UID:261GY1260-20260302T121500@VHSZWECKVERBAND VHS HANNOVER LAND
SUMMARY:Aktive Mittagspause- Onlinekurs (261GY1260) 
LOCATION:Online- Kurs, , 
END:VEVENT
BEGIN:VEVENT
DTSTAMP:20260422T130228
DTSTART;TZID=Europe/Berlin:20260309T121500
DTEND;TZID=Europe/Berlin:20260309T123000
UID:261GY1260-20260309T121500@VHSZWECKVERBAND VHS HANNOVER LAND
SUMMARY:Aktive Mittagspause- Onlinekurs (261GY1260) 
LOCATION:Online- Kurs, , 
END:VEVENT
BEGIN:VEVENT
DTSTAMP:20260422T130228
DTSTART;TZID=Europe/Berlin:20260316T121500
DTEND;TZID=Europe/Berlin:20260316T123000
UID:261GY1260-20260316T121500@VHSZWECKVERBAND VHS HANNOVER LAND
SUMMARY:Aktive Mittagspause- Onlinekurs (261GY1260) 
LOCATION:Online- Kurs, , 
END:VEVENT
BEGIN:VEVENT
DTSTAMP:20260422T130228
DTSTART;TZID=Europe/Berlin:20260330T121500
DTEND;TZID=Europe/Berlin:20260330T123000
UID:261GY1260-20260330T121500@VHSZWECKVERBAND VHS HANNOVER LAND
SUMMARY:Aktive Mittagspause- Onlinekurs (261GY1260) 
LOCATION:Online- Kurs, , 
END:VEVENT
BEGIN:VEVENT
DTSTAMP:20260422T130228
DTSTART;TZID=Europe/Berlin:20260413T121500
DTEND;TZID=Europe/Berlin:20260413T123000
UID:261GY1260-20260413T121500@VHSZWECKVERBAND VHS HANNOVER LAND
SUMMARY:Aktive Mittagspause- Onlinekurs (261GY1260) 
LOCATION:Online- Kurs, , 
END:VEVENT
BEGIN:VEVENT
DTSTAMP:20260422T130228
DTSTART;TZID=Europe/Berlin:20260420T121500
DTEND;TZID=Europe/Berlin:20260420T123000
UID:261GY1260-20260420T121500@VHSZWECKVERBAND VHS HANNOVER LAND
SUMMARY:Aktive Mittagspause- Onlinekurs (261GY1260) 
LOCATION:Online- Kurs, , 
END:VEVENT
BEGIN:VEVENT
DTSTAMP:20260422T130228
DTSTART;TZID=Europe/Berlin:20260427T121500
DTEND;TZID=Europe/Berlin:20260427T123000
UID:261GY1260-20260427T121500@VHSZWECKVERBAND VHS HANNOVER LAND
SUMMARY:Aktive Mittagspause- Onlinekurs (261GY1260) 
LOCATION:Online- Kurs, , 
END:VEVENT
BEGIN:VEVENT
DTSTAMP:20260422T130228
DTSTART;TZID=Europe/Berlin:20260504T121500
DTEND;TZID=Europe/Berlin:20260504T123000
UID:261GY1260-20260504T121500@VHSZWECKVERBAND VHS HANNOVER LAND
SUMMARY:Aktive Mittagspause- Onlinekurs (261GY1260) 
LOCATION:Online- Kurs, , 
END:VEVENT
BEGIN:VEVENT
DTSTAMP:20260422T130228
DTSTART;TZID=Europe/Berlin:20260511T121500
DTEND;TZID=Europe/Berlin:20260511T123000
UID:261GY1260-20260511T121500@VHSZWECKVERBAND VHS HANNOVER LAND
SUMMARY:Aktive Mittagspause- Onlinekurs (261GY1260) 
LOCATION:Online- Kurs, , 
END:VEVENT
BEGIN:VEVENT
DTSTAMP:20260422T130228
DTSTART;TZID=Europe/Berlin:20260518T121500
DTEND;TZID=Europe/Berlin:20260518T123000
UID:261GY1260-20260518T121500@VHSZWECKVERBAND VHS HANNOVER LAND
SUMMARY:Aktive Mittagspause- Onlinekurs (261GY1260) 
LOCATION:Online- Kurs, , 
END:VEVENT
BEGIN:VEVENT
DTSTAMP:20260422T130228
DTSTART;TZID=Europe/Berlin:20260601T121500
DTEND;TZID=Europe/Berlin:20260601T123000
UID:261GY1260-20260601T121500@VHSZWECKVERBAND VHS HANNOVER LAND
SUMMARY:Aktive Mittagspause- Onlinekurs (261GY1260) 
LOCATION:Online- Kurs, , 
END:VEVENT
BEGIN:VEVENT
DTSTAMP:20260422T130228
DTSTART;TZID=Europe/Berlin:20260608T121500
DTEND;TZID=Europe/Berlin:20260608T123000
UID:261GY1260-20260608T121500@VHSZWECKVERBAND VHS HANNOVER LAND
SUMMARY:Aktive Mittagspause- Onlinekurs (261GY1260) 
LOCATION:Online- Kurs, , 
END:VEVENT
END:VCALENDAR