BEGIN:VCALENDAR
VERSION:2.0
PRODID:http://www.kufer.de/kuferweb / DE
METHOD:PUBLISH
CALSCALE:GREGORIAN
X-WR-TIMEZONE:Europe/Berlin
BEGIN:VTIMEZONE
TZID:Europe/Berlin
X-LIC-LOCATION:Europe/Berlin
BEGIN:DAYLIGHT
TZOFFSETFROM:+0100
TZOFFSETTO:+0200
TZNAME:CEST
DTSTART;TZID=Europe/Berlin:19700329T020000
RRULE:FREQ=YEARLY;INTERVAL=1;BYDAY=-1SU;BYMONTH=3
END:DAYLIGHT
BEGIN:STANDARD
TZOFFSETFROM:+0200
TZOFFSETTO:+0100
TZNAME:CET
DTSTART;TZID=Europe/Berlin:19701025T030000
RRULE:FREQ=YEARLY;INTERVAL=1;BYDAY=-1SU;BYMONTH=10
END:STANDARD
END:VTIMEZONE
BEGIN:VEVENT
DTSTAMP:20260422T171618
DTSTART;TZID=Europe/Berlin:20260622T084500
DTEND;TZID=Europe/Berlin:20260622T120000
UID:261IK9083-20260622T084500@VHSZWECKVERBAND VHS HANNOVER LAND
SUMMARY:Deutsch als Fremdsprache - Integrationskurs BAMF  61367-NI-390-2025 Integrationskurs mit Alphabetisierung Spezialkurs 2 (261IK9083) 
LOCATION:Neustadt; VZ Leinepark; Raum 08a, Suttorfer Str. 8, 31535 Neustadt a. Rbge.
END:VEVENT
BEGIN:VEVENT
DTSTAMP:20260422T171618
DTSTART;TZID=Europe/Berlin:20260623T084500
DTEND;TZID=Europe/Berlin:20260623T120000
UID:261IK9083-20260623T084500@VHSZWECKVERBAND VHS HANNOVER LAND
SUMMARY:Deutsch als Fremdsprache - Integrationskurs BAMF  61367-NI-390-2025 Integrationskurs mit Alphabetisierung Spezialkurs 2 (261IK9083) 
LOCATION:Neustadt; VZ Leinepark; Raum 08a, Suttorfer Str. 8, 31535 Neustadt a. Rbge.
END:VEVENT
BEGIN:VEVENT
DTSTAMP:20260422T171618
DTSTART;TZID=Europe/Berlin:20260625T084500
DTEND;TZID=Europe/Berlin:20260625T120000
UID:261IK9083-20260625T084500@VHSZWECKVERBAND VHS HANNOVER LAND
SUMMARY:Deutsch als Fremdsprache - Integrationskurs BAMF  61367-NI-390-2025 Integrationskurs mit Alphabetisierung Spezialkurs 2 (261IK9083) 
LOCATION:Neustadt; VZ Leinepark; Raum 08a, Suttorfer Str. 8, 31535 Neustadt a. Rbge.
END:VEVENT
BEGIN:VEVENT
DTSTAMP:20260422T171618
DTSTART;TZID=Europe/Berlin:20260626T084500
DTEND;TZID=Europe/Berlin:20260626T120000
UID:261IK9083-20260626T084500@VHSZWECKVERBAND VHS HANNOVER LAND
SUMMARY:Deutsch als Fremdsprache - Integrationskurs BAMF  61367-NI-390-2025 Integrationskurs mit Alphabetisierung Spezialkurs 2 (261IK9083) 
LOCATION:Neustadt; VZ Leinepark; Raum 08a, Suttorfer Str. 8, 31535 Neustadt a. Rbge.
END:VEVENT
BEGIN:VEVENT
DTSTAMP:20260422T171618
DTSTART;TZID=Europe/Berlin:20260629T084500
DTEND;TZID=Europe/Berlin:20260629T120000
UID:261IK9083-20260629T084500@VHSZWECKVERBAND VHS HANNOVER LAND
SUMMARY:Deutsch als Fremdsprache - Integrationskurs BAMF  61367-NI-390-2025 Integrationskurs mit Alphabetisierung Spezialkurs 2 (261IK9083) 
LOCATION:Neustadt; VZ Leinepark; Raum 08a, Suttorfer Str. 8, 31535 Neustadt a. Rbge.
END:VEVENT
BEGIN:VEVENT
DTSTAMP:20260422T171618
DTSTART;TZID=Europe/Berlin:20260630T084500
DTEND;TZID=Europe/Berlin:20260630T120000
UID:261IK9083-20260630T084500@VHSZWECKVERBAND VHS HANNOVER LAND
SUMMARY:Deutsch als Fremdsprache - Integrationskurs BAMF  61367-NI-390-2025 Integrationskurs mit Alphabetisierung Spezialkurs 2 (261IK9083) 
LOCATION:Neustadt; VZ Leinepark; Raum 08a, Suttorfer Str. 8, 31535 Neustadt a. Rbge.
END:VEVENT
BEGIN:VEVENT
DTSTAMP:20260422T171618
DTSTART;TZID=Europe/Berlin:20260813T084500
DTEND;TZID=Europe/Berlin:20260813T120000
UID:261IK9083-20260813T084500@VHSZWECKVERBAND VHS HANNOVER LAND
SUMMARY:Deutsch als Fremdsprache - Integrationskurs BAMF  61367-NI-390-2025 Integrationskurs mit Alphabetisierung Spezialkurs 2 (261IK9083) 
LOCATION:Neustadt; VZ Leinepark; Raum 08a, Suttorfer Str. 8, 31535 Neustadt a. Rbge.
END:VEVENT
BEGIN:VEVENT
DTSTAMP:20260422T171618
DTSTART;TZID=Europe/Berlin:20260814T084500
DTEND;TZID=Europe/Berlin:20260814T120000
UID:261IK9083-20260814T084500@VHSZWECKVERBAND VHS HANNOVER LAND
SUMMARY:Deutsch als Fremdsprache - Integrationskurs BAMF  61367-NI-390-2025 Integrationskurs mit Alphabetisierung Spezialkurs 2 (261IK9083) 
LOCATION:Neustadt; VZ Leinepark; Raum 08a, Suttorfer Str. 8, 31535 Neustadt a. Rbge.
END:VEVENT
BEGIN:VEVENT
DTSTAMP:20260422T171618
DTSTART;TZID=Europe/Berlin:20260817T084500
DTEND;TZID=Europe/Berlin:20260817T120000
UID:261IK9083-20260817T084500@VHSZWECKVERBAND VHS HANNOVER LAND
SUMMARY:Deutsch als Fremdsprache - Integrationskurs BAMF  61367-NI-390-2025 Integrationskurs mit Alphabetisierung Spezialkurs 2 (261IK9083) 
LOCATION:Neustadt; VZ Leinepark; Raum 08a, Suttorfer Str. 8, 31535 Neustadt a. Rbge.
END:VEVENT
BEGIN:VEVENT
DTSTAMP:20260422T171618
DTSTART;TZID=Europe/Berlin:20260818T084500
DTEND;TZID=Europe/Berlin:20260818T120000
UID:261IK9083-20260818T084500@VHSZWECKVERBAND VHS HANNOVER LAND
SUMMARY:Deutsch als Fremdsprache - Integrationskurs BAMF  61367-NI-390-2025 Integrationskurs mit Alphabetisierung Spezialkurs 2 (261IK9083) 
LOCATION:Neustadt; VZ Leinepark; Raum 08a, Suttorfer Str. 8, 31535 Neustadt a. Rbge.
END:VEVENT
BEGIN:VEVENT
DTSTAMP:20260422T171618
DTSTART;TZID=Europe/Berlin:20260820T084500
DTEND;TZID=Europe/Berlin:20260820T120000
UID:261IK9083-20260820T084500@VHSZWECKVERBAND VHS HANNOVER LAND
SUMMARY:Deutsch als Fremdsprache - Integrationskurs BAMF  61367-NI-390-2025 Integrationskurs mit Alphabetisierung Spezialkurs 2 (261IK9083) 
LOCATION:Neustadt; VZ Leinepark; Raum 08a, Suttorfer Str. 8, 31535 Neustadt a. Rbge.
END:VEVENT
BEGIN:VEVENT
DTSTAMP:20260422T171618
DTSTART;TZID=Europe/Berlin:20260821T084500
DTEND;TZID=Europe/Berlin:20260821T120000
UID:261IK9083-20260821T084500@VHSZWECKVERBAND VHS HANNOVER LAND
SUMMARY:Deutsch als Fremdsprache - Integrationskurs BAMF  61367-NI-390-2025 Integrationskurs mit Alphabetisierung Spezialkurs 2 (261IK9083) 
LOCATION:Neustadt; VZ Leinepark; Raum 08a, Suttorfer Str. 8, 31535 Neustadt a. Rbge.
END:VEVENT
BEGIN:VEVENT
DTSTAMP:20260422T171618
DTSTART;TZID=Europe/Berlin:20260824T084500
DTEND;TZID=Europe/Berlin:20260824T120000
UID:261IK9083-20260824T084500@VHSZWECKVERBAND VHS HANNOVER LAND
SUMMARY:Deutsch als Fremdsprache - Integrationskurs BAMF  61367-NI-390-2025 Integrationskurs mit Alphabetisierung Spezialkurs 2 (261IK9083) 
LOCATION:Neustadt; VZ Leinepark; Raum 08a, Suttorfer Str. 8, 31535 Neustadt a. Rbge.
END:VEVENT
BEGIN:VEVENT
DTSTAMP:20260422T171618
DTSTART;TZID=Europe/Berlin:20260825T084500
DTEND;TZID=Europe/Berlin:20260825T120000
UID:261IK9083-20260825T084500@VHSZWECKVERBAND VHS HANNOVER LAND
SUMMARY:Deutsch als Fremdsprache - Integrationskurs BAMF  61367-NI-390-2025 Integrationskurs mit Alphabetisierung Spezialkurs 2 (261IK9083) 
LOCATION:Neustadt; VZ Leinepark; Raum 08a, Suttorfer Str. 8, 31535 Neustadt a. Rbge.
END:VEVENT
BEGIN:VEVENT
DTSTAMP:20260422T171618
DTSTART;TZID=Europe/Berlin:20260827T084500
DTEND;TZID=Europe/Berlin:20260827T120000
UID:261IK9083-20260827T084500@VHSZWECKVERBAND VHS HANNOVER LAND
SUMMARY:Deutsch als Fremdsprache - Integrationskurs BAMF  61367-NI-390-2025 Integrationskurs mit Alphabetisierung Spezialkurs 2 (261IK9083) 
LOCATION:Neustadt; VZ Leinepark; Raum 08a, Suttorfer Str. 8, 31535 Neustadt a. Rbge.
END:VEVENT
BEGIN:VEVENT
DTSTAMP:20260422T171618
DTSTART;TZID=Europe/Berlin:20260828T084500
DTEND;TZID=Europe/Berlin:20260828T120000
UID:261IK9083-20260828T084500@VHSZWECKVERBAND VHS HANNOVER LAND
SUMMARY:Deutsch als Fremdsprache - Integrationskurs BAMF  61367-NI-390-2025 Integrationskurs mit Alphabetisierung Spezialkurs 2 (261IK9083) 
LOCATION:Neustadt; VZ Leinepark; Raum 08a, Suttorfer Str. 8, 31535 Neustadt a. Rbge.
END:VEVENT
BEGIN:VEVENT
DTSTAMP:20260422T171618
DTSTART;TZID=Europe/Berlin:20260831T084500
DTEND;TZID=Europe/Berlin:20260831T120000
UID:261IK9083-20260831T084500@VHSZWECKVERBAND VHS HANNOVER LAND
SUMMARY:Deutsch als Fremdsprache - Integrationskurs BAMF  61367-NI-390-2025 Integrationskurs mit Alphabetisierung Spezialkurs 2 (261IK9083) 
LOCATION:Neustadt; VZ Leinepark; Raum 08a, Suttorfer Str. 8, 31535 Neustadt a. Rbge.
END:VEVENT
BEGIN:VEVENT
DTSTAMP:20260422T171618
DTSTART;TZID=Europe/Berlin:20260901T084500
DTEND;TZID=Europe/Berlin:20260901T120000
UID:261IK9083-20260901T084500@VHSZWECKVERBAND VHS HANNOVER LAND
SUMMARY:Deutsch als Fremdsprache - Integrationskurs BAMF  61367-NI-390-2025 Integrationskurs mit Alphabetisierung Spezialkurs 2 (261IK9083) 
LOCATION:Neustadt; VZ Leinepark; Raum 08a, Suttorfer Str. 8, 31535 Neustadt a. Rbge.
END:VEVENT
BEGIN:VEVENT
DTSTAMP:20260422T171618
DTSTART;TZID=Europe/Berlin:20260903T084500
DTEND;TZID=Europe/Berlin:20260903T120000
UID:261IK9083-20260903T084500@VHSZWECKVERBAND VHS HANNOVER LAND
SUMMARY:Deutsch als Fremdsprache - Integrationskurs BAMF  61367-NI-390-2025 Integrationskurs mit Alphabetisierung Spezialkurs 2 (261IK9083) 
LOCATION:Neustadt; VZ Leinepark; Raum 08a, Suttorfer Str. 8, 31535 Neustadt a. Rbge.
END:VEVENT
BEGIN:VEVENT
DTSTAMP:20260422T171618
DTSTART;TZID=Europe/Berlin:20260904T084500
DTEND;TZID=Europe/Berlin:20260904T120000
UID:261IK9083-20260904T084500@VHSZWECKVERBAND VHS HANNOVER LAND
SUMMARY:Deutsch als Fremdsprache - Integrationskurs BAMF  61367-NI-390-2025 Integrationskurs mit Alphabetisierung Spezialkurs 2 (261IK9083) 
LOCATION:Neustadt; VZ Leinepark; Raum 08a, Suttorfer Str. 8, 31535 Neustadt a. Rbge.
END:VEVENT
BEGIN:VEVENT
DTSTAMP:20260422T171618
DTSTART;TZID=Europe/Berlin:20260907T084500
DTEND;TZID=Europe/Berlin:20260907T120000
UID:261IK9083-20260907T084500@VHSZWECKVERBAND VHS HANNOVER LAND
SUMMARY:Deutsch als Fremdsprache - Integrationskurs BAMF  61367-NI-390-2025 Integrationskurs mit Alphabetisierung Spezialkurs 2 (261IK9083) 
LOCATION:Neustadt; VZ Leinepark; Raum 08a, Suttorfer Str. 8, 31535 Neustadt a. Rbge.
END:VEVENT
BEGIN:VEVENT
DTSTAMP:20260422T171618
DTSTART;TZID=Europe/Berlin:20260908T084500
DTEND;TZID=Europe/Berlin:20260908T120000
UID:261IK9083-20260908T084500@VHSZWECKVERBAND VHS HANNOVER LAND
SUMMARY:Deutsch als Fremdsprache - Integrationskurs BAMF  61367-NI-390-2025 Integrationskurs mit Alphabetisierung Spezialkurs 2 (261IK9083) 
LOCATION:Neustadt; VZ Leinepark; Raum 08a, Suttorfer Str. 8, 31535 Neustadt a. Rbge.
END:VEVENT
BEGIN:VEVENT
DTSTAMP:20260422T171618
DTSTART;TZID=Europe/Berlin:20260910T084500
DTEND;TZID=Europe/Berlin:20260910T120000
UID:261IK9083-20260910T084500@VHSZWECKVERBAND VHS HANNOVER LAND
SUMMARY:Deutsch als Fremdsprache - Integrationskurs BAMF  61367-NI-390-2025 Integrationskurs mit Alphabetisierung Spezialkurs 2 (261IK9083) 
LOCATION:Neustadt; VZ Leinepark; Raum 08a, Suttorfer Str. 8, 31535 Neustadt a. Rbge.
END:VEVENT
BEGIN:VEVENT
DTSTAMP:20260422T171618
DTSTART;TZID=Europe/Berlin:20260911T084500
DTEND;TZID=Europe/Berlin:20260911T120000
UID:261IK9083-20260911T084500@VHSZWECKVERBAND VHS HANNOVER LAND
SUMMARY:Deutsch als Fremdsprache - Integrationskurs BAMF  61367-NI-390-2025 Integrationskurs mit Alphabetisierung Spezialkurs 2 (261IK9083) 
LOCATION:Neustadt; VZ Leinepark; Raum 08a, Suttorfer Str. 8, 31535 Neustadt a. Rbge.
END:VEVENT
BEGIN:VEVENT
DTSTAMP:20260422T171618
DTSTART;TZID=Europe/Berlin:20260914T084500
DTEND;TZID=Europe/Berlin:20260914T120000
UID:261IK9083-20260914T084500@VHSZWECKVERBAND VHS HANNOVER LAND
SUMMARY:Deutsch als Fremdsprache - Integrationskurs BAMF  61367-NI-390-2025 Integrationskurs mit Alphabetisierung Spezialkurs 2 (261IK9083) 
LOCATION:Neustadt; VZ Leinepark; Raum 08a, Suttorfer Str. 8, 31535 Neustadt a. Rbge.
END:VEVENT
END:VCALENDAR