BEGIN:VCALENDAR
VERSION:2.0
PRODID:http://www.kufer.de/kuferweb / DE
METHOD:PUBLISH
CALSCALE:GREGORIAN
X-WR-TIMEZONE:Europe/Berlin
BEGIN:VTIMEZONE
TZID:Europe/Berlin
X-LIC-LOCATION:Europe/Berlin
BEGIN:DAYLIGHT
TZOFFSETFROM:+0100
TZOFFSETTO:+0200
TZNAME:CEST
DTSTART;TZID=Europe/Berlin:19700329T020000
RRULE:FREQ=YEARLY;INTERVAL=1;BYDAY=-1SU;BYMONTH=3
END:DAYLIGHT
BEGIN:STANDARD
TZOFFSETFROM:+0200
TZOFFSETTO:+0100
TZNAME:CET
DTSTART;TZID=Europe/Berlin:19701025T030000
RRULE:FREQ=YEARLY;INTERVAL=1;BYDAY=-1SU;BYMONTH=10
END:STANDARD
END:VTIMEZONE
BEGIN:VEVENT
DTSTAMP:20260422T204553
DTSTART;TZID=Europe/Berlin:20260528T110000
DTEND;TZID=Europe/Berlin:20260528T123000
UID:261LZ2174-20260528T110000@VHSZWECKVERBAND VHS HANNOVER LAND
SUMMARY:PEKiP® Herbst / Winterkinder 2025 (261LZ2174) 
LOCATION:Neustadt; VHS (am Schloss Landestrost), EG 03, Schlossstr. 1, 31535 Neustadt a. Rbge.
END:VEVENT
BEGIN:VEVENT
DTSTAMP:20260422T204553
DTSTART;TZID=Europe/Berlin:20260604T110000
DTEND;TZID=Europe/Berlin:20260604T123000
UID:261LZ2174-20260604T110000@VHSZWECKVERBAND VHS HANNOVER LAND
SUMMARY:PEKiP® Herbst / Winterkinder 2025 (261LZ2174) 
LOCATION:Neustadt; VHS (am Schloss Landestrost), EG 03, Schlossstr. 1, 31535 Neustadt a. Rbge.
END:VEVENT
BEGIN:VEVENT
DTSTAMP:20260422T204553
DTSTART;TZID=Europe/Berlin:20260611T110000
DTEND;TZID=Europe/Berlin:20260611T123000
UID:261LZ2174-20260611T110000@VHSZWECKVERBAND VHS HANNOVER LAND
SUMMARY:PEKiP® Herbst / Winterkinder 2025 (261LZ2174) 
LOCATION:Neustadt; VHS (am Schloss Landestrost), EG 03, Schlossstr. 1, 31535 Neustadt a. Rbge.
END:VEVENT
BEGIN:VEVENT
DTSTAMP:20260422T204553
DTSTART;TZID=Europe/Berlin:20260618T110000
DTEND;TZID=Europe/Berlin:20260618T123000
UID:261LZ2174-20260618T110000@VHSZWECKVERBAND VHS HANNOVER LAND
SUMMARY:PEKiP® Herbst / Winterkinder 2025 (261LZ2174) 
LOCATION:Neustadt; VHS (am Schloss Landestrost), EG 03, Schlossstr. 1, 31535 Neustadt a. Rbge.
END:VEVENT
BEGIN:VEVENT
DTSTAMP:20260422T204553
DTSTART;TZID=Europe/Berlin:20260702T110000
DTEND;TZID=Europe/Berlin:20260702T123000
UID:261LZ2174-20260702T110000@VHSZWECKVERBAND VHS HANNOVER LAND
SUMMARY:PEKiP® Herbst / Winterkinder 2025 (261LZ2174) 
LOCATION:Neustadt; VHS (am Schloss Landestrost), EG 03, Schlossstr. 1, 31535 Neustadt a. Rbge.
END:VEVENT
BEGIN:VEVENT
DTSTAMP:20260422T204553
DTSTART;TZID=Europe/Berlin:20260716T110000
DTEND;TZID=Europe/Berlin:20260716T123000
UID:261LZ2174-20260716T110000@VHSZWECKVERBAND VHS HANNOVER LAND
SUMMARY:PEKiP® Herbst / Winterkinder 2025 (261LZ2174) 
LOCATION:Neustadt; VHS (am Schloss Landestrost), EG 03, Schlossstr. 1, 31535 Neustadt a. Rbge.
END:VEVENT
END:VCALENDAR