BEGIN:VCALENDAR
VERSION:2.0
PRODID:http://www.kufer.de/kuferweb / DE
METHOD:PUBLISH
CALSCALE:GREGORIAN
X-WR-TIMEZONE:Europe/Berlin
BEGIN:VTIMEZONE
TZID:Europe/Berlin
X-LIC-LOCATION:Europe/Berlin
BEGIN:DAYLIGHT
TZOFFSETFROM:+0100
TZOFFSETTO:+0200
TZNAME:CEST
DTSTART;TZID=Europe/Berlin:19700329T020000
RRULE:FREQ=YEARLY;INTERVAL=1;BYDAY=-1SU;BYMONTH=3
END:DAYLIGHT
BEGIN:STANDARD
TZOFFSETFROM:+0200
TZOFFSETTO:+0100
TZNAME:CET
DTSTART;TZID=Europe/Berlin:19701025T030000
RRULE:FREQ=YEARLY;INTERVAL=1;BYDAY=-1SU;BYMONTH=10
END:STANDARD
END:VTIMEZONE
BEGIN:VEVENT
DTSTAMP:20260422T124432
DTSTART;TZID=Europe/Berlin:20260407T150000
DTEND;TZID=Europe/Berlin:20260407T163000
UID:261SE1202-20260407T150000@VHSZWECKVERBAND VHS HANNOVER LAND
SUMMARY:Englisch für Anfänger (A1) Teil 2 (261SE1202) 
LOCATION:Garbsen; Geschäftsstelle vhs (am Planetencenter); AUR1, Planetenring 35, 30823 Garbsen
END:VEVENT
BEGIN:VEVENT
DTSTAMP:20260422T124432
DTSTART;TZID=Europe/Berlin:20260414T150000
DTEND;TZID=Europe/Berlin:20260414T163000
UID:261SE1202-20260414T150000@VHSZWECKVERBAND VHS HANNOVER LAND
SUMMARY:Englisch für Anfänger (A1) Teil 2 (261SE1202) 
LOCATION:Garbsen; Geschäftsstelle vhs (am Planetencenter); AUR1, Planetenring 35, 30823 Garbsen
END:VEVENT
BEGIN:VEVENT
DTSTAMP:20260422T124432
DTSTART;TZID=Europe/Berlin:20260421T150000
DTEND;TZID=Europe/Berlin:20260421T163000
UID:261SE1202-20260421T150000@VHSZWECKVERBAND VHS HANNOVER LAND
SUMMARY:Englisch für Anfänger (A1) Teil 2 (261SE1202) 
LOCATION:Garbsen; Geschäftsstelle vhs (am Planetencenter); AUR1, Planetenring 35, 30823 Garbsen
END:VEVENT
BEGIN:VEVENT
DTSTAMP:20260422T124432
DTSTART;TZID=Europe/Berlin:20260428T150000
DTEND;TZID=Europe/Berlin:20260428T163000
UID:261SE1202-20260428T150000@VHSZWECKVERBAND VHS HANNOVER LAND
SUMMARY:Englisch für Anfänger (A1) Teil 2 (261SE1202) 
LOCATION:Garbsen; Geschäftsstelle vhs (am Planetencenter); AUR1, Planetenring 35, 30823 Garbsen
END:VEVENT
BEGIN:VEVENT
DTSTAMP:20260422T124432
DTSTART;TZID=Europe/Berlin:20260505T150000
DTEND;TZID=Europe/Berlin:20260505T163000
UID:261SE1202-20260505T150000@VHSZWECKVERBAND VHS HANNOVER LAND
SUMMARY:Englisch für Anfänger (A1) Teil 2 (261SE1202) 
LOCATION:Garbsen; Geschäftsstelle vhs (am Planetencenter); AUR1, Planetenring 35, 30823 Garbsen
END:VEVENT
BEGIN:VEVENT
DTSTAMP:20260422T124432
DTSTART;TZID=Europe/Berlin:20260512T150000
DTEND;TZID=Europe/Berlin:20260512T163000
UID:261SE1202-20260512T150000@VHSZWECKVERBAND VHS HANNOVER LAND
SUMMARY:Englisch für Anfänger (A1) Teil 2 (261SE1202) 
LOCATION:Garbsen; Geschäftsstelle vhs (am Planetencenter); AUR1, Planetenring 35, 30823 Garbsen
END:VEVENT
BEGIN:VEVENT
DTSTAMP:20260422T124432
DTSTART;TZID=Europe/Berlin:20260519T150000
DTEND;TZID=Europe/Berlin:20260519T163000
UID:261SE1202-20260519T150000@VHSZWECKVERBAND VHS HANNOVER LAND
SUMMARY:Englisch für Anfänger (A1) Teil 2 (261SE1202) 
LOCATION:Garbsen; Geschäftsstelle vhs (am Planetencenter); AUR1, Planetenring 35, 30823 Garbsen
END:VEVENT
BEGIN:VEVENT
DTSTAMP:20260422T124432
DTSTART;TZID=Europe/Berlin:20260602T150000
DTEND;TZID=Europe/Berlin:20260602T163000
UID:261SE1202-20260602T150000@VHSZWECKVERBAND VHS HANNOVER LAND
SUMMARY:Englisch für Anfänger (A1) Teil 2 (261SE1202) 
LOCATION:Garbsen; Geschäftsstelle vhs (am Planetencenter); AUR1, Planetenring 35, 30823 Garbsen
END:VEVENT
BEGIN:VEVENT
DTSTAMP:20260422T124432
DTSTART;TZID=Europe/Berlin:20260616T150000
DTEND;TZID=Europe/Berlin:20260616T163000
UID:261SE1202-20260616T150000@VHSZWECKVERBAND VHS HANNOVER LAND
SUMMARY:Englisch für Anfänger (A1) Teil 2 (261SE1202) 
LOCATION:Garbsen; Geschäftsstelle vhs (am Planetencenter); AUR1, Planetenring 35, 30823 Garbsen
END:VEVENT
BEGIN:VEVENT
DTSTAMP:20260422T124432
DTSTART;TZID=Europe/Berlin:20260623T150000
DTEND;TZID=Europe/Berlin:20260623T163000
UID:261SE1202-20260623T150000@VHSZWECKVERBAND VHS HANNOVER LAND
SUMMARY:Englisch für Anfänger (A1) Teil 2 (261SE1202) 
LOCATION:Garbsen; Geschäftsstelle vhs (am Planetencenter); AUR1, Planetenring 35, 30823 Garbsen
END:VEVENT
BEGIN:VEVENT
DTSTAMP:20260422T124432
DTSTART;TZID=Europe/Berlin:20260630T150000
DTEND;TZID=Europe/Berlin:20260630T163000
UID:261SE1202-20260630T150000@VHSZWECKVERBAND VHS HANNOVER LAND
SUMMARY:Englisch für Anfänger (A1) Teil 2 (261SE1202) 
LOCATION:Garbsen; Geschäftsstelle vhs (am Planetencenter); AUR1, Planetenring 35, 30823 Garbsen
END:VEVENT
BEGIN:VEVENT
DTSTAMP:20260422T124432
DTSTART;TZID=Europe/Berlin:20260707T150000
DTEND;TZID=Europe/Berlin:20260707T163000
UID:261SE1202-20260707T150000@VHSZWECKVERBAND VHS HANNOVER LAND
SUMMARY:Englisch für Anfänger (A1) Teil 2 (261SE1202) 
LOCATION:Garbsen; Geschäftsstelle vhs (am Planetencenter); AUR1, Planetenring 35, 30823 Garbsen
END:VEVENT
END:VCALENDAR