BEGIN:VCALENDAR
VERSION:2.0
PRODID:http://www.kufer.de/kuferweb / DE
METHOD:PUBLISH
CALSCALE:GREGORIAN
X-WR-TIMEZONE:Europe/Berlin
BEGIN:VTIMEZONE
TZID:Europe/Berlin
X-LIC-LOCATION:Europe/Berlin
BEGIN:DAYLIGHT
TZOFFSETFROM:+0100
TZOFFSETTO:+0200
TZNAME:CEST
DTSTART;TZID=Europe/Berlin:19700329T020000
RRULE:FREQ=YEARLY;INTERVAL=1;BYDAY=-1SU;BYMONTH=3
END:DAYLIGHT
BEGIN:STANDARD
TZOFFSETFROM:+0200
TZOFFSETTO:+0100
TZNAME:CET
DTSTART;TZID=Europe/Berlin:19701025T030000
RRULE:FREQ=YEARLY;INTERVAL=1;BYDAY=-1SU;BYMONTH=10
END:STANDARD
END:VTIMEZONE
BEGIN:VEVENT
DTSTAMP:20260422T204556
DTSTART;TZID=Europe/Berlin:20260416T171500
DTEND;TZID=Europe/Berlin:20260416T184500
UID:261SE2131-20260416T171500@VHSZWECKVERBAND VHS HANNOVER LAND
SUMMARY:Englisch für fortgeschrittene Anfänger (A1.2/A2.1): Seniorenkurs (261SE2131) 
LOCATION:Burgwedel; Kulturzentrum-Amtshof; 206, Auf dem Amtshof 8, 30938 Burgwedel-Großburgwedel
END:VEVENT
BEGIN:VEVENT
DTSTAMP:20260422T204556
DTSTART;TZID=Europe/Berlin:20260423T171500
DTEND;TZID=Europe/Berlin:20260423T184500
UID:261SE2131-20260423T171500@VHSZWECKVERBAND VHS HANNOVER LAND
SUMMARY:Englisch für fortgeschrittene Anfänger (A1.2/A2.1): Seniorenkurs (261SE2131) 
LOCATION:Burgwedel; Kulturzentrum-Amtshof; 206, Auf dem Amtshof 8, 30938 Burgwedel-Großburgwedel
END:VEVENT
BEGIN:VEVENT
DTSTAMP:20260422T204556
DTSTART;TZID=Europe/Berlin:20260430T171500
DTEND;TZID=Europe/Berlin:20260430T184500
UID:261SE2131-20260430T171500@VHSZWECKVERBAND VHS HANNOVER LAND
SUMMARY:Englisch für fortgeschrittene Anfänger (A1.2/A2.1): Seniorenkurs (261SE2131) 
LOCATION:Burgwedel; Kulturzentrum-Amtshof; 206, Auf dem Amtshof 8, 30938 Burgwedel-Großburgwedel
END:VEVENT
BEGIN:VEVENT
DTSTAMP:20260422T204556
DTSTART;TZID=Europe/Berlin:20260507T171500
DTEND;TZID=Europe/Berlin:20260507T184500
UID:261SE2131-20260507T171500@VHSZWECKVERBAND VHS HANNOVER LAND
SUMMARY:Englisch für fortgeschrittene Anfänger (A1.2/A2.1): Seniorenkurs (261SE2131) 
LOCATION:Burgwedel; Kulturzentrum-Amtshof; 206, Auf dem Amtshof 8, 30938 Burgwedel-Großburgwedel
END:VEVENT
BEGIN:VEVENT
DTSTAMP:20260422T204556
DTSTART;TZID=Europe/Berlin:20260521T171500
DTEND;TZID=Europe/Berlin:20260521T184500
UID:261SE2131-20260521T171500@VHSZWECKVERBAND VHS HANNOVER LAND
SUMMARY:Englisch für fortgeschrittene Anfänger (A1.2/A2.1): Seniorenkurs (261SE2131) 
LOCATION:Burgwedel; Kulturzentrum-Amtshof; 206, Auf dem Amtshof 8, 30938 Burgwedel-Großburgwedel
END:VEVENT
BEGIN:VEVENT
DTSTAMP:20260422T204556
DTSTART;TZID=Europe/Berlin:20260528T171500
DTEND;TZID=Europe/Berlin:20260528T184500
UID:261SE2131-20260528T171500@VHSZWECKVERBAND VHS HANNOVER LAND
SUMMARY:Englisch für fortgeschrittene Anfänger (A1.2/A2.1): Seniorenkurs (261SE2131) 
LOCATION:Burgwedel; Kulturzentrum-Amtshof; 206, Auf dem Amtshof 8, 30938 Burgwedel-Großburgwedel
END:VEVENT
BEGIN:VEVENT
DTSTAMP:20260422T204556
DTSTART;TZID=Europe/Berlin:20260604T171500
DTEND;TZID=Europe/Berlin:20260604T184500
UID:261SE2131-20260604T171500@VHSZWECKVERBAND VHS HANNOVER LAND
SUMMARY:Englisch für fortgeschrittene Anfänger (A1.2/A2.1): Seniorenkurs (261SE2131) 
LOCATION:Burgwedel; Kulturzentrum-Amtshof; 206, Auf dem Amtshof 8, 30938 Burgwedel-Großburgwedel
END:VEVENT
END:VCALENDAR