BEGIN:VCALENDAR
VERSION:2.0
PRODID:http://www.kufer.de/kuferweb / DE
METHOD:PUBLISH
CALSCALE:GREGORIAN
X-WR-TIMEZONE:Europe/Berlin
BEGIN:VTIMEZONE
TZID:Europe/Berlin
X-LIC-LOCATION:Europe/Berlin
BEGIN:DAYLIGHT
TZOFFSETFROM:+0100
TZOFFSETTO:+0200
TZNAME:CEST
DTSTART;TZID=Europe/Berlin:19700329T020000
RRULE:FREQ=YEARLY;INTERVAL=1;BYDAY=-1SU;BYMONTH=3
END:DAYLIGHT
BEGIN:STANDARD
TZOFFSETFROM:+0200
TZOFFSETTO:+0100
TZNAME:CET
DTSTART;TZID=Europe/Berlin:19701025T030000
RRULE:FREQ=YEARLY;INTERVAL=1;BYDAY=-1SU;BYMONTH=10
END:STANDARD
END:VTIMEZONE
BEGIN:VEVENT
DTSTAMP:20260422T124406
DTSTART;TZID=Europe/Berlin:20260203T111500
DTEND;TZID=Europe/Berlin:20260203T124500
UID:261SE2513-20260203T111500@VHSZWECKVERBAND VHS HANNOVER LAND
SUMMARY:Englisch für Wiedereinsteiger (A2): Seniorenkurs (261SE2513) 
LOCATION:Neustadt; VHS (am Schloss Landestrost), OG 01, Schlossstr. 1, 31535 Neustadt a. Rbge.
END:VEVENT
BEGIN:VEVENT
DTSTAMP:20260422T124406
DTSTART;TZID=Europe/Berlin:20260210T111500
DTEND;TZID=Europe/Berlin:20260210T124500
UID:261SE2513-20260210T111500@VHSZWECKVERBAND VHS HANNOVER LAND
SUMMARY:Englisch für Wiedereinsteiger (A2): Seniorenkurs (261SE2513) 
LOCATION:Neustadt; VHS (am Schloss Landestrost), OG 02, Schlossstr. 1, 31535 Neustadt a. Rbge.
END:VEVENT
BEGIN:VEVENT
DTSTAMP:20260422T124406
DTSTART;TZID=Europe/Berlin:20260217T111500
DTEND;TZID=Europe/Berlin:20260217T124500
UID:261SE2513-20260217T111500@VHSZWECKVERBAND VHS HANNOVER LAND
SUMMARY:Englisch für Wiedereinsteiger (A2): Seniorenkurs (261SE2513) 
LOCATION:Neustadt; VHS (am Schloss Landestrost), OG 01, Schlossstr. 1, 31535 Neustadt a. Rbge.
END:VEVENT
BEGIN:VEVENT
DTSTAMP:20260422T124406
DTSTART;TZID=Europe/Berlin:20260224T111500
DTEND;TZID=Europe/Berlin:20260224T124500
UID:261SE2513-20260224T111500@VHSZWECKVERBAND VHS HANNOVER LAND
SUMMARY:Englisch für Wiedereinsteiger (A2): Seniorenkurs (261SE2513) 
LOCATION:Neustadt; VHS (am Schloss Landestrost), OG 01, Schlossstr. 1, 31535 Neustadt a. Rbge.
END:VEVENT
BEGIN:VEVENT
DTSTAMP:20260422T124406
DTSTART;TZID=Europe/Berlin:20260303T111500
DTEND;TZID=Europe/Berlin:20260303T124500
UID:261SE2513-20260303T111500@VHSZWECKVERBAND VHS HANNOVER LAND
SUMMARY:Englisch für Wiedereinsteiger (A2): Seniorenkurs (261SE2513) 
LOCATION:Neustadt; VHS (am Schloss Landestrost), OG 02, Schlossstr. 1, 31535 Neustadt a. Rbge.
END:VEVENT
BEGIN:VEVENT
DTSTAMP:20260422T124406
DTSTART;TZID=Europe/Berlin:20260310T111500
DTEND;TZID=Europe/Berlin:20260310T124500
UID:261SE2513-20260310T111500@VHSZWECKVERBAND VHS HANNOVER LAND
SUMMARY:Englisch für Wiedereinsteiger (A2): Seniorenkurs (261SE2513) 
LOCATION:Neustadt; VHS (am Schloss Landestrost), OG 02, Schlossstr. 1, 31535 Neustadt a. Rbge.
END:VEVENT
BEGIN:VEVENT
DTSTAMP:20260422T124406
DTSTART;TZID=Europe/Berlin:20260317T111500
DTEND;TZID=Europe/Berlin:20260317T124500
UID:261SE2513-20260317T111500@VHSZWECKVERBAND VHS HANNOVER LAND
SUMMARY:Englisch für Wiedereinsteiger (A2): Seniorenkurs (261SE2513) 
LOCATION:Neustadt; VHS (am Schloss Landestrost), OG 02, Schlossstr. 1, 31535 Neustadt a. Rbge.
END:VEVENT
BEGIN:VEVENT
DTSTAMP:20260422T124406
DTSTART;TZID=Europe/Berlin:20260414T111500
DTEND;TZID=Europe/Berlin:20260414T124500
UID:261SE2513-20260414T111500@VHSZWECKVERBAND VHS HANNOVER LAND
SUMMARY:Englisch für Wiedereinsteiger (A2): Seniorenkurs (261SE2513) 
LOCATION:Neustadt; VHS (am Schloss Landestrost), OG 02, Schlossstr. 1, 31535 Neustadt a. Rbge.
END:VEVENT
BEGIN:VEVENT
DTSTAMP:20260422T124406
DTSTART;TZID=Europe/Berlin:20260428T111500
DTEND;TZID=Europe/Berlin:20260428T124500
UID:261SE2513-20260428T111500@VHSZWECKVERBAND VHS HANNOVER LAND
SUMMARY:Englisch für Wiedereinsteiger (A2): Seniorenkurs (261SE2513) 
LOCATION:Neustadt; VHS (am Schloss Landestrost), OG 02, Schlossstr. 1, 31535 Neustadt a. Rbge.
END:VEVENT
BEGIN:VEVENT
DTSTAMP:20260422T124406
DTSTART;TZID=Europe/Berlin:20260505T111500
DTEND;TZID=Europe/Berlin:20260505T124500
UID:261SE2513-20260505T111500@VHSZWECKVERBAND VHS HANNOVER LAND
SUMMARY:Englisch für Wiedereinsteiger (A2): Seniorenkurs (261SE2513) 
LOCATION:Neustadt; VHS (am Schloss Landestrost), OG 02, Schlossstr. 1, 31535 Neustadt a. Rbge.
END:VEVENT
BEGIN:VEVENT
DTSTAMP:20260422T124406
DTSTART;TZID=Europe/Berlin:20260512T111500
DTEND;TZID=Europe/Berlin:20260512T124500
UID:261SE2513-20260512T111500@VHSZWECKVERBAND VHS HANNOVER LAND
SUMMARY:Englisch für Wiedereinsteiger (A2): Seniorenkurs (261SE2513) 
LOCATION:Neustadt; VHS (am Schloss Landestrost), OG 02, Schlossstr. 1, 31535 Neustadt a. Rbge.
END:VEVENT
BEGIN:VEVENT
DTSTAMP:20260422T124406
DTSTART;TZID=Europe/Berlin:20260519T111500
DTEND;TZID=Europe/Berlin:20260519T124500
UID:261SE2513-20260519T111500@VHSZWECKVERBAND VHS HANNOVER LAND
SUMMARY:Englisch für Wiedereinsteiger (A2): Seniorenkurs (261SE2513) 
LOCATION:Neustadt; VHS (am Schloss Landestrost), OG 02, Schlossstr. 1, 31535 Neustadt a. Rbge.
END:VEVENT
END:VCALENDAR