BEGIN:VCALENDAR
VERSION:2.0
PRODID:http://www.kufer.de/kuferweb / DE
METHOD:PUBLISH
CALSCALE:GREGORIAN
X-WR-TIMEZONE:Europe/Berlin
BEGIN:VTIMEZONE
TZID:Europe/Berlin
X-LIC-LOCATION:Europe/Berlin
BEGIN:DAYLIGHT
TZOFFSETFROM:+0100
TZOFFSETTO:+0200
TZNAME:CEST
DTSTART;TZID=Europe/Berlin:19700329T020000
RRULE:FREQ=YEARLY;INTERVAL=1;BYDAY=-1SU;BYMONTH=3
END:DAYLIGHT
BEGIN:STANDARD
TZOFFSETFROM:+0200
TZOFFSETTO:+0100
TZNAME:CET
DTSTART;TZID=Europe/Berlin:19701025T030000
RRULE:FREQ=YEARLY;INTERVAL=1;BYDAY=-1SU;BYMONTH=10
END:STANDARD
END:VTIMEZONE
BEGIN:VEVENT
DTSTAMP:20260422T174204
DTSTART;TZID=Europe/Berlin:20260409T164500
DTEND;TZID=Europe/Berlin:20260409T181500
UID:261SE2552-20260409T164500@VHSZWECKVERBAND VHS HANNOVER LAND
SUMMARY:Englisch für fortgeschrittene Anfänger (A2): Fortsetzungskurs (261SE2552) 
LOCATION:Garbsen; Geschäftsstelle vhs (am Planetencenter); AUR1, Planetenring 35, 30823 Garbsen
END:VEVENT
BEGIN:VEVENT
DTSTAMP:20260422T174204
DTSTART;TZID=Europe/Berlin:20260416T164500
DTEND;TZID=Europe/Berlin:20260416T181500
UID:261SE2552-20260416T164500@VHSZWECKVERBAND VHS HANNOVER LAND
DESCRIPTION:Wenn dieser TM stattfinden kann muss der 25.6. gelöscht werden, Kus hat insgesamt 7 U-Tage.
SUMMARY:Englisch für fortgeschrittene Anfänger (A2): Fortsetzungskurs (261SE2552) 
LOCATION:Garbsen; Geschäftsstelle vhs (am Planetencenter); AUR1, Planetenring 35, 30823 Garbsen
END:VEVENT
BEGIN:VEVENT
DTSTAMP:20260422T174204
DTSTART;TZID=Europe/Berlin:20260423T164500
DTEND;TZID=Europe/Berlin:20260423T181500
UID:261SE2552-20260423T164500@VHSZWECKVERBAND VHS HANNOVER LAND
SUMMARY:Englisch für fortgeschrittene Anfänger (A2): Fortsetzungskurs (261SE2552) 
LOCATION:Garbsen; Geschäftsstelle vhs (am Planetencenter); AUR1, Planetenring 35, 30823 Garbsen
END:VEVENT
BEGIN:VEVENT
DTSTAMP:20260422T174204
DTSTART;TZID=Europe/Berlin:20260430T164500
DTEND;TZID=Europe/Berlin:20260430T181500
UID:261SE2552-20260430T164500@VHSZWECKVERBAND VHS HANNOVER LAND
SUMMARY:Englisch für fortgeschrittene Anfänger (A2): Fortsetzungskurs (261SE2552) 
LOCATION:Garbsen; Geschäftsstelle vhs (am Planetencenter); AUR1, Planetenring 35, 30823 Garbsen
END:VEVENT
BEGIN:VEVENT
DTSTAMP:20260422T174204
DTSTART;TZID=Europe/Berlin:20260507T164500
DTEND;TZID=Europe/Berlin:20260507T181500
UID:261SE2552-20260507T164500@VHSZWECKVERBAND VHS HANNOVER LAND
SUMMARY:Englisch für fortgeschrittene Anfänger (A2): Fortsetzungskurs (261SE2552) 
LOCATION:Garbsen; Geschäftsstelle vhs (am Planetencenter); AUR1, Planetenring 35, 30823 Garbsen
END:VEVENT
BEGIN:VEVENT
DTSTAMP:20260422T174204
DTSTART;TZID=Europe/Berlin:20260521T164500
DTEND;TZID=Europe/Berlin:20260521T181500
UID:261SE2552-20260521T164500@VHSZWECKVERBAND VHS HANNOVER LAND
SUMMARY:Englisch für fortgeschrittene Anfänger (A2): Fortsetzungskurs (261SE2552) 
LOCATION:Garbsen; Geschäftsstelle vhs (am Planetencenter); AUR1, Planetenring 35, 30823 Garbsen
END:VEVENT
BEGIN:VEVENT
DTSTAMP:20260422T174204
DTSTART;TZID=Europe/Berlin:20260604T164500
DTEND;TZID=Europe/Berlin:20260604T181500
UID:261SE2552-20260604T164500@VHSZWECKVERBAND VHS HANNOVER LAND
SUMMARY:Englisch für fortgeschrittene Anfänger (A2): Fortsetzungskurs (261SE2552) 
LOCATION:Garbsen; Geschäftsstelle vhs (am Planetencenter); AUR1, Planetenring 35, 30823 Garbsen
END:VEVENT
END:VCALENDAR