BEGIN:VCALENDAR
VERSION:2.0
PRODID:http://www.kufer.de/kuferweb / DE
METHOD:PUBLISH
CALSCALE:GREGORIAN
X-WR-TIMEZONE:Europe/Berlin
BEGIN:VTIMEZONE
TZID:Europe/Berlin
X-LIC-LOCATION:Europe/Berlin
BEGIN:DAYLIGHT
TZOFFSETFROM:+0100
TZOFFSETTO:+0200
TZNAME:CEST
DTSTART;TZID=Europe/Berlin:19700329T020000
RRULE:FREQ=YEARLY;INTERVAL=1;BYDAY=-1SU;BYMONTH=3
END:DAYLIGHT
BEGIN:STANDARD
TZOFFSETFROM:+0200
TZOFFSETTO:+0100
TZNAME:CET
DTSTART;TZID=Europe/Berlin:19701025T030000
RRULE:FREQ=YEARLY;INTERVAL=1;BYDAY=-1SU;BYMONTH=10
END:STANDARD
END:VTIMEZONE
BEGIN:VEVENT
DTSTAMP:20260422T202552
DTSTART;TZID=Europe/Berlin:20260130T090000
DTEND;TZID=Europe/Berlin:20260130T103000
UID:261SE3143-20260130T090000@VHSZWECKVERBAND VHS HANNOVER LAND
SUMMARY:Englisch für fortgeschrittene Anfänger und Wiedereinsteiger (A2+): Seniorenkurs (261SE3143) 
LOCATION:Neustadt; VHS (am Schloss Landestrost), OG 02, Schlossstr. 1, 31535 Neustadt a. Rbge.
END:VEVENT
BEGIN:VEVENT
DTSTAMP:20260422T202552
DTSTART;TZID=Europe/Berlin:20260206T090000
DTEND;TZID=Europe/Berlin:20260206T103000
UID:261SE3143-20260206T090000@VHSZWECKVERBAND VHS HANNOVER LAND
SUMMARY:Englisch für fortgeschrittene Anfänger und Wiedereinsteiger (A2+): Seniorenkurs (261SE3143) 
LOCATION:Neustadt; VHS (am Schloss Landestrost), OG 02, Schlossstr. 1, 31535 Neustadt a. Rbge.
END:VEVENT
BEGIN:VEVENT
DTSTAMP:20260422T202552
DTSTART;TZID=Europe/Berlin:20260213T090000
DTEND;TZID=Europe/Berlin:20260213T103000
UID:261SE3143-20260213T090000@VHSZWECKVERBAND VHS HANNOVER LAND
SUMMARY:Englisch für fortgeschrittene Anfänger und Wiedereinsteiger (A2+): Seniorenkurs (261SE3143) 
LOCATION:Neustadt; VHS (am Schloss Landestrost), EG 02, Schlossstr. 1, 31535 Neustadt a. Rbge.
END:VEVENT
BEGIN:VEVENT
DTSTAMP:20260422T202552
DTSTART;TZID=Europe/Berlin:20260220T090000
DTEND;TZID=Europe/Berlin:20260220T103000
UID:261SE3143-20260220T090000@VHSZWECKVERBAND VHS HANNOVER LAND
SUMMARY:Englisch für fortgeschrittene Anfänger und Wiedereinsteiger (A2+): Seniorenkurs (261SE3143) 
LOCATION:Neustadt; VHS (am Schloss Landestrost), OG 02, Schlossstr. 1, 31535 Neustadt a. Rbge.
END:VEVENT
BEGIN:VEVENT
DTSTAMP:20260422T202552
DTSTART;TZID=Europe/Berlin:20260227T090000
DTEND;TZID=Europe/Berlin:20260227T103000
UID:261SE3143-20260227T090000@VHSZWECKVERBAND VHS HANNOVER LAND
SUMMARY:Englisch für fortgeschrittene Anfänger und Wiedereinsteiger (A2+): Seniorenkurs (261SE3143) 
LOCATION:Neustadt; VHS (am Schloss Landestrost), OG 02, Schlossstr. 1, 31535 Neustadt a. Rbge.
END:VEVENT
BEGIN:VEVENT
DTSTAMP:20260422T202552
DTSTART;TZID=Europe/Berlin:20260306T090000
DTEND;TZID=Europe/Berlin:20260306T103000
UID:261SE3143-20260306T090000@VHSZWECKVERBAND VHS HANNOVER LAND
SUMMARY:Englisch für fortgeschrittene Anfänger und Wiedereinsteiger (A2+): Seniorenkurs (261SE3143) 
LOCATION:Neustadt; VHS (am Schloss Landestrost), OG 02, Schlossstr. 1, 31535 Neustadt a. Rbge.
END:VEVENT
BEGIN:VEVENT
DTSTAMP:20260422T202552
DTSTART;TZID=Europe/Berlin:20260313T090000
DTEND;TZID=Europe/Berlin:20260313T103000
UID:261SE3143-20260313T090000@VHSZWECKVERBAND VHS HANNOVER LAND
SUMMARY:Englisch für fortgeschrittene Anfänger und Wiedereinsteiger (A2+): Seniorenkurs (261SE3143) 
LOCATION:Neustadt; VHS (am Schloss Landestrost), OG 02, Schlossstr. 1, 31535 Neustadt a. Rbge.
END:VEVENT
BEGIN:VEVENT
DTSTAMP:20260422T202552
DTSTART;TZID=Europe/Berlin:20260320T090000
DTEND;TZID=Europe/Berlin:20260320T103000
UID:261SE3143-20260320T090000@VHSZWECKVERBAND VHS HANNOVER LAND
SUMMARY:Englisch für fortgeschrittene Anfänger und Wiedereinsteiger (A2+): Seniorenkurs (261SE3143) 
LOCATION:Neustadt; VHS (am Schloss Landestrost), OG 02, Schlossstr. 1, 31535 Neustadt a. Rbge.
END:VEVENT
BEGIN:VEVENT
DTSTAMP:20260422T202552
DTSTART;TZID=Europe/Berlin:20260417T090000
DTEND;TZID=Europe/Berlin:20260417T103000
UID:261SE3143-20260417T090000@VHSZWECKVERBAND VHS HANNOVER LAND
SUMMARY:Englisch für fortgeschrittene Anfänger und Wiedereinsteiger (A2+): Seniorenkurs (261SE3143) 
LOCATION:Neustadt; VHS (am Schloss Landestrost), OG 02, Schlossstr. 1, 31535 Neustadt a. Rbge.
END:VEVENT
BEGIN:VEVENT
DTSTAMP:20260422T202552
DTSTART;TZID=Europe/Berlin:20260424T090000
DTEND;TZID=Europe/Berlin:20260424T103000
UID:261SE3143-20260424T090000@VHSZWECKVERBAND VHS HANNOVER LAND
SUMMARY:Englisch für fortgeschrittene Anfänger und Wiedereinsteiger (A2+): Seniorenkurs (261SE3143) 
LOCATION:Neustadt; VHS (am Schloss Landestrost), OG 02, Schlossstr. 1, 31535 Neustadt a. Rbge.
END:VEVENT
BEGIN:VEVENT
DTSTAMP:20260422T202552
DTSTART;TZID=Europe/Berlin:20260508T090000
DTEND;TZID=Europe/Berlin:20260508T103000
UID:261SE3143-20260508T090000@VHSZWECKVERBAND VHS HANNOVER LAND
SUMMARY:Englisch für fortgeschrittene Anfänger und Wiedereinsteiger (A2+): Seniorenkurs (261SE3143) 
LOCATION:Neustadt; VHS (am Schloss Landestrost), OG 02, Schlossstr. 1, 31535 Neustadt a. Rbge.
END:VEVENT
BEGIN:VEVENT
DTSTAMP:20260422T202552
DTSTART;TZID=Europe/Berlin:20260522T090000
DTEND;TZID=Europe/Berlin:20260522T103000
UID:261SE3143-20260522T090000@VHSZWECKVERBAND VHS HANNOVER LAND
DESCRIPTION:Ersatz für Ausfall am 10.04.2026
SUMMARY:Englisch für fortgeschrittene Anfänger und Wiedereinsteiger (A2+): Seniorenkurs (261SE3143) 
LOCATION:Neustadt; VHS (am Schloss Landestrost), OG 02, Schlossstr. 1, 31535 Neustadt a. Rbge.
END:VEVENT
END:VCALENDAR