BEGIN:VCALENDAR
VERSION:2.0
PRODID:http://www.kufer.de/kuferweb / DE
METHOD:PUBLISH
CALSCALE:GREGORIAN
X-WR-TIMEZONE:Europe/Berlin
BEGIN:VTIMEZONE
TZID:Europe/Berlin
X-LIC-LOCATION:Europe/Berlin
BEGIN:DAYLIGHT
TZOFFSETFROM:+0100
TZOFFSETTO:+0200
TZNAME:CEST
DTSTART;TZID=Europe/Berlin:19700329T020000
RRULE:FREQ=YEARLY;INTERVAL=1;BYDAY=-1SU;BYMONTH=3
END:DAYLIGHT
BEGIN:STANDARD
TZOFFSETFROM:+0200
TZOFFSETTO:+0100
TZNAME:CET
DTSTART;TZID=Europe/Berlin:19701025T030000
RRULE:FREQ=YEARLY;INTERVAL=1;BYDAY=-1SU;BYMONTH=10
END:STANDARD
END:VTIMEZONE
BEGIN:VEVENT
DTSTAMP:20260422T075919
DTSTART;TZID=Europe/Berlin:20260130T104500
DTEND;TZID=Europe/Berlin:20260130T121500
UID:261SE3243-20260130T104500@VHSZWECKVERBAND VHS HANNOVER LAND
SUMMARY:Englisch für Fortgeschrittene und Wiedereinsteiger (A2+): Seniorenkurs (261SE3243) 
LOCATION:Neustadt; VHS (am Schloss Landestrost), OG 02, Schlossstr. 1, 31535 Neustadt a. Rbge.
END:VEVENT
BEGIN:VEVENT
DTSTAMP:20260422T075919
DTSTART;TZID=Europe/Berlin:20260206T104500
DTEND;TZID=Europe/Berlin:20260206T121500
UID:261SE3243-20260206T104500@VHSZWECKVERBAND VHS HANNOVER LAND
SUMMARY:Englisch für Fortgeschrittene und Wiedereinsteiger (A2+): Seniorenkurs (261SE3243) 
LOCATION:Neustadt; VHS (am Schloss Landestrost), OG 02, Schlossstr. 1, 31535 Neustadt a. Rbge.
END:VEVENT
BEGIN:VEVENT
DTSTAMP:20260422T075919
DTSTART;TZID=Europe/Berlin:20260213T104500
DTEND;TZID=Europe/Berlin:20260213T121500
UID:261SE3243-20260213T104500@VHSZWECKVERBAND VHS HANNOVER LAND
SUMMARY:Englisch für Fortgeschrittene und Wiedereinsteiger (A2+): Seniorenkurs (261SE3243) 
LOCATION:Neustadt; VHS (am Schloss Landestrost), EG 02, Schlossstr. 1, 31535 Neustadt a. Rbge.
END:VEVENT
BEGIN:VEVENT
DTSTAMP:20260422T075919
DTSTART;TZID=Europe/Berlin:20260220T104500
DTEND;TZID=Europe/Berlin:20260220T121500
UID:261SE3243-20260220T104500@VHSZWECKVERBAND VHS HANNOVER LAND
SUMMARY:Englisch für Fortgeschrittene und Wiedereinsteiger (A2+): Seniorenkurs (261SE3243) 
LOCATION:Neustadt; VHS (am Schloss Landestrost), OG 02, Schlossstr. 1, 31535 Neustadt a. Rbge.
END:VEVENT
BEGIN:VEVENT
DTSTAMP:20260422T075919
DTSTART;TZID=Europe/Berlin:20260227T104500
DTEND;TZID=Europe/Berlin:20260227T121500
UID:261SE3243-20260227T104500@VHSZWECKVERBAND VHS HANNOVER LAND
SUMMARY:Englisch für Fortgeschrittene und Wiedereinsteiger (A2+): Seniorenkurs (261SE3243) 
LOCATION:Neustadt; VHS (am Schloss Landestrost), OG 02, Schlossstr. 1, 31535 Neustadt a. Rbge.
END:VEVENT
BEGIN:VEVENT
DTSTAMP:20260422T075919
DTSTART;TZID=Europe/Berlin:20260306T104500
DTEND;TZID=Europe/Berlin:20260306T121500
UID:261SE3243-20260306T104500@VHSZWECKVERBAND VHS HANNOVER LAND
SUMMARY:Englisch für Fortgeschrittene und Wiedereinsteiger (A2+): Seniorenkurs (261SE3243) 
LOCATION:Neustadt; VHS (am Schloss Landestrost), OG 02, Schlossstr. 1, 31535 Neustadt a. Rbge.
END:VEVENT
BEGIN:VEVENT
DTSTAMP:20260422T075919
DTSTART;TZID=Europe/Berlin:20260313T104500
DTEND;TZID=Europe/Berlin:20260313T121500
UID:261SE3243-20260313T104500@VHSZWECKVERBAND VHS HANNOVER LAND
SUMMARY:Englisch für Fortgeschrittene und Wiedereinsteiger (A2+): Seniorenkurs (261SE3243) 
LOCATION:Neustadt; VHS (am Schloss Landestrost), OG 02, Schlossstr. 1, 31535 Neustadt a. Rbge.
END:VEVENT
BEGIN:VEVENT
DTSTAMP:20260422T075919
DTSTART;TZID=Europe/Berlin:20260320T104500
DTEND;TZID=Europe/Berlin:20260320T121500
UID:261SE3243-20260320T104500@VHSZWECKVERBAND VHS HANNOVER LAND
SUMMARY:Englisch für Fortgeschrittene und Wiedereinsteiger (A2+): Seniorenkurs (261SE3243) 
LOCATION:Neustadt; VHS (am Schloss Landestrost), OG 02, Schlossstr. 1, 31535 Neustadt a. Rbge.
END:VEVENT
BEGIN:VEVENT
DTSTAMP:20260422T075919
DTSTART;TZID=Europe/Berlin:20260417T104500
DTEND;TZID=Europe/Berlin:20260417T121500
UID:261SE3243-20260417T104500@VHSZWECKVERBAND VHS HANNOVER LAND
SUMMARY:Englisch für Fortgeschrittene und Wiedereinsteiger (A2+): Seniorenkurs (261SE3243) 
LOCATION:Neustadt; VHS (am Schloss Landestrost), OG 02, Schlossstr. 1, 31535 Neustadt a. Rbge.
END:VEVENT
BEGIN:VEVENT
DTSTAMP:20260422T075919
DTSTART;TZID=Europe/Berlin:20260424T104500
DTEND;TZID=Europe/Berlin:20260424T121500
UID:261SE3243-20260424T104500@VHSZWECKVERBAND VHS HANNOVER LAND
SUMMARY:Englisch für Fortgeschrittene und Wiedereinsteiger (A2+): Seniorenkurs (261SE3243) 
LOCATION:Neustadt; VHS (am Schloss Landestrost), OG 02, Schlossstr. 1, 31535 Neustadt a. Rbge.
END:VEVENT
BEGIN:VEVENT
DTSTAMP:20260422T075919
DTSTART;TZID=Europe/Berlin:20260508T104500
DTEND;TZID=Europe/Berlin:20260508T121500
UID:261SE3243-20260508T104500@VHSZWECKVERBAND VHS HANNOVER LAND
SUMMARY:Englisch für Fortgeschrittene und Wiedereinsteiger (A2+): Seniorenkurs (261SE3243) 
LOCATION:Neustadt; VHS (am Schloss Landestrost), OG 02, Schlossstr. 1, 31535 Neustadt a. Rbge.
END:VEVENT
BEGIN:VEVENT
DTSTAMP:20260422T075919
DTSTART;TZID=Europe/Berlin:20260522T104500
DTEND;TZID=Europe/Berlin:20260522T121500
UID:261SE3243-20260522T104500@VHSZWECKVERBAND VHS HANNOVER LAND
DESCRIPTION:Ersatz für Ausfall am 10.04.2026
SUMMARY:Englisch für Fortgeschrittene und Wiedereinsteiger (A2+): Seniorenkurs (261SE3243) 
LOCATION:Neustadt; VHS (am Schloss Landestrost), OG 02, Schlossstr. 1, 31535 Neustadt a. Rbge.
END:VEVENT
END:VCALENDAR