BEGIN:VCALENDAR
VERSION:2.0
PRODID:http://www.kufer.de/kuferweb / DE
METHOD:PUBLISH
CALSCALE:GREGORIAN
X-WR-TIMEZONE:Europe/Berlin
BEGIN:VTIMEZONE
TZID:Europe/Berlin
X-LIC-LOCATION:Europe/Berlin
BEGIN:DAYLIGHT
TZOFFSETFROM:+0100
TZOFFSETTO:+0200
TZNAME:CEST
DTSTART;TZID=Europe/Berlin:19700329T020000
RRULE:FREQ=YEARLY;INTERVAL=1;BYDAY=-1SU;BYMONTH=3
END:DAYLIGHT
BEGIN:STANDARD
TZOFFSETFROM:+0200
TZOFFSETTO:+0100
TZNAME:CET
DTSTART;TZID=Europe/Berlin:19701025T030000
RRULE:FREQ=YEARLY;INTERVAL=1;BYDAY=-1SU;BYMONTH=10
END:STANDARD
END:VTIMEZONE
BEGIN:VEVENT
DTSTAMP:20260422T075913
DTSTART;TZID=Europe/Berlin:20260415T171500
DTEND;TZID=Europe/Berlin:20260415T184500
UID:261SE4141-20260415T171500@VHSZWECKVERBAND VHS HANNOVER LAND
SUMMARY:English für Fortgeschrittene (A2/B1): Short Stories & Conversation (261SE4141) 
LOCATION:Burgwedel; Kulturzentrum-Amtshof; 206, Auf dem Amtshof 8, 30938 Burgwedel-Großburgwedel
END:VEVENT
BEGIN:VEVENT
DTSTAMP:20260422T075913
DTSTART;TZID=Europe/Berlin:20260422T171500
DTEND;TZID=Europe/Berlin:20260422T184500
UID:261SE4141-20260422T171500@VHSZWECKVERBAND VHS HANNOVER LAND
SUMMARY:English für Fortgeschrittene (A2/B1): Short Stories & Conversation (261SE4141) 
LOCATION:Burgwedel; Kulturzentrum-Amtshof; 206, Auf dem Amtshof 8, 30938 Burgwedel-Großburgwedel
END:VEVENT
BEGIN:VEVENT
DTSTAMP:20260422T075913
DTSTART;TZID=Europe/Berlin:20260429T171500
DTEND;TZID=Europe/Berlin:20260429T184500
UID:261SE4141-20260429T171500@VHSZWECKVERBAND VHS HANNOVER LAND
SUMMARY:English für Fortgeschrittene (A2/B1): Short Stories & Conversation (261SE4141) 
LOCATION:Burgwedel; Kulturzentrum-Amtshof; 206, Auf dem Amtshof 8, 30938 Burgwedel-Großburgwedel
END:VEVENT
BEGIN:VEVENT
DTSTAMP:20260422T075913
DTSTART;TZID=Europe/Berlin:20260506T171500
DTEND;TZID=Europe/Berlin:20260506T184500
UID:261SE4141-20260506T171500@VHSZWECKVERBAND VHS HANNOVER LAND
SUMMARY:English für Fortgeschrittene (A2/B1): Short Stories & Conversation (261SE4141) 
LOCATION:Burgwedel; Kulturzentrum-Amtshof; 206, Auf dem Amtshof 8, 30938 Burgwedel-Großburgwedel
END:VEVENT
BEGIN:VEVENT
DTSTAMP:20260422T075913
DTSTART;TZID=Europe/Berlin:20260513T171500
DTEND;TZID=Europe/Berlin:20260513T184500
UID:261SE4141-20260513T171500@VHSZWECKVERBAND VHS HANNOVER LAND
SUMMARY:English für Fortgeschrittene (A2/B1): Short Stories & Conversation (261SE4141) 
LOCATION:Burgwedel; Kulturzentrum-Amtshof; 206, Auf dem Amtshof 8, 30938 Burgwedel-Großburgwedel
END:VEVENT
BEGIN:VEVENT
DTSTAMP:20260422T075913
DTSTART;TZID=Europe/Berlin:20260520T171500
DTEND;TZID=Europe/Berlin:20260520T184500
UID:261SE4141-20260520T171500@VHSZWECKVERBAND VHS HANNOVER LAND
SUMMARY:English für Fortgeschrittene (A2/B1): Short Stories & Conversation (261SE4141) 
LOCATION:Burgwedel; Kulturzentrum-Amtshof; 206, Auf dem Amtshof 8, 30938 Burgwedel-Großburgwedel
END:VEVENT
BEGIN:VEVENT
DTSTAMP:20260422T075913
DTSTART;TZID=Europe/Berlin:20260527T171500
DTEND;TZID=Europe/Berlin:20260527T184500
UID:261SE4141-20260527T171500@VHSZWECKVERBAND VHS HANNOVER LAND
SUMMARY:English für Fortgeschrittene (A2/B1): Short Stories & Conversation (261SE4141) 
LOCATION:Burgwedel; Kulturzentrum-Amtshof; 206, Auf dem Amtshof 8, 30938 Burgwedel-Großburgwedel
END:VEVENT
END:VCALENDAR