BEGIN:VCALENDAR
VERSION:2.0
PRODID:http://www.kufer.de/kuferweb / DE
METHOD:PUBLISH
CALSCALE:GREGORIAN
X-WR-TIMEZONE:Europe/Berlin
BEGIN:VTIMEZONE
TZID:Europe/Berlin
X-LIC-LOCATION:Europe/Berlin
BEGIN:DAYLIGHT
TZOFFSETFROM:+0100
TZOFFSETTO:+0200
TZNAME:CEST
DTSTART;TZID=Europe/Berlin:19700329T020000
RRULE:FREQ=YEARLY;INTERVAL=1;BYDAY=-1SU;BYMONTH=3
END:DAYLIGHT
BEGIN:STANDARD
TZOFFSETFROM:+0200
TZOFFSETTO:+0100
TZNAME:CET
DTSTART;TZID=Europe/Berlin:19701025T030000
RRULE:FREQ=YEARLY;INTERVAL=1;BYDAY=-1SU;BYMONTH=10
END:STANDARD
END:VTIMEZONE
BEGIN:VEVENT
DTSTAMP:20260422T124432
DTSTART;TZID=Europe/Berlin:20260409T140000
DTEND;TZID=Europe/Berlin:20260409T153000
UID:261SE4171-20260409T140000@VHSZWECKVERBAND VHS HANNOVER LAND
SUMMARY:Englisch für fortgeschrittene Anfänger (A1.2): Seniorenkurs (261SE4171) 
LOCATION:Burgwedel; Kulturzentrum-Amtshof; 206, Auf dem Amtshof 8, 30938 Burgwedel-Großburgwedel
END:VEVENT
BEGIN:VEVENT
DTSTAMP:20260422T124432
DTSTART;TZID=Europe/Berlin:20260416T140000
DTEND;TZID=Europe/Berlin:20260416T153000
UID:261SE4171-20260416T140000@VHSZWECKVERBAND VHS HANNOVER LAND
SUMMARY:Englisch für fortgeschrittene Anfänger (A1.2): Seniorenkurs (261SE4171) 
LOCATION:Burgwedel; Kulturzentrum-Amtshof; 206, Auf dem Amtshof 8, 30938 Burgwedel-Großburgwedel
END:VEVENT
BEGIN:VEVENT
DTSTAMP:20260422T124432
DTSTART;TZID=Europe/Berlin:20260423T140000
DTEND;TZID=Europe/Berlin:20260423T153000
UID:261SE4171-20260423T140000@VHSZWECKVERBAND VHS HANNOVER LAND
SUMMARY:Englisch für fortgeschrittene Anfänger (A1.2): Seniorenkurs (261SE4171) 
LOCATION:Burgwedel; Kulturzentrum-Amtshof; 206, Auf dem Amtshof 8, 30938 Burgwedel-Großburgwedel
END:VEVENT
BEGIN:VEVENT
DTSTAMP:20260422T124432
DTSTART;TZID=Europe/Berlin:20260430T140000
DTEND;TZID=Europe/Berlin:20260430T153000
UID:261SE4171-20260430T140000@VHSZWECKVERBAND VHS HANNOVER LAND
SUMMARY:Englisch für fortgeschrittene Anfänger (A1.2): Seniorenkurs (261SE4171) 
LOCATION:Burgwedel; Kulturzentrum-Amtshof; 206, Auf dem Amtshof 8, 30938 Burgwedel-Großburgwedel
END:VEVENT
BEGIN:VEVENT
DTSTAMP:20260422T124432
DTSTART;TZID=Europe/Berlin:20260507T140000
DTEND;TZID=Europe/Berlin:20260507T153000
UID:261SE4171-20260507T140000@VHSZWECKVERBAND VHS HANNOVER LAND
SUMMARY:Englisch für fortgeschrittene Anfänger (A1.2): Seniorenkurs (261SE4171) 
LOCATION:Burgwedel; Kulturzentrum-Amtshof; 206, Auf dem Amtshof 8, 30938 Burgwedel-Großburgwedel
END:VEVENT
BEGIN:VEVENT
DTSTAMP:20260422T124432
DTSTART;TZID=Europe/Berlin:20260521T140000
DTEND;TZID=Europe/Berlin:20260521T153000
UID:261SE4171-20260521T140000@VHSZWECKVERBAND VHS HANNOVER LAND
SUMMARY:Englisch für fortgeschrittene Anfänger (A1.2): Seniorenkurs (261SE4171) 
LOCATION:Burgwedel; Kulturzentrum-Amtshof; 206, Auf dem Amtshof 8, 30938 Burgwedel-Großburgwedel
END:VEVENT
BEGIN:VEVENT
DTSTAMP:20260422T124432
DTSTART;TZID=Europe/Berlin:20260528T140000
DTEND;TZID=Europe/Berlin:20260528T153000
UID:261SE4171-20260528T140000@VHSZWECKVERBAND VHS HANNOVER LAND
SUMMARY:Englisch für fortgeschrittene Anfänger (A1.2): Seniorenkurs (261SE4171) 
LOCATION:Burgwedel; Kulturzentrum-Amtshof; 206, Auf dem Amtshof 8, 30938 Burgwedel-Großburgwedel
END:VEVENT
BEGIN:VEVENT
DTSTAMP:20260422T124432
DTSTART;TZID=Europe/Berlin:20260604T140000
DTEND;TZID=Europe/Berlin:20260604T153000
UID:261SE4171-20260604T140000@VHSZWECKVERBAND VHS HANNOVER LAND
SUMMARY:Englisch für fortgeschrittene Anfänger (A1.2): Seniorenkurs (261SE4171) 
LOCATION:Burgwedel; Kulturzentrum-Amtshof; 206, Auf dem Amtshof 8, 30938 Burgwedel-Großburgwedel
END:VEVENT
BEGIN:VEVENT
DTSTAMP:20260422T124432
DTSTART;TZID=Europe/Berlin:20260611T140000
DTEND;TZID=Europe/Berlin:20260611T153000
UID:261SE4171-20260611T140000@VHSZWECKVERBAND VHS HANNOVER LAND
SUMMARY:Englisch für fortgeschrittene Anfänger (A1.2): Seniorenkurs (261SE4171) 
LOCATION:Burgwedel; Kulturzentrum-Amtshof; 206, Auf dem Amtshof 8, 30938 Burgwedel-Großburgwedel
END:VEVENT
BEGIN:VEVENT
DTSTAMP:20260422T124432
DTSTART;TZID=Europe/Berlin:20260618T140000
DTEND;TZID=Europe/Berlin:20260618T153000
UID:261SE4171-20260618T140000@VHSZWECKVERBAND VHS HANNOVER LAND
SUMMARY:Englisch für fortgeschrittene Anfänger (A1.2): Seniorenkurs (261SE4171) 
LOCATION:Burgwedel; Kulturzentrum-Amtshof; 206, Auf dem Amtshof 8, 30938 Burgwedel-Großburgwedel
END:VEVENT
END:VCALENDAR