BEGIN:VCALENDAR
VERSION:2.0
PRODID:http://www.kufer.de/kuferweb / DE
METHOD:PUBLISH
CALSCALE:GREGORIAN
X-WR-TIMEZONE:Europe/Berlin
BEGIN:VTIMEZONE
TZID:Europe/Berlin
X-LIC-LOCATION:Europe/Berlin
BEGIN:DAYLIGHT
TZOFFSETFROM:+0100
TZOFFSETTO:+0200
TZNAME:CEST
DTSTART;TZID=Europe/Berlin:19700329T020000
RRULE:FREQ=YEARLY;INTERVAL=1;BYDAY=-1SU;BYMONTH=3
END:DAYLIGHT
BEGIN:STANDARD
TZOFFSETFROM:+0200
TZOFFSETTO:+0100
TZNAME:CET
DTSTART;TZID=Europe/Berlin:19701025T030000
RRULE:FREQ=YEARLY;INTERVAL=1;BYDAY=-1SU;BYMONTH=10
END:STANDARD
END:VTIMEZONE
BEGIN:VEVENT
DTSTAMP:20260422T174213
DTSTART;TZID=Europe/Berlin:20260414T091500
DTEND;TZID=Europe/Berlin:20260414T104500
UID:261SE4745-20260414T091500@VHSZWECKVERBAND VHS HANNOVER LAND
SUMMARY:Englisch für Fortgeschrittene (B1): Konversationskurs (261SE4745) 
LOCATION:Wunstorf-Luthe; Dorfgemeinschaftshaus; DG 02, Kirchplatz 2, 31515 Wunstorf
END:VEVENT
BEGIN:VEVENT
DTSTAMP:20260422T174213
DTSTART;TZID=Europe/Berlin:20260421T091500
DTEND;TZID=Europe/Berlin:20260421T104500
UID:261SE4745-20260421T091500@VHSZWECKVERBAND VHS HANNOVER LAND
SUMMARY:Englisch für Fortgeschrittene (B1): Konversationskurs (261SE4745) 
LOCATION:Wunstorf-Luthe; Dorfgemeinschaftshaus; DG 02, Kirchplatz 2, 31515 Wunstorf
END:VEVENT
BEGIN:VEVENT
DTSTAMP:20260422T174213
DTSTART;TZID=Europe/Berlin:20260428T091500
DTEND;TZID=Europe/Berlin:20260428T104500
UID:261SE4745-20260428T091500@VHSZWECKVERBAND VHS HANNOVER LAND
SUMMARY:Englisch für Fortgeschrittene (B1): Konversationskurs (261SE4745) 
LOCATION:Wunstorf-Luthe; Dorfgemeinschaftshaus; DG 02, Kirchplatz 2, 31515 Wunstorf
END:VEVENT
BEGIN:VEVENT
DTSTAMP:20260422T174213
DTSTART;TZID=Europe/Berlin:20260505T091500
DTEND;TZID=Europe/Berlin:20260505T104500
UID:261SE4745-20260505T091500@VHSZWECKVERBAND VHS HANNOVER LAND
SUMMARY:Englisch für Fortgeschrittene (B1): Konversationskurs (261SE4745) 
LOCATION:Wunstorf-Luthe; Dorfgemeinschaftshaus; DG 02, Kirchplatz 2, 31515 Wunstorf
END:VEVENT
BEGIN:VEVENT
DTSTAMP:20260422T174213
DTSTART;TZID=Europe/Berlin:20260512T091500
DTEND;TZID=Europe/Berlin:20260512T104500
UID:261SE4745-20260512T091500@VHSZWECKVERBAND VHS HANNOVER LAND
SUMMARY:Englisch für Fortgeschrittene (B1): Konversationskurs (261SE4745) 
LOCATION:Wunstorf-Luthe; Dorfgemeinschaftshaus; DG 02, Kirchplatz 2, 31515 Wunstorf
END:VEVENT
BEGIN:VEVENT
DTSTAMP:20260422T174213
DTSTART;TZID=Europe/Berlin:20260519T091500
DTEND;TZID=Europe/Berlin:20260519T104500
UID:261SE4745-20260519T091500@VHSZWECKVERBAND VHS HANNOVER LAND
SUMMARY:Englisch für Fortgeschrittene (B1): Konversationskurs (261SE4745) 
LOCATION:Wunstorf-Luthe; Dorfgemeinschaftshaus; DG 02, Kirchplatz 2, 31515 Wunstorf
END:VEVENT
BEGIN:VEVENT
DTSTAMP:20260422T174213
DTSTART;TZID=Europe/Berlin:20260602T091500
DTEND;TZID=Europe/Berlin:20260602T104500
UID:261SE4745-20260602T091500@VHSZWECKVERBAND VHS HANNOVER LAND
SUMMARY:Englisch für Fortgeschrittene (B1): Konversationskurs (261SE4745) 
LOCATION:Wunstorf-Luthe; Dorfgemeinschaftshaus; DG 02, Kirchplatz 2, 31515 Wunstorf
END:VEVENT
END:VCALENDAR