BEGIN:VCALENDAR
VERSION:2.0
PRODID:http://www.kufer.de/kuferweb / DE
METHOD:PUBLISH
CALSCALE:GREGORIAN
X-WR-TIMEZONE:Europe/Berlin
BEGIN:VTIMEZONE
TZID:Europe/Berlin
X-LIC-LOCATION:Europe/Berlin
BEGIN:DAYLIGHT
TZOFFSETFROM:+0100
TZOFFSETTO:+0200
TZNAME:CEST
DTSTART;TZID=Europe/Berlin:19700329T020000
RRULE:FREQ=YEARLY;INTERVAL=1;BYDAY=-1SU;BYMONTH=3
END:DAYLIGHT
BEGIN:STANDARD
TZOFFSETFROM:+0200
TZOFFSETTO:+0100
TZNAME:CET
DTSTART;TZID=Europe/Berlin:19701025T030000
RRULE:FREQ=YEARLY;INTERVAL=1;BYDAY=-1SU;BYMONTH=10
END:STANDARD
END:VTIMEZONE
BEGIN:VEVENT
DTSTAMP:20260422T075913
DTSTART;TZID=Europe/Berlin:20260304T083000
DTEND;TZID=Europe/Berlin:20260304T100000
UID:261SE5722-20260304T083000@VHSZWECKVERBAND VHS HANNOVER LAND
SUMMARY:Englisch für Fortgeschrittene (B2) Konversationskurs (261SE5722) 
LOCATION:Garbsen; Geschäftsstelle vhs (am Planetencenter); AUR1, Planetenring 35, 30823 Garbsen
END:VEVENT
BEGIN:VEVENT
DTSTAMP:20260422T075913
DTSTART;TZID=Europe/Berlin:20260311T083000
DTEND;TZID=Europe/Berlin:20260311T100000
UID:261SE5722-20260311T083000@VHSZWECKVERBAND VHS HANNOVER LAND
SUMMARY:Englisch für Fortgeschrittene (B2) Konversationskurs (261SE5722) 
LOCATION:Garbsen; Geschäftsstelle vhs (am Planetencenter); AUR1, Planetenring 35, 30823 Garbsen
END:VEVENT
BEGIN:VEVENT
DTSTAMP:20260422T075913
DTSTART;TZID=Europe/Berlin:20260318T083000
DTEND;TZID=Europe/Berlin:20260318T100000
UID:261SE5722-20260318T083000@VHSZWECKVERBAND VHS HANNOVER LAND
SUMMARY:Englisch für Fortgeschrittene (B2) Konversationskurs (261SE5722) 
LOCATION:Garbsen; Geschäftsstelle vhs (am Planetencenter); AUR1, Planetenring 35, 30823 Garbsen
END:VEVENT
BEGIN:VEVENT
DTSTAMP:20260422T075913
DTSTART;TZID=Europe/Berlin:20260415T083000
DTEND;TZID=Europe/Berlin:20260415T100000
UID:261SE5722-20260415T083000@VHSZWECKVERBAND VHS HANNOVER LAND
SUMMARY:Englisch für Fortgeschrittene (B2) Konversationskurs (261SE5722) 
LOCATION:Garbsen; Geschäftsstelle vhs (am Planetencenter); AUR1, Planetenring 35, 30823 Garbsen
END:VEVENT
BEGIN:VEVENT
DTSTAMP:20260422T075913
DTSTART;TZID=Europe/Berlin:20260422T083000
DTEND;TZID=Europe/Berlin:20260422T100000
UID:261SE5722-20260422T083000@VHSZWECKVERBAND VHS HANNOVER LAND
SUMMARY:Englisch für Fortgeschrittene (B2) Konversationskurs (261SE5722) 
LOCATION:Garbsen; Geschäftsstelle vhs (am Planetencenter); AUR1, Planetenring 35, 30823 Garbsen
END:VEVENT
BEGIN:VEVENT
DTSTAMP:20260422T075913
DTSTART;TZID=Europe/Berlin:20260429T083000
DTEND;TZID=Europe/Berlin:20260429T100000
UID:261SE5722-20260429T083000@VHSZWECKVERBAND VHS HANNOVER LAND
SUMMARY:Englisch für Fortgeschrittene (B2) Konversationskurs (261SE5722) 
LOCATION:Garbsen; Geschäftsstelle vhs (am Planetencenter); AUR1, Planetenring 35, 30823 Garbsen
END:VEVENT
BEGIN:VEVENT
DTSTAMP:20260422T075913
DTSTART;TZID=Europe/Berlin:20260506T083000
DTEND;TZID=Europe/Berlin:20260506T100000
UID:261SE5722-20260506T083000@VHSZWECKVERBAND VHS HANNOVER LAND
SUMMARY:Englisch für Fortgeschrittene (B2) Konversationskurs (261SE5722) 
LOCATION:Garbsen; Geschäftsstelle vhs (am Planetencenter); AUR1, Planetenring 35, 30823 Garbsen
END:VEVENT
BEGIN:VEVENT
DTSTAMP:20260422T075913
DTSTART;TZID=Europe/Berlin:20260513T083000
DTEND;TZID=Europe/Berlin:20260513T100000
UID:261SE5722-20260513T083000@VHSZWECKVERBAND VHS HANNOVER LAND
SUMMARY:Englisch für Fortgeschrittene (B2) Konversationskurs (261SE5722) 
LOCATION:Garbsen; Geschäftsstelle vhs (am Planetencenter); AUR1, Planetenring 35, 30823 Garbsen
END:VEVENT
BEGIN:VEVENT
DTSTAMP:20260422T075913
DTSTART;TZID=Europe/Berlin:20260520T083000
DTEND;TZID=Europe/Berlin:20260520T100000
UID:261SE5722-20260520T083000@VHSZWECKVERBAND VHS HANNOVER LAND
SUMMARY:Englisch für Fortgeschrittene (B2) Konversationskurs (261SE5722) 
LOCATION:Garbsen; Geschäftsstelle vhs (am Planetencenter); AUR1, Planetenring 35, 30823 Garbsen
END:VEVENT
BEGIN:VEVENT
DTSTAMP:20260422T075913
DTSTART;TZID=Europe/Berlin:20260527T083000
DTEND;TZID=Europe/Berlin:20260527T100000
UID:261SE5722-20260527T083000@VHSZWECKVERBAND VHS HANNOVER LAND
DESCRIPTION:Ersatz für Ausfall am 08.04.2026
SUMMARY:Englisch für Fortgeschrittene (B2) Konversationskurs (261SE5722) 
LOCATION:Garbsen; Geschäftsstelle vhs (am Planetencenter); AUR1, Planetenring 35, 30823 Garbsen
END:VEVENT
END:VCALENDAR