BEGIN:VCALENDAR
VERSION:2.0
PRODID:http://www.kufer.de/kuferweb / DE
METHOD:PUBLISH
CALSCALE:GREGORIAN
X-WR-TIMEZONE:Europe/Berlin
BEGIN:VTIMEZONE
TZID:Europe/Berlin
X-LIC-LOCATION:Europe/Berlin
BEGIN:DAYLIGHT
TZOFFSETFROM:+0100
TZOFFSETTO:+0200
TZNAME:CEST
DTSTART;TZID=Europe/Berlin:19700329T020000
RRULE:FREQ=YEARLY;INTERVAL=1;BYDAY=-1SU;BYMONTH=3
END:DAYLIGHT
BEGIN:STANDARD
TZOFFSETFROM:+0200
TZOFFSETTO:+0100
TZNAME:CET
DTSTART;TZID=Europe/Berlin:19701025T030000
RRULE:FREQ=YEARLY;INTERVAL=1;BYDAY=-1SU;BYMONTH=10
END:STANDARD
END:VTIMEZONE
BEGIN:VEVENT
DTSTAMP:20260422T075859
DTSTART;TZID=Europe/Berlin:20260209T174500
DTEND;TZID=Europe/Berlin:20260209T191500
UID:261SF3111-20260209T174500@VHSZWECKVERBAND VHS HANNOVER LAND
SUMMARY:Französisch für Fortgeschrittene (B1): Grammatik und Konversation (261SF3111) 
LOCATION:Burgwedel; Kulturzentrum-Amtshof; 107, Auf dem Amtshof 8, 30938 Burgwedel-Großburgwedel
END:VEVENT
BEGIN:VEVENT
DTSTAMP:20260422T075859
DTSTART;TZID=Europe/Berlin:20260216T174500
DTEND;TZID=Europe/Berlin:20260216T191500
UID:261SF3111-20260216T174500@VHSZWECKVERBAND VHS HANNOVER LAND
SUMMARY:Französisch für Fortgeschrittene (B1): Grammatik und Konversation (261SF3111) 
LOCATION:Burgwedel; Kulturzentrum-Amtshof; 107, Auf dem Amtshof 8, 30938 Burgwedel-Großburgwedel
END:VEVENT
BEGIN:VEVENT
DTSTAMP:20260422T075859
DTSTART;TZID=Europe/Berlin:20260223T174500
DTEND;TZID=Europe/Berlin:20260223T191500
UID:261SF3111-20260223T174500@VHSZWECKVERBAND VHS HANNOVER LAND
SUMMARY:Französisch für Fortgeschrittene (B1): Grammatik und Konversation (261SF3111) 
LOCATION:Burgwedel; Kulturzentrum-Amtshof; 107, Auf dem Amtshof 8, 30938 Burgwedel-Großburgwedel
END:VEVENT
BEGIN:VEVENT
DTSTAMP:20260422T075859
DTSTART;TZID=Europe/Berlin:20260302T174500
DTEND;TZID=Europe/Berlin:20260302T191500
UID:261SF3111-20260302T174500@VHSZWECKVERBAND VHS HANNOVER LAND
SUMMARY:Französisch für Fortgeschrittene (B1): Grammatik und Konversation (261SF3111) 
LOCATION:Burgwedel; Kulturzentrum-Amtshof; 107, Auf dem Amtshof 8, 30938 Burgwedel-Großburgwedel
END:VEVENT
BEGIN:VEVENT
DTSTAMP:20260422T075859
DTSTART;TZID=Europe/Berlin:20260309T174500
DTEND;TZID=Europe/Berlin:20260309T191500
UID:261SF3111-20260309T174500@VHSZWECKVERBAND VHS HANNOVER LAND
SUMMARY:Französisch für Fortgeschrittene (B1): Grammatik und Konversation (261SF3111) 
LOCATION:Burgwedel; Kulturzentrum-Amtshof; 107, Auf dem Amtshof 8, 30938 Burgwedel-Großburgwedel
END:VEVENT
BEGIN:VEVENT
DTSTAMP:20260422T075859
DTSTART;TZID=Europe/Berlin:20260316T174500
DTEND;TZID=Europe/Berlin:20260316T191500
UID:261SF3111-20260316T174500@VHSZWECKVERBAND VHS HANNOVER LAND
SUMMARY:Französisch für Fortgeschrittene (B1): Grammatik und Konversation (261SF3111) 
LOCATION:Burgwedel; Kulturzentrum-Amtshof; 107, Auf dem Amtshof 8, 30938 Burgwedel-Großburgwedel
END:VEVENT
BEGIN:VEVENT
DTSTAMP:20260422T075859
DTSTART;TZID=Europe/Berlin:20260413T174500
DTEND;TZID=Europe/Berlin:20260413T191500
UID:261SF3111-20260413T174500@VHSZWECKVERBAND VHS HANNOVER LAND
SUMMARY:Französisch für Fortgeschrittene (B1): Grammatik und Konversation (261SF3111) 
LOCATION:Burgwedel; Kulturzentrum-Amtshof; 107, Auf dem Amtshof 8, 30938 Burgwedel-Großburgwedel
END:VEVENT
BEGIN:VEVENT
DTSTAMP:20260422T075859
DTSTART;TZID=Europe/Berlin:20260420T174500
DTEND;TZID=Europe/Berlin:20260420T191500
UID:261SF3111-20260420T174500@VHSZWECKVERBAND VHS HANNOVER LAND
SUMMARY:Französisch für Fortgeschrittene (B1): Grammatik und Konversation (261SF3111) 
LOCATION:Burgwedel; Kulturzentrum-Amtshof; 107, Auf dem Amtshof 8, 30938 Burgwedel-Großburgwedel
END:VEVENT
BEGIN:VEVENT
DTSTAMP:20260422T075859
DTSTART;TZID=Europe/Berlin:20260427T174500
DTEND;TZID=Europe/Berlin:20260427T191500
UID:261SF3111-20260427T174500@VHSZWECKVERBAND VHS HANNOVER LAND
SUMMARY:Französisch für Fortgeschrittene (B1): Grammatik und Konversation (261SF3111) 
LOCATION:Burgwedel; Kulturzentrum-Amtshof; 107, Auf dem Amtshof 8, 30938 Burgwedel-Großburgwedel
END:VEVENT
BEGIN:VEVENT
DTSTAMP:20260422T075859
DTSTART;TZID=Europe/Berlin:20260504T174500
DTEND;TZID=Europe/Berlin:20260504T191500
UID:261SF3111-20260504T174500@VHSZWECKVERBAND VHS HANNOVER LAND
SUMMARY:Französisch für Fortgeschrittene (B1): Grammatik und Konversation (261SF3111) 
LOCATION:Burgwedel; Kulturzentrum-Amtshof; 107, Auf dem Amtshof 8, 30938 Burgwedel-Großburgwedel
END:VEVENT
BEGIN:VEVENT
DTSTAMP:20260422T075859
DTSTART;TZID=Europe/Berlin:20260511T174500
DTEND;TZID=Europe/Berlin:20260511T191500
UID:261SF3111-20260511T174500@VHSZWECKVERBAND VHS HANNOVER LAND
SUMMARY:Französisch für Fortgeschrittene (B1): Grammatik und Konversation (261SF3111) 
LOCATION:Burgwedel; Kulturzentrum-Amtshof; 107, Auf dem Amtshof 8, 30938 Burgwedel-Großburgwedel
END:VEVENT
BEGIN:VEVENT
DTSTAMP:20260422T075859
DTSTART;TZID=Europe/Berlin:20260518T174500
DTEND;TZID=Europe/Berlin:20260518T191500
UID:261SF3111-20260518T174500@VHSZWECKVERBAND VHS HANNOVER LAND
SUMMARY:Französisch für Fortgeschrittene (B1): Grammatik und Konversation (261SF3111) 
LOCATION:Burgwedel; Kulturzentrum-Amtshof; 107, Auf dem Amtshof 8, 30938 Burgwedel-Großburgwedel
END:VEVENT
END:VCALENDAR