BEGIN:VCALENDAR
VERSION:2.0
PRODID:http://www.kufer.de/kuferweb / DE
METHOD:PUBLISH
CALSCALE:GREGORIAN
X-WR-TIMEZONE:Europe/Berlin
BEGIN:VTIMEZONE
TZID:Europe/Berlin
X-LIC-LOCATION:Europe/Berlin
BEGIN:DAYLIGHT
TZOFFSETFROM:+0100
TZOFFSETTO:+0200
TZNAME:CEST
DTSTART;TZID=Europe/Berlin:19700329T020000
RRULE:FREQ=YEARLY;INTERVAL=1;BYDAY=-1SU;BYMONTH=3
END:DAYLIGHT
BEGIN:STANDARD
TZOFFSETFROM:+0200
TZOFFSETTO:+0100
TZNAME:CET
DTSTART;TZID=Europe/Berlin:19701025T030000
RRULE:FREQ=YEARLY;INTERVAL=1;BYDAY=-1SU;BYMONTH=10
END:STANDARD
END:VTIMEZONE
BEGIN:VEVENT
DTSTAMP:20260422T075858
DTSTART;TZID=Europe/Berlin:20260205T180000
DTEND;TZID=Europe/Berlin:20260205T193000
UID:261SF3131-20260205T180000@VHSZWECKVERBAND VHS HANNOVER LAND
SUMMARY:Französisch für Fortgeschrittene (A2) (261SF3131) 
LOCATION:Burgwedel; Kulturzentrum-Amtshof; 201, Auf dem Amtshof 8, 30938 Burgwedel-Großburgwedel
END:VEVENT
BEGIN:VEVENT
DTSTAMP:20260422T075858
DTSTART;TZID=Europe/Berlin:20260219T180000
DTEND;TZID=Europe/Berlin:20260219T193000
UID:261SF3131-20260219T180000@VHSZWECKVERBAND VHS HANNOVER LAND
SUMMARY:Französisch für Fortgeschrittene (A2) (261SF3131) 
LOCATION:Burgwedel; Kulturzentrum-Amtshof; 201, Auf dem Amtshof 8, 30938 Burgwedel-Großburgwedel
END:VEVENT
BEGIN:VEVENT
DTSTAMP:20260422T075858
DTSTART;TZID=Europe/Berlin:20260226T180000
DTEND;TZID=Europe/Berlin:20260226T193000
UID:261SF3131-20260226T180000@VHSZWECKVERBAND VHS HANNOVER LAND
SUMMARY:Französisch für Fortgeschrittene (A2) (261SF3131) 
LOCATION:Burgwedel; Kulturzentrum-Amtshof; 201, Auf dem Amtshof 8, 30938 Burgwedel-Großburgwedel
END:VEVENT
BEGIN:VEVENT
DTSTAMP:20260422T075858
DTSTART;TZID=Europe/Berlin:20260305T180000
DTEND;TZID=Europe/Berlin:20260305T193000
UID:261SF3131-20260305T180000@VHSZWECKVERBAND VHS HANNOVER LAND
SUMMARY:Französisch für Fortgeschrittene (A2) (261SF3131) 
LOCATION:Burgwedel; Kulturzentrum-Amtshof; 201, Auf dem Amtshof 8, 30938 Burgwedel-Großburgwedel
END:VEVENT
BEGIN:VEVENT
DTSTAMP:20260422T075858
DTSTART;TZID=Europe/Berlin:20260312T180000
DTEND;TZID=Europe/Berlin:20260312T193000
UID:261SF3131-20260312T180000@VHSZWECKVERBAND VHS HANNOVER LAND
SUMMARY:Französisch für Fortgeschrittene (A2) (261SF3131) 
LOCATION:Burgwedel; Kulturzentrum-Amtshof; 201, Auf dem Amtshof 8, 30938 Burgwedel-Großburgwedel
END:VEVENT
BEGIN:VEVENT
DTSTAMP:20260422T075858
DTSTART;TZID=Europe/Berlin:20260319T180000
DTEND;TZID=Europe/Berlin:20260319T193000
UID:261SF3131-20260319T180000@VHSZWECKVERBAND VHS HANNOVER LAND
SUMMARY:Französisch für Fortgeschrittene (A2) (261SF3131) 
LOCATION:Burgwedel; Kulturzentrum-Amtshof; 206, Auf dem Amtshof 8, 30938 Burgwedel-Großburgwedel
END:VEVENT
BEGIN:VEVENT
DTSTAMP:20260422T075858
DTSTART;TZID=Europe/Berlin:20260409T180000
DTEND;TZID=Europe/Berlin:20260409T193000
UID:261SF3131-20260409T180000@VHSZWECKVERBAND VHS HANNOVER LAND
SUMMARY:Französisch für Fortgeschrittene (A2) (261SF3131) 
LOCATION:Burgwedel; Kulturzentrum-Amtshof; 201, Auf dem Amtshof 8, 30938 Burgwedel-Großburgwedel
END:VEVENT
BEGIN:VEVENT
DTSTAMP:20260422T075858
DTSTART;TZID=Europe/Berlin:20260416T180000
DTEND;TZID=Europe/Berlin:20260416T193000
UID:261SF3131-20260416T180000@VHSZWECKVERBAND VHS HANNOVER LAND
SUMMARY:Französisch für Fortgeschrittene (A2) (261SF3131) 
LOCATION:Burgwedel; Kulturzentrum-Amtshof; 201, Auf dem Amtshof 8, 30938 Burgwedel-Großburgwedel
END:VEVENT
BEGIN:VEVENT
DTSTAMP:20260422T075858
DTSTART;TZID=Europe/Berlin:20260423T180000
DTEND;TZID=Europe/Berlin:20260423T193000
UID:261SF3131-20260423T180000@VHSZWECKVERBAND VHS HANNOVER LAND
SUMMARY:Französisch für Fortgeschrittene (A2) (261SF3131) 
LOCATION:Burgwedel; Kulturzentrum-Amtshof; 201, Auf dem Amtshof 8, 30938 Burgwedel-Großburgwedel
END:VEVENT
BEGIN:VEVENT
DTSTAMP:20260422T075858
DTSTART;TZID=Europe/Berlin:20260430T180000
DTEND;TZID=Europe/Berlin:20260430T193000
UID:261SF3131-20260430T180000@VHSZWECKVERBAND VHS HANNOVER LAND
SUMMARY:Französisch für Fortgeschrittene (A2) (261SF3131) 
LOCATION:Burgwedel; Kulturzentrum-Amtshof; 201, Auf dem Amtshof 8, 30938 Burgwedel-Großburgwedel
END:VEVENT
BEGIN:VEVENT
DTSTAMP:20260422T075858
DTSTART;TZID=Europe/Berlin:20260507T180000
DTEND;TZID=Europe/Berlin:20260507T193000
UID:261SF3131-20260507T180000@VHSZWECKVERBAND VHS HANNOVER LAND
SUMMARY:Französisch für Fortgeschrittene (A2) (261SF3131) 
LOCATION:Burgwedel; Kulturzentrum-Amtshof; 201, Auf dem Amtshof 8, 30938 Burgwedel-Großburgwedel
END:VEVENT
BEGIN:VEVENT
DTSTAMP:20260422T075858
DTSTART;TZID=Europe/Berlin:20260521T180000
DTEND;TZID=Europe/Berlin:20260521T193000
UID:261SF3131-20260521T180000@VHSZWECKVERBAND VHS HANNOVER LAND
DESCRIPTION:Ersatz für Ausfall am 12.02.2026
SUMMARY:Französisch für Fortgeschrittene (A2) (261SF3131) 
LOCATION:Burgwedel; Kulturzentrum-Amtshof; 201, Auf dem Amtshof 8, 30938 Burgwedel-Großburgwedel
END:VEVENT
END:VCALENDAR