BEGIN:VCALENDAR
VERSION:2.0
PRODID:http://www.kufer.de/kuferweb / DE
METHOD:PUBLISH
CALSCALE:GREGORIAN
X-WR-TIMEZONE:Europe/Berlin
BEGIN:VTIMEZONE
TZID:Europe/Berlin
X-LIC-LOCATION:Europe/Berlin
BEGIN:DAYLIGHT
TZOFFSETFROM:+0100
TZOFFSETTO:+0200
TZNAME:CEST
DTSTART;TZID=Europe/Berlin:19700329T020000
RRULE:FREQ=YEARLY;INTERVAL=1;BYDAY=-1SU;BYMONTH=3
END:DAYLIGHT
BEGIN:STANDARD
TZOFFSETFROM:+0200
TZOFFSETTO:+0100
TZNAME:CET
DTSTART;TZID=Europe/Berlin:19701025T030000
RRULE:FREQ=YEARLY;INTERVAL=1;BYDAY=-1SU;BYMONTH=10
END:STANDARD
END:VTIMEZONE
BEGIN:VEVENT
DTSTAMP:20260422T075924
DTSTART;TZID=Europe/Berlin:20260414T102500
DTEND;TZID=Europe/Berlin:20260414T115500
UID:261SF3142-20260414T102500@VHSZWECKVERBAND VHS HANNOVER LAND
SUMMARY:Französisch für Wiedereinsteiger (A1): Seniorenkurs (261SF3142) 
LOCATION:Garbsen; Geschäftsstelle vhs (am Planetencenter); AUR1, Planetenring 35, 30823 Garbsen
END:VEVENT
BEGIN:VEVENT
DTSTAMP:20260422T075924
DTSTART;TZID=Europe/Berlin:20260421T102500
DTEND;TZID=Europe/Berlin:20260421T115500
UID:261SF3142-20260421T102500@VHSZWECKVERBAND VHS HANNOVER LAND
SUMMARY:Französisch für Wiedereinsteiger (A1): Seniorenkurs (261SF3142) 
LOCATION:Garbsen; Geschäftsstelle vhs (am Planetencenter); AUR1, Planetenring 35, 30823 Garbsen
END:VEVENT
BEGIN:VEVENT
DTSTAMP:20260422T075924
DTSTART;TZID=Europe/Berlin:20260428T102500
DTEND;TZID=Europe/Berlin:20260428T115500
UID:261SF3142-20260428T102500@VHSZWECKVERBAND VHS HANNOVER LAND
SUMMARY:Französisch für Wiedereinsteiger (A1): Seniorenkurs (261SF3142) 
LOCATION:Garbsen; Geschäftsstelle vhs (am Planetencenter); AUR1, Planetenring 35, 30823 Garbsen
END:VEVENT
BEGIN:VEVENT
DTSTAMP:20260422T075924
DTSTART;TZID=Europe/Berlin:20260505T102500
DTEND;TZID=Europe/Berlin:20260505T115500
UID:261SF3142-20260505T102500@VHSZWECKVERBAND VHS HANNOVER LAND
SUMMARY:Französisch für Wiedereinsteiger (A1): Seniorenkurs (261SF3142) 
LOCATION:Garbsen; Geschäftsstelle vhs (am Planetencenter); AUR1, Planetenring 35, 30823 Garbsen
END:VEVENT
BEGIN:VEVENT
DTSTAMP:20260422T075924
DTSTART;TZID=Europe/Berlin:20260512T102500
DTEND;TZID=Europe/Berlin:20260512T115500
UID:261SF3142-20260512T102500@VHSZWECKVERBAND VHS HANNOVER LAND
SUMMARY:Französisch für Wiedereinsteiger (A1): Seniorenkurs (261SF3142) 
LOCATION:Garbsen; Geschäftsstelle vhs (am Planetencenter); AUR1, Planetenring 35, 30823 Garbsen
END:VEVENT
BEGIN:VEVENT
DTSTAMP:20260422T075924
DTSTART;TZID=Europe/Berlin:20260519T102500
DTEND;TZID=Europe/Berlin:20260519T115500
UID:261SF3142-20260519T102500@VHSZWECKVERBAND VHS HANNOVER LAND
SUMMARY:Französisch für Wiedereinsteiger (A1): Seniorenkurs (261SF3142) 
LOCATION:Garbsen; Geschäftsstelle vhs (am Planetencenter); AUR1, Planetenring 35, 30823 Garbsen
END:VEVENT
END:VCALENDAR