BEGIN:VCALENDAR
VERSION:2.0
PRODID:http://www.kufer.de/kuferweb / DE
METHOD:PUBLISH
CALSCALE:GREGORIAN
X-WR-TIMEZONE:Europe/Berlin
BEGIN:VTIMEZONE
TZID:Europe/Berlin
X-LIC-LOCATION:Europe/Berlin
BEGIN:DAYLIGHT
TZOFFSETFROM:+0100
TZOFFSETTO:+0200
TZNAME:CEST
DTSTART;TZID=Europe/Berlin:19700329T020000
RRULE:FREQ=YEARLY;INTERVAL=1;BYDAY=-1SU;BYMONTH=3
END:DAYLIGHT
BEGIN:STANDARD
TZOFFSETFROM:+0200
TZOFFSETTO:+0100
TZNAME:CET
DTSTART;TZID=Europe/Berlin:19701025T030000
RRULE:FREQ=YEARLY;INTERVAL=1;BYDAY=-1SU;BYMONTH=10
END:STANDARD
END:VTIMEZONE
BEGIN:VEVENT
DTSTAMP:20260422T093553
DTSTART;TZID=Europe/Berlin:20260205T090000
DTEND;TZID=Europe/Berlin:20260205T103000
UID:261SF6712-20260205T090000@VHSZWECKVERBAND VHS HANNOVER LAND
SUMMARY:Französisch für Profis (C1): Conversation matinale (261SF6712) 
LOCATION:Garbsen; Geschäftsstelle vhs (am Planetencenter); AUR1, Planetenring 35, 30823 Garbsen
END:VEVENT
BEGIN:VEVENT
DTSTAMP:20260422T093553
DTSTART;TZID=Europe/Berlin:20260212T090000
DTEND;TZID=Europe/Berlin:20260212T103000
UID:261SF6712-20260212T090000@VHSZWECKVERBAND VHS HANNOVER LAND
SUMMARY:Französisch für Profis (C1): Conversation matinale (261SF6712) 
LOCATION:Garbsen; Geschäftsstelle vhs (am Planetencenter); AUR1, Planetenring 35, 30823 Garbsen
END:VEVENT
BEGIN:VEVENT
DTSTAMP:20260422T093553
DTSTART;TZID=Europe/Berlin:20260219T090000
DTEND;TZID=Europe/Berlin:20260219T103000
UID:261SF6712-20260219T090000@VHSZWECKVERBAND VHS HANNOVER LAND
SUMMARY:Französisch für Profis (C1): Conversation matinale (261SF6712) 
LOCATION:Garbsen; Geschäftsstelle vhs (am Planetencenter); AUR1, Planetenring 35, 30823 Garbsen
END:VEVENT
BEGIN:VEVENT
DTSTAMP:20260422T093553
DTSTART;TZID=Europe/Berlin:20260226T090000
DTEND;TZID=Europe/Berlin:20260226T103000
UID:261SF6712-20260226T090000@VHSZWECKVERBAND VHS HANNOVER LAND
SUMMARY:Französisch für Profis (C1): Conversation matinale (261SF6712) 
LOCATION:Garbsen; Geschäftsstelle vhs (am Planetencenter); AUR1, Planetenring 35, 30823 Garbsen
END:VEVENT
BEGIN:VEVENT
DTSTAMP:20260422T093553
DTSTART;TZID=Europe/Berlin:20260305T090000
DTEND;TZID=Europe/Berlin:20260305T103000
UID:261SF6712-20260305T090000@VHSZWECKVERBAND VHS HANNOVER LAND
SUMMARY:Französisch für Profis (C1): Conversation matinale (261SF6712) 
LOCATION:Garbsen; Geschäftsstelle vhs (am Planetencenter); AUR1, Planetenring 35, 30823 Garbsen
END:VEVENT
BEGIN:VEVENT
DTSTAMP:20260422T093553
DTSTART;TZID=Europe/Berlin:20260312T090000
DTEND;TZID=Europe/Berlin:20260312T103000
UID:261SF6712-20260312T090000@VHSZWECKVERBAND VHS HANNOVER LAND
SUMMARY:Französisch für Profis (C1): Conversation matinale (261SF6712) 
LOCATION:Garbsen; Geschäftsstelle vhs (am Planetencenter); AUR1, Planetenring 35, 30823 Garbsen
END:VEVENT
BEGIN:VEVENT
DTSTAMP:20260422T093553
DTSTART;TZID=Europe/Berlin:20260319T090000
DTEND;TZID=Europe/Berlin:20260319T103000
UID:261SF6712-20260319T090000@VHSZWECKVERBAND VHS HANNOVER LAND
SUMMARY:Französisch für Profis (C1): Conversation matinale (261SF6712) 
LOCATION:Garbsen; Geschäftsstelle vhs (am Planetencenter); AUR1, Planetenring 35, 30823 Garbsen
END:VEVENT
BEGIN:VEVENT
DTSTAMP:20260422T093553
DTSTART;TZID=Europe/Berlin:20260409T090000
DTEND;TZID=Europe/Berlin:20260409T103000
UID:261SF6712-20260409T090000@VHSZWECKVERBAND VHS HANNOVER LAND
SUMMARY:Französisch für Profis (C1): Conversation matinale (261SF6712) 
LOCATION:Garbsen; Geschäftsstelle vhs (am Planetencenter); AUR1, Planetenring 35, 30823 Garbsen
END:VEVENT
BEGIN:VEVENT
DTSTAMP:20260422T093553
DTSTART;TZID=Europe/Berlin:20260416T090000
DTEND;TZID=Europe/Berlin:20260416T103000
UID:261SF6712-20260416T090000@VHSZWECKVERBAND VHS HANNOVER LAND
SUMMARY:Französisch für Profis (C1): Conversation matinale (261SF6712) 
LOCATION:Garbsen; Geschäftsstelle vhs (am Planetencenter); AUR1, Planetenring 35, 30823 Garbsen
END:VEVENT
BEGIN:VEVENT
DTSTAMP:20260422T093553
DTSTART;TZID=Europe/Berlin:20260423T090000
DTEND;TZID=Europe/Berlin:20260423T103000
UID:261SF6712-20260423T090000@VHSZWECKVERBAND VHS HANNOVER LAND
SUMMARY:Französisch für Profis (C1): Conversation matinale (261SF6712) 
LOCATION:Garbsen; Geschäftsstelle vhs (am Planetencenter); AUR1, Planetenring 35, 30823 Garbsen
END:VEVENT
BEGIN:VEVENT
DTSTAMP:20260422T093553
DTSTART;TZID=Europe/Berlin:20260430T090000
DTEND;TZID=Europe/Berlin:20260430T103000
UID:261SF6712-20260430T090000@VHSZWECKVERBAND VHS HANNOVER LAND
SUMMARY:Französisch für Profis (C1): Conversation matinale (261SF6712) 
LOCATION:Garbsen; Geschäftsstelle vhs (am Planetencenter); AUR1, Planetenring 35, 30823 Garbsen
END:VEVENT
BEGIN:VEVENT
DTSTAMP:20260422T093553
DTSTART;TZID=Europe/Berlin:20260507T090000
DTEND;TZID=Europe/Berlin:20260507T103000
UID:261SF6712-20260507T090000@VHSZWECKVERBAND VHS HANNOVER LAND
SUMMARY:Französisch für Profis (C1): Conversation matinale (261SF6712) 
LOCATION:Garbsen; Geschäftsstelle vhs (am Planetencenter); AUR1, Planetenring 35, 30823 Garbsen
END:VEVENT
BEGIN:VEVENT
DTSTAMP:20260422T093553
DTSTART;TZID=Europe/Berlin:20260521T090000
DTEND;TZID=Europe/Berlin:20260521T103000
UID:261SF6712-20260521T090000@VHSZWECKVERBAND VHS HANNOVER LAND
SUMMARY:Französisch für Profis (C1): Conversation matinale (261SF6712) 
LOCATION:Garbsen; Geschäftsstelle vhs (am Planetencenter); AUR1, Planetenring 35, 30823 Garbsen
END:VEVENT
BEGIN:VEVENT
DTSTAMP:20260422T093553
DTSTART;TZID=Europe/Berlin:20260604T090000
DTEND;TZID=Europe/Berlin:20260604T103000
UID:261SF6712-20260604T090000@VHSZWECKVERBAND VHS HANNOVER LAND
SUMMARY:Französisch für Profis (C1): Conversation matinale (261SF6712) 
LOCATION:Garbsen; Geschäftsstelle vhs (am Planetencenter); AUR1, Planetenring 35, 30823 Garbsen
END:VEVENT
BEGIN:VEVENT
DTSTAMP:20260422T093553
DTSTART;TZID=Europe/Berlin:20260618T090000
DTEND;TZID=Europe/Berlin:20260618T103000
UID:261SF6712-20260618T090000@VHSZWECKVERBAND VHS HANNOVER LAND
SUMMARY:Französisch für Profis (C1): Conversation matinale (261SF6712) 
LOCATION:Garbsen; Geschäftsstelle vhs (am Planetencenter); AUR1, Planetenring 35, 30823 Garbsen
END:VEVENT
END:VCALENDAR