BEGIN:VCALENDAR
VERSION:2.0
PRODID:http://www.kufer.de/kuferweb / DE
METHOD:PUBLISH
CALSCALE:GREGORIAN
X-WR-TIMEZONE:Europe/Berlin
BEGIN:VTIMEZONE
TZID:Europe/Berlin
X-LIC-LOCATION:Europe/Berlin
BEGIN:DAYLIGHT
TZOFFSETFROM:+0100
TZOFFSETTO:+0200
TZNAME:CEST
DTSTART;TZID=Europe/Berlin:19700329T020000
RRULE:FREQ=YEARLY;INTERVAL=1;BYDAY=-1SU;BYMONTH=3
END:DAYLIGHT
BEGIN:STANDARD
TZOFFSETFROM:+0200
TZOFFSETTO:+0100
TZNAME:CET
DTSTART;TZID=Europe/Berlin:19701025T030000
RRULE:FREQ=YEARLY;INTERVAL=1;BYDAY=-1SU;BYMONTH=10
END:STANDARD
END:VTIMEZONE
BEGIN:VEVENT
DTSTAMP:20260422T075941
DTSTART;TZID=Europe/Berlin:20260209T183000
DTEND;TZID=Europe/Berlin:20260209T200000
UID:261SI4111-20260209T183000@VHSZWECKVERBAND VHS HANNOVER LAND
SUMMARY:Italienisch für Fortgeschrittene (B1.2) (261SI4111) 
LOCATION:Burgwedel; Kulturzentrum-Amtshof; 201, Auf dem Amtshof 8, 30938 Burgwedel-Großburgwedel
END:VEVENT
BEGIN:VEVENT
DTSTAMP:20260422T075941
DTSTART;TZID=Europe/Berlin:20260216T183000
DTEND;TZID=Europe/Berlin:20260216T200000
UID:261SI4111-20260216T183000@VHSZWECKVERBAND VHS HANNOVER LAND
SUMMARY:Italienisch für Fortgeschrittene (B1.2) (261SI4111) 
LOCATION:Burgwedel; Kulturzentrum-Amtshof; 201, Auf dem Amtshof 8, 30938 Burgwedel-Großburgwedel
END:VEVENT
BEGIN:VEVENT
DTSTAMP:20260422T075941
DTSTART;TZID=Europe/Berlin:20260223T183000
DTEND;TZID=Europe/Berlin:20260223T200000
UID:261SI4111-20260223T183000@VHSZWECKVERBAND VHS HANNOVER LAND
SUMMARY:Italienisch für Fortgeschrittene (B1.2) (261SI4111) 
LOCATION:Burgwedel; Kulturzentrum-Amtshof; 201, Auf dem Amtshof 8, 30938 Burgwedel-Großburgwedel
END:VEVENT
BEGIN:VEVENT
DTSTAMP:20260422T075941
DTSTART;TZID=Europe/Berlin:20260302T183000
DTEND;TZID=Europe/Berlin:20260302T200000
UID:261SI4111-20260302T183000@VHSZWECKVERBAND VHS HANNOVER LAND
SUMMARY:Italienisch für Fortgeschrittene (B1.2) (261SI4111) 
LOCATION:Burgwedel; Kulturzentrum-Amtshof; 201, Auf dem Amtshof 8, 30938 Burgwedel-Großburgwedel
END:VEVENT
BEGIN:VEVENT
DTSTAMP:20260422T075941
DTSTART;TZID=Europe/Berlin:20260309T183000
DTEND;TZID=Europe/Berlin:20260309T200000
UID:261SI4111-20260309T183000@VHSZWECKVERBAND VHS HANNOVER LAND
SUMMARY:Italienisch für Fortgeschrittene (B1.2) (261SI4111) 
LOCATION:Burgwedel; Kulturzentrum-Amtshof; 201, Auf dem Amtshof 8, 30938 Burgwedel-Großburgwedel
END:VEVENT
BEGIN:VEVENT
DTSTAMP:20260422T075941
DTSTART;TZID=Europe/Berlin:20260316T183000
DTEND;TZID=Europe/Berlin:20260316T200000
UID:261SI4111-20260316T183000@VHSZWECKVERBAND VHS HANNOVER LAND
SUMMARY:Italienisch für Fortgeschrittene (B1.2) (261SI4111) 
LOCATION:Burgwedel; Kulturzentrum-Amtshof; 201, Auf dem Amtshof 8, 30938 Burgwedel-Großburgwedel
END:VEVENT
BEGIN:VEVENT
DTSTAMP:20260422T075941
DTSTART;TZID=Europe/Berlin:20260413T183000
DTEND;TZID=Europe/Berlin:20260413T200000
UID:261SI4111-20260413T183000@VHSZWECKVERBAND VHS HANNOVER LAND
SUMMARY:Italienisch für Fortgeschrittene (B1.2) (261SI4111) 
LOCATION:Burgwedel; Kulturzentrum-Amtshof; 201, Auf dem Amtshof 8, 30938 Burgwedel-Großburgwedel
END:VEVENT
BEGIN:VEVENT
DTSTAMP:20260422T075941
DTSTART;TZID=Europe/Berlin:20260420T183000
DTEND;TZID=Europe/Berlin:20260420T200000
UID:261SI4111-20260420T183000@VHSZWECKVERBAND VHS HANNOVER LAND
SUMMARY:Italienisch für Fortgeschrittene (B1.2) (261SI4111) 
LOCATION:Burgwedel; Kulturzentrum-Amtshof; 201, Auf dem Amtshof 8, 30938 Burgwedel-Großburgwedel
END:VEVENT
BEGIN:VEVENT
DTSTAMP:20260422T075941
DTSTART;TZID=Europe/Berlin:20260427T183000
DTEND;TZID=Europe/Berlin:20260427T200000
UID:261SI4111-20260427T183000@VHSZWECKVERBAND VHS HANNOVER LAND
SUMMARY:Italienisch für Fortgeschrittene (B1.2) (261SI4111) 
LOCATION:Burgwedel; Kulturzentrum-Amtshof; 201, Auf dem Amtshof 8, 30938 Burgwedel-Großburgwedel
END:VEVENT
BEGIN:VEVENT
DTSTAMP:20260422T075941
DTSTART;TZID=Europe/Berlin:20260504T183000
DTEND;TZID=Europe/Berlin:20260504T200000
UID:261SI4111-20260504T183000@VHSZWECKVERBAND VHS HANNOVER LAND
SUMMARY:Italienisch für Fortgeschrittene (B1.2) (261SI4111) 
LOCATION:Burgwedel; Kulturzentrum-Amtshof; 201, Auf dem Amtshof 8, 30938 Burgwedel-Großburgwedel
END:VEVENT
BEGIN:VEVENT
DTSTAMP:20260422T075941
DTSTART;TZID=Europe/Berlin:20260511T183000
DTEND;TZID=Europe/Berlin:20260511T200000
UID:261SI4111-20260511T183000@VHSZWECKVERBAND VHS HANNOVER LAND
SUMMARY:Italienisch für Fortgeschrittene (B1.2) (261SI4111) 
LOCATION:Burgwedel; Kulturzentrum-Amtshof; 201, Auf dem Amtshof 8, 30938 Burgwedel-Großburgwedel
END:VEVENT
BEGIN:VEVENT
DTSTAMP:20260422T075941
DTSTART;TZID=Europe/Berlin:20260518T183000
DTEND;TZID=Europe/Berlin:20260518T200000
UID:261SI4111-20260518T183000@VHSZWECKVERBAND VHS HANNOVER LAND
SUMMARY:Italienisch für Fortgeschrittene (B1.2) (261SI4111) 
LOCATION:Burgwedel; Kulturzentrum-Amtshof; 201, Auf dem Amtshof 8, 30938 Burgwedel-Großburgwedel
END:VEVENT
END:VCALENDAR