BEGIN:VCALENDAR
VERSION:2.0
PRODID:http://www.kufer.de/kuferweb / DE
METHOD:PUBLISH
CALSCALE:GREGORIAN
X-WR-TIMEZONE:Europe/Berlin
BEGIN:VTIMEZONE
TZID:Europe/Berlin
X-LIC-LOCATION:Europe/Berlin
BEGIN:DAYLIGHT
TZOFFSETFROM:+0100
TZOFFSETTO:+0200
TZNAME:CEST
DTSTART;TZID=Europe/Berlin:19700329T020000
RRULE:FREQ=YEARLY;INTERVAL=1;BYDAY=-1SU;BYMONTH=3
END:DAYLIGHT
BEGIN:STANDARD
TZOFFSETFROM:+0200
TZOFFSETTO:+0100
TZNAME:CET
DTSTART;TZID=Europe/Berlin:19701025T030000
RRULE:FREQ=YEARLY;INTERVAL=1;BYDAY=-1SU;BYMONTH=10
END:STANDARD
END:VTIMEZONE
BEGIN:VEVENT
DTSTAMP:20260422T075939
DTSTART;TZID=Europe/Berlin:20260212T104500
DTEND;TZID=Europe/Berlin:20260212T121500
UID:261SI4121-20260212T104500@VHSZWECKVERBAND VHS HANNOVER LAND
SUMMARY:Italienisch für Fortgeschrittene (B1.2) (261SI4121) 
LOCATION:Burgwedel; Kulturzentrum-Amtshof; 201, Auf dem Amtshof 8, 30938 Burgwedel-Großburgwedel
END:VEVENT
BEGIN:VEVENT
DTSTAMP:20260422T075939
DTSTART;TZID=Europe/Berlin:20260219T104500
DTEND;TZID=Europe/Berlin:20260219T121500
UID:261SI4121-20260219T104500@VHSZWECKVERBAND VHS HANNOVER LAND
SUMMARY:Italienisch für Fortgeschrittene (B1.2) (261SI4121) 
LOCATION:Burgwedel; Kulturzentrum-Amtshof; 201, Auf dem Amtshof 8, 30938 Burgwedel-Großburgwedel
END:VEVENT
BEGIN:VEVENT
DTSTAMP:20260422T075939
DTSTART;TZID=Europe/Berlin:20260226T104500
DTEND;TZID=Europe/Berlin:20260226T121500
UID:261SI4121-20260226T104500@VHSZWECKVERBAND VHS HANNOVER LAND
SUMMARY:Italienisch für Fortgeschrittene (B1.2) (261SI4121) 
LOCATION:Burgwedel; Kulturzentrum-Amtshof; 201, Auf dem Amtshof 8, 30938 Burgwedel-Großburgwedel
END:VEVENT
BEGIN:VEVENT
DTSTAMP:20260422T075939
DTSTART;TZID=Europe/Berlin:20260305T104500
DTEND;TZID=Europe/Berlin:20260305T121500
UID:261SI4121-20260305T104500@VHSZWECKVERBAND VHS HANNOVER LAND
SUMMARY:Italienisch für Fortgeschrittene (B1.2) (261SI4121) 
LOCATION:Burgwedel; Kulturzentrum-Amtshof; 201, Auf dem Amtshof 8, 30938 Burgwedel-Großburgwedel
END:VEVENT
BEGIN:VEVENT
DTSTAMP:20260422T075939
DTSTART;TZID=Europe/Berlin:20260312T104500
DTEND;TZID=Europe/Berlin:20260312T121500
UID:261SI4121-20260312T104500@VHSZWECKVERBAND VHS HANNOVER LAND
SUMMARY:Italienisch für Fortgeschrittene (B1.2) (261SI4121) 
LOCATION:Burgwedel; Kulturzentrum-Amtshof; 201, Auf dem Amtshof 8, 30938 Burgwedel-Großburgwedel
END:VEVENT
BEGIN:VEVENT
DTSTAMP:20260422T075939
DTSTART;TZID=Europe/Berlin:20260319T104500
DTEND;TZID=Europe/Berlin:20260319T121500
UID:261SI4121-20260319T104500@VHSZWECKVERBAND VHS HANNOVER LAND
SUMMARY:Italienisch für Fortgeschrittene (B1.2) (261SI4121) 
LOCATION:Burgwedel; Kulturzentrum-Amtshof; 201, Auf dem Amtshof 8, 30938 Burgwedel-Großburgwedel
END:VEVENT
BEGIN:VEVENT
DTSTAMP:20260422T075939
DTSTART;TZID=Europe/Berlin:20260409T104500
DTEND;TZID=Europe/Berlin:20260409T121500
UID:261SI4121-20260409T104500@VHSZWECKVERBAND VHS HANNOVER LAND
SUMMARY:Italienisch für Fortgeschrittene (B1.2) (261SI4121) 
LOCATION:Burgwedel; Kulturzentrum-Amtshof; 201, Auf dem Amtshof 8, 30938 Burgwedel-Großburgwedel
END:VEVENT
BEGIN:VEVENT
DTSTAMP:20260422T075939
DTSTART;TZID=Europe/Berlin:20260416T104500
DTEND;TZID=Europe/Berlin:20260416T121500
UID:261SI4121-20260416T104500@VHSZWECKVERBAND VHS HANNOVER LAND
DESCRIPTION:Ersatz für Ausfall am 28.05.2026
SUMMARY:Italienisch für Fortgeschrittene (B1.2) (261SI4121) 
LOCATION:Burgwedel; Kulturzentrum-Amtshof; 107, Auf dem Amtshof 8, 30938 Burgwedel-Großburgwedel
END:VEVENT
BEGIN:VEVENT
DTSTAMP:20260422T075939
DTSTART;TZID=Europe/Berlin:20260423T104500
DTEND;TZID=Europe/Berlin:20260423T121500
UID:261SI4121-20260423T104500@VHSZWECKVERBAND VHS HANNOVER LAND
SUMMARY:Italienisch für Fortgeschrittene (B1.2) (261SI4121) 
LOCATION:Burgwedel; Kulturzentrum-Amtshof; 201, Auf dem Amtshof 8, 30938 Burgwedel-Großburgwedel
END:VEVENT
BEGIN:VEVENT
DTSTAMP:20260422T075939
DTSTART;TZID=Europe/Berlin:20260430T104500
DTEND;TZID=Europe/Berlin:20260430T121500
UID:261SI4121-20260430T104500@VHSZWECKVERBAND VHS HANNOVER LAND
SUMMARY:Italienisch für Fortgeschrittene (B1.2) (261SI4121) 
LOCATION:Burgwedel; Kulturzentrum-Amtshof; 201, Auf dem Amtshof 8, 30938 Burgwedel-Großburgwedel
END:VEVENT
BEGIN:VEVENT
DTSTAMP:20260422T075939
DTSTART;TZID=Europe/Berlin:20260507T104500
DTEND;TZID=Europe/Berlin:20260507T121500
UID:261SI4121-20260507T104500@VHSZWECKVERBAND VHS HANNOVER LAND
SUMMARY:Italienisch für Fortgeschrittene (B1.2) (261SI4121) 
LOCATION:Burgwedel; Kulturzentrum-Amtshof; 201, Auf dem Amtshof 8, 30938 Burgwedel-Großburgwedel
END:VEVENT
BEGIN:VEVENT
DTSTAMP:20260422T075939
DTSTART;TZID=Europe/Berlin:20260521T104500
DTEND;TZID=Europe/Berlin:20260521T121500
UID:261SI4121-20260521T104500@VHSZWECKVERBAND VHS HANNOVER LAND
SUMMARY:Italienisch für Fortgeschrittene (B1.2) (261SI4121) 
LOCATION:Burgwedel; Kulturzentrum-Amtshof; 201, Auf dem Amtshof 8, 30938 Burgwedel-Großburgwedel
END:VEVENT
END:VCALENDAR