BEGIN:VCALENDAR
VERSION:2.0
PRODID:http://www.kufer.de/kuferweb / DE
METHOD:PUBLISH
CALSCALE:GREGORIAN
X-WR-TIMEZONE:Europe/Berlin
BEGIN:VTIMEZONE
TZID:Europe/Berlin
X-LIC-LOCATION:Europe/Berlin
BEGIN:DAYLIGHT
TZOFFSETFROM:+0100
TZOFFSETTO:+0200
TZNAME:CEST
DTSTART;TZID=Europe/Berlin:19700329T020000
RRULE:FREQ=YEARLY;INTERVAL=1;BYDAY=-1SU;BYMONTH=3
END:DAYLIGHT
BEGIN:STANDARD
TZOFFSETFROM:+0200
TZOFFSETTO:+0100
TZNAME:CET
DTSTART;TZID=Europe/Berlin:19701025T030000
RRULE:FREQ=YEARLY;INTERVAL=1;BYDAY=-1SU;BYMONTH=10
END:STANDARD
END:VTIMEZONE
BEGIN:VEVENT
DTSTAMP:20260422T075859
DTSTART;TZID=Europe/Berlin:20260408T181500
DTEND;TZID=Europe/Berlin:20260408T194500
UID:261SP1125-20260408T181500@VHSZWECKVERBAND VHS HANNOVER LAND
SUMMARY:Spanisch für Anfänger mit geringen Vorkenntnissen (A1) ca. ab Lektion 3 (261SP1125) 
LOCATION:Wunstorf-Luthe; Dorfgemeinschaftshaus; EG 02, Kirchplatz 2, 31515 Wunstorf
END:VEVENT
BEGIN:VEVENT
DTSTAMP:20260422T075859
DTSTART;TZID=Europe/Berlin:20260415T181500
DTEND;TZID=Europe/Berlin:20260415T194500
UID:261SP1125-20260415T181500@VHSZWECKVERBAND VHS HANNOVER LAND
SUMMARY:Spanisch für Anfänger mit geringen Vorkenntnissen (A1) ca. ab Lektion 3 (261SP1125) 
LOCATION:Web-Seminar 8, Den Zugang bekommen Sie ca. eine Woche vor Beginn, Zoom
END:VEVENT
BEGIN:VEVENT
DTSTAMP:20260422T075859
DTSTART;TZID=Europe/Berlin:20260422T181500
DTEND;TZID=Europe/Berlin:20260422T194500
UID:261SP1125-20260422T181500@VHSZWECKVERBAND VHS HANNOVER LAND
SUMMARY:Spanisch für Anfänger mit geringen Vorkenntnissen (A1) ca. ab Lektion 3 (261SP1125) 
LOCATION:Web-Seminar 8, Den Zugang bekommen Sie ca. eine Woche vor Beginn, Zoom
END:VEVENT
BEGIN:VEVENT
DTSTAMP:20260422T075859
DTSTART;TZID=Europe/Berlin:20260429T181500
DTEND;TZID=Europe/Berlin:20260429T194500
UID:261SP1125-20260429T181500@VHSZWECKVERBAND VHS HANNOVER LAND
SUMMARY:Spanisch für Anfänger mit geringen Vorkenntnissen (A1) ca. ab Lektion 3 (261SP1125) 
LOCATION:Web-Seminar 8, Den Zugang bekommen Sie ca. eine Woche vor Beginn, Zoom
END:VEVENT
BEGIN:VEVENT
DTSTAMP:20260422T075859
DTSTART;TZID=Europe/Berlin:20260506T181500
DTEND;TZID=Europe/Berlin:20260506T194500
UID:261SP1125-20260506T181500@VHSZWECKVERBAND VHS HANNOVER LAND
SUMMARY:Spanisch für Anfänger mit geringen Vorkenntnissen (A1) ca. ab Lektion 3 (261SP1125) 
LOCATION:Web-Seminar 8, Den Zugang bekommen Sie ca. eine Woche vor Beginn, Zoom
END:VEVENT
BEGIN:VEVENT
DTSTAMP:20260422T075859
DTSTART;TZID=Europe/Berlin:20260513T181500
DTEND;TZID=Europe/Berlin:20260513T194500
UID:261SP1125-20260513T181500@VHSZWECKVERBAND VHS HANNOVER LAND
SUMMARY:Spanisch für Anfänger mit geringen Vorkenntnissen (A1) ca. ab Lektion 3 (261SP1125) 
LOCATION:Web-Seminar 8, Den Zugang bekommen Sie ca. eine Woche vor Beginn, Zoom
END:VEVENT
BEGIN:VEVENT
DTSTAMP:20260422T075859
DTSTART;TZID=Europe/Berlin:20260520T181500
DTEND;TZID=Europe/Berlin:20260520T194500
UID:261SP1125-20260520T181500@VHSZWECKVERBAND VHS HANNOVER LAND
SUMMARY:Spanisch für Anfänger mit geringen Vorkenntnissen (A1) ca. ab Lektion 3 (261SP1125) 
LOCATION:Web-Seminar 8, Den Zugang bekommen Sie ca. eine Woche vor Beginn, Zoom
END:VEVENT
BEGIN:VEVENT
DTSTAMP:20260422T075859
DTSTART;TZID=Europe/Berlin:20260527T181500
DTEND;TZID=Europe/Berlin:20260527T194500
UID:261SP1125-20260527T181500@VHSZWECKVERBAND VHS HANNOVER LAND
SUMMARY:Spanisch für Anfänger mit geringen Vorkenntnissen (A1) ca. ab Lektion 3 (261SP1125) 
LOCATION:Wunstorf-Luthe; Dorfgemeinschaftshaus; EG 02, Kirchplatz 2, 31515 Wunstorf
END:VEVENT
BEGIN:VEVENT
DTSTAMP:20260422T075859
DTSTART;TZID=Europe/Berlin:20260603T181500
DTEND;TZID=Europe/Berlin:20260603T194500
UID:261SP1125-20260603T181500@VHSZWECKVERBAND VHS HANNOVER LAND
SUMMARY:Spanisch für Anfänger mit geringen Vorkenntnissen (A1) ca. ab Lektion 3 (261SP1125) 
LOCATION:Wunstorf-Luthe; Dorfgemeinschaftshaus; EG 01, Kirchplatz 2, 31515 Wunstorf
END:VEVENT
BEGIN:VEVENT
DTSTAMP:20260422T075859
DTSTART;TZID=Europe/Berlin:20260610T181500
DTEND;TZID=Europe/Berlin:20260610T194500
UID:261SP1125-20260610T181500@VHSZWECKVERBAND VHS HANNOVER LAND
SUMMARY:Spanisch für Anfänger mit geringen Vorkenntnissen (A1) ca. ab Lektion 3 (261SP1125) 
LOCATION:Wunstorf-Luthe; Dorfgemeinschaftshaus; EG 02, Kirchplatz 2, 31515 Wunstorf
END:VEVENT
BEGIN:VEVENT
DTSTAMP:20260422T075859
DTSTART;TZID=Europe/Berlin:20260617T181500
DTEND;TZID=Europe/Berlin:20260617T194500
UID:261SP1125-20260617T181500@VHSZWECKVERBAND VHS HANNOVER LAND
SUMMARY:Spanisch für Anfänger mit geringen Vorkenntnissen (A1) ca. ab Lektion 3 (261SP1125) 
LOCATION:Wunstorf-Luthe; Dorfgemeinschaftshaus; EG 02, Kirchplatz 2, 31515 Wunstorf
END:VEVENT
END:VCALENDAR