BEGIN:VCALENDAR
VERSION:2.0
PRODID:http://www.kufer.de/kuferweb / DE
METHOD:PUBLISH
CALSCALE:GREGORIAN
X-WR-TIMEZONE:Europe/Berlin
BEGIN:VTIMEZONE
TZID:Europe/Berlin
X-LIC-LOCATION:Europe/Berlin
BEGIN:DAYLIGHT
TZOFFSETFROM:+0100
TZOFFSETTO:+0200
TZNAME:CEST
DTSTART;TZID=Europe/Berlin:19700329T020000
RRULE:FREQ=YEARLY;INTERVAL=1;BYDAY=-1SU;BYMONTH=3
END:DAYLIGHT
BEGIN:STANDARD
TZOFFSETFROM:+0200
TZOFFSETTO:+0100
TZNAME:CET
DTSTART;TZID=Europe/Berlin:19701025T030000
RRULE:FREQ=YEARLY;INTERVAL=1;BYDAY=-1SU;BYMONTH=10
END:STANDARD
END:VTIMEZONE
BEGIN:VEVENT
DTSTAMP:20260422T093201
DTSTART;TZID=Europe/Berlin:20260211T181500
DTEND;TZID=Europe/Berlin:20260211T194500
UID:261SP1134-20260211T181500@VHSZWECKVERBAND VHS HANNOVER LAND
SUMMARY:Spanisch für Fortgeschrittene (B1) ab Lektion 10: Konversationskurs (261SP1134) 
LOCATION:Wedemark-Mellendorf; Schulzentrum; 2.031, Fritz-Sennheiser-Platz 2, 30900 Wedemark
END:VEVENT
BEGIN:VEVENT
DTSTAMP:20260422T093201
DTSTART;TZID=Europe/Berlin:20260218T181500
DTEND;TZID=Europe/Berlin:20260218T194500
UID:261SP1134-20260218T181500@VHSZWECKVERBAND VHS HANNOVER LAND
SUMMARY:Spanisch für Fortgeschrittene (B1) ab Lektion 10: Konversationskurs (261SP1134) 
LOCATION:Wedemark-Mellendorf; Schulzentrum; 2.031, Fritz-Sennheiser-Platz 2, 30900 Wedemark
END:VEVENT
BEGIN:VEVENT
DTSTAMP:20260422T093201
DTSTART;TZID=Europe/Berlin:20260225T181500
DTEND;TZID=Europe/Berlin:20260225T194500
UID:261SP1134-20260225T181500@VHSZWECKVERBAND VHS HANNOVER LAND
SUMMARY:Spanisch für Fortgeschrittene (B1) ab Lektion 10: Konversationskurs (261SP1134) 
LOCATION:Wedemark-Mellendorf; Schulzentrum; 2.031, Fritz-Sennheiser-Platz 2, 30900 Wedemark
END:VEVENT
BEGIN:VEVENT
DTSTAMP:20260422T093201
DTSTART;TZID=Europe/Berlin:20260304T181500
DTEND;TZID=Europe/Berlin:20260304T194500
UID:261SP1134-20260304T181500@VHSZWECKVERBAND VHS HANNOVER LAND
SUMMARY:Spanisch für Fortgeschrittene (B1) ab Lektion 10: Konversationskurs (261SP1134) 
LOCATION:Wedemark-Mellendorf; Schulzentrum; 2.031, Fritz-Sennheiser-Platz 2, 30900 Wedemark
END:VEVENT
BEGIN:VEVENT
DTSTAMP:20260422T093201
DTSTART;TZID=Europe/Berlin:20260311T181500
DTEND;TZID=Europe/Berlin:20260311T194500
UID:261SP1134-20260311T181500@VHSZWECKVERBAND VHS HANNOVER LAND
SUMMARY:Spanisch für Fortgeschrittene (B1) ab Lektion 10: Konversationskurs (261SP1134) 
LOCATION:Wedemark-Mellendorf; Schulzentrum; 2.031, Fritz-Sennheiser-Platz 2, 30900 Wedemark
END:VEVENT
BEGIN:VEVENT
DTSTAMP:20260422T093201
DTSTART;TZID=Europe/Berlin:20260318T181500
DTEND;TZID=Europe/Berlin:20260318T194500
UID:261SP1134-20260318T181500@VHSZWECKVERBAND VHS HANNOVER LAND
SUMMARY:Spanisch für Fortgeschrittene (B1) ab Lektion 10: Konversationskurs (261SP1134) 
LOCATION:Wedemark-Mellendorf; Schulzentrum; 2.031, Fritz-Sennheiser-Platz 2, 30900 Wedemark
END:VEVENT
BEGIN:VEVENT
DTSTAMP:20260422T093201
DTSTART;TZID=Europe/Berlin:20260408T181500
DTEND;TZID=Europe/Berlin:20260408T194500
UID:261SP1134-20260408T181500@VHSZWECKVERBAND VHS HANNOVER LAND
SUMMARY:Spanisch für Fortgeschrittene (B1) ab Lektion 10: Konversationskurs (261SP1134) 
LOCATION:Wedemark-Mellendorf; Schulzentrum; 2.031, Fritz-Sennheiser-Platz 2, 30900 Wedemark
END:VEVENT
BEGIN:VEVENT
DTSTAMP:20260422T093201
DTSTART;TZID=Europe/Berlin:20260415T181500
DTEND;TZID=Europe/Berlin:20260415T194500
UID:261SP1134-20260415T181500@VHSZWECKVERBAND VHS HANNOVER LAND
SUMMARY:Spanisch für Fortgeschrittene (B1) ab Lektion 10: Konversationskurs (261SP1134) 
LOCATION:Wedemark-Mellendorf; Schulzentrum; 2.031, Fritz-Sennheiser-Platz 2, 30900 Wedemark
END:VEVENT
BEGIN:VEVENT
DTSTAMP:20260422T093201
DTSTART;TZID=Europe/Berlin:20260422T181500
DTEND;TZID=Europe/Berlin:20260422T194500
UID:261SP1134-20260422T181500@VHSZWECKVERBAND VHS HANNOVER LAND
SUMMARY:Spanisch für Fortgeschrittene (B1) ab Lektion 10: Konversationskurs (261SP1134) 
LOCATION:Wedemark-Mellendorf; Schulzentrum; 2.031, Fritz-Sennheiser-Platz 2, 30900 Wedemark
END:VEVENT
BEGIN:VEVENT
DTSTAMP:20260422T093201
DTSTART;TZID=Europe/Berlin:20260429T181500
DTEND;TZID=Europe/Berlin:20260429T194500
UID:261SP1134-20260429T181500@VHSZWECKVERBAND VHS HANNOVER LAND
SUMMARY:Spanisch für Fortgeschrittene (B1) ab Lektion 10: Konversationskurs (261SP1134) 
LOCATION:Wedemark-Mellendorf; Schulzentrum; 2.031, Fritz-Sennheiser-Platz 2, 30900 Wedemark
END:VEVENT
BEGIN:VEVENT
DTSTAMP:20260422T093201
DTSTART;TZID=Europe/Berlin:20260506T181500
DTEND;TZID=Europe/Berlin:20260506T194500
UID:261SP1134-20260506T181500@VHSZWECKVERBAND VHS HANNOVER LAND
SUMMARY:Spanisch für Fortgeschrittene (B1) ab Lektion 10: Konversationskurs (261SP1134) 
LOCATION:Wedemark-Mellendorf; Schulzentrum; 2.031, Fritz-Sennheiser-Platz 2, 30900 Wedemark
END:VEVENT
BEGIN:VEVENT
DTSTAMP:20260422T093201
DTSTART;TZID=Europe/Berlin:20260513T181500
DTEND;TZID=Europe/Berlin:20260513T194500
UID:261SP1134-20260513T181500@VHSZWECKVERBAND VHS HANNOVER LAND
SUMMARY:Spanisch für Fortgeschrittene (B1) ab Lektion 10: Konversationskurs (261SP1134) 
LOCATION:Wedemark-Mellendorf; Schulzentrum; 2.031, Fritz-Sennheiser-Platz 2, 30900 Wedemark
END:VEVENT
BEGIN:VEVENT
DTSTAMP:20260422T093201
DTSTART;TZID=Europe/Berlin:20260520T181500
DTEND;TZID=Europe/Berlin:20260520T194500
UID:261SP1134-20260520T181500@VHSZWECKVERBAND VHS HANNOVER LAND
SUMMARY:Spanisch für Fortgeschrittene (B1) ab Lektion 10: Konversationskurs (261SP1134) 
LOCATION:Wedemark-Mellendorf; Schulzentrum; 2.031, Fritz-Sennheiser-Platz 2, 30900 Wedemark
END:VEVENT
END:VCALENDAR