BEGIN:VCALENDAR
VERSION:2.0
PRODID:http://www.kufer.de/kuferweb / DE
METHOD:PUBLISH
CALSCALE:GREGORIAN
X-WR-TIMEZONE:Europe/Berlin
BEGIN:VTIMEZONE
TZID:Europe/Berlin
X-LIC-LOCATION:Europe/Berlin
BEGIN:DAYLIGHT
TZOFFSETFROM:+0100
TZOFFSETTO:+0200
TZNAME:CEST
DTSTART;TZID=Europe/Berlin:19700329T020000
RRULE:FREQ=YEARLY;INTERVAL=1;BYDAY=-1SU;BYMONTH=3
END:DAYLIGHT
BEGIN:STANDARD
TZOFFSETFROM:+0200
TZOFFSETTO:+0100
TZNAME:CET
DTSTART;TZID=Europe/Berlin:19701025T030000
RRULE:FREQ=YEARLY;INTERVAL=1;BYDAY=-1SU;BYMONTH=10
END:STANDARD
END:VTIMEZONE
BEGIN:VEVENT
DTSTAMP:20260422T075900
DTSTART;TZID=Europe/Berlin:20260211T194500
DTEND;TZID=Europe/Berlin:20260211T211500
UID:261SP1144-20260211T194500@VHSZWECKVERBAND VHS HANNOVER LAND
SUMMARY:Spanisch für Wiedereinsteiger (A1) (261SP1144) 
LOCATION:Wedemark-Mellendorf; Schulzentrum; 2.031, Fritz-Sennheiser-Platz 2, 30900 Wedemark
END:VEVENT
BEGIN:VEVENT
DTSTAMP:20260422T075900
DTSTART;TZID=Europe/Berlin:20260218T194500
DTEND;TZID=Europe/Berlin:20260218T211500
UID:261SP1144-20260218T194500@VHSZWECKVERBAND VHS HANNOVER LAND
SUMMARY:Spanisch für Wiedereinsteiger (A1) (261SP1144) 
LOCATION:Wedemark-Mellendorf; Schulzentrum; 2.031, Fritz-Sennheiser-Platz 2, 30900 Wedemark
END:VEVENT
BEGIN:VEVENT
DTSTAMP:20260422T075900
DTSTART;TZID=Europe/Berlin:20260225T194500
DTEND;TZID=Europe/Berlin:20260225T211500
UID:261SP1144-20260225T194500@VHSZWECKVERBAND VHS HANNOVER LAND
SUMMARY:Spanisch für Wiedereinsteiger (A1) (261SP1144) 
LOCATION:Wedemark-Mellendorf; Schulzentrum; 2.031, Fritz-Sennheiser-Platz 2, 30900 Wedemark
END:VEVENT
BEGIN:VEVENT
DTSTAMP:20260422T075900
DTSTART;TZID=Europe/Berlin:20260304T194500
DTEND;TZID=Europe/Berlin:20260304T211500
UID:261SP1144-20260304T194500@VHSZWECKVERBAND VHS HANNOVER LAND
SUMMARY:Spanisch für Wiedereinsteiger (A1) (261SP1144) 
LOCATION:Wedemark-Mellendorf; Schulzentrum; 2.031, Fritz-Sennheiser-Platz 2, 30900 Wedemark
END:VEVENT
BEGIN:VEVENT
DTSTAMP:20260422T075900
DTSTART;TZID=Europe/Berlin:20260311T194500
DTEND;TZID=Europe/Berlin:20260311T211500
UID:261SP1144-20260311T194500@VHSZWECKVERBAND VHS HANNOVER LAND
SUMMARY:Spanisch für Wiedereinsteiger (A1) (261SP1144) 
LOCATION:Wedemark-Mellendorf; Schulzentrum; 2.031, Fritz-Sennheiser-Platz 2, 30900 Wedemark
END:VEVENT
BEGIN:VEVENT
DTSTAMP:20260422T075900
DTSTART;TZID=Europe/Berlin:20260318T194500
DTEND;TZID=Europe/Berlin:20260318T211500
UID:261SP1144-20260318T194500@VHSZWECKVERBAND VHS HANNOVER LAND
SUMMARY:Spanisch für Wiedereinsteiger (A1) (261SP1144) 
LOCATION:Wedemark-Mellendorf; Schulzentrum; 2.031, Fritz-Sennheiser-Platz 2, 30900 Wedemark
END:VEVENT
BEGIN:VEVENT
DTSTAMP:20260422T075900
DTSTART;TZID=Europe/Berlin:20260408T194500
DTEND;TZID=Europe/Berlin:20260408T211500
UID:261SP1144-20260408T194500@VHSZWECKVERBAND VHS HANNOVER LAND
SUMMARY:Spanisch für Wiedereinsteiger (A1) (261SP1144) 
LOCATION:Wedemark-Mellendorf; Schulzentrum; 2.031, Fritz-Sennheiser-Platz 2, 30900 Wedemark
END:VEVENT
BEGIN:VEVENT
DTSTAMP:20260422T075900
DTSTART;TZID=Europe/Berlin:20260415T194500
DTEND;TZID=Europe/Berlin:20260415T211500
UID:261SP1144-20260415T194500@VHSZWECKVERBAND VHS HANNOVER LAND
SUMMARY:Spanisch für Wiedereinsteiger (A1) (261SP1144) 
LOCATION:Wedemark-Mellendorf; Schulzentrum; 2.031, Fritz-Sennheiser-Platz 2, 30900 Wedemark
END:VEVENT
BEGIN:VEVENT
DTSTAMP:20260422T075900
DTSTART;TZID=Europe/Berlin:20260422T194500
DTEND;TZID=Europe/Berlin:20260422T211500
UID:261SP1144-20260422T194500@VHSZWECKVERBAND VHS HANNOVER LAND
SUMMARY:Spanisch für Wiedereinsteiger (A1) (261SP1144) 
LOCATION:Wedemark-Mellendorf; Schulzentrum; 2.031, Fritz-Sennheiser-Platz 2, 30900 Wedemark
END:VEVENT
BEGIN:VEVENT
DTSTAMP:20260422T075900
DTSTART;TZID=Europe/Berlin:20260429T194500
DTEND;TZID=Europe/Berlin:20260429T211500
UID:261SP1144-20260429T194500@VHSZWECKVERBAND VHS HANNOVER LAND
SUMMARY:Spanisch für Wiedereinsteiger (A1) (261SP1144) 
LOCATION:Wedemark-Mellendorf; Schulzentrum; 2.031, Fritz-Sennheiser-Platz 2, 30900 Wedemark
END:VEVENT
BEGIN:VEVENT
DTSTAMP:20260422T075900
DTSTART;TZID=Europe/Berlin:20260506T194500
DTEND;TZID=Europe/Berlin:20260506T211500
UID:261SP1144-20260506T194500@VHSZWECKVERBAND VHS HANNOVER LAND
SUMMARY:Spanisch für Wiedereinsteiger (A1) (261SP1144) 
LOCATION:Wedemark-Mellendorf; Schulzentrum; 2.031, Fritz-Sennheiser-Platz 2, 30900 Wedemark
END:VEVENT
END:VCALENDAR