BEGIN:VCALENDAR
VERSION:2.0
PRODID:http://www.kufer.de/kuferweb / DE
METHOD:PUBLISH
CALSCALE:GREGORIAN
X-WR-TIMEZONE:Europe/Berlin
BEGIN:VTIMEZONE
TZID:Europe/Berlin
X-LIC-LOCATION:Europe/Berlin
BEGIN:DAYLIGHT
TZOFFSETFROM:+0100
TZOFFSETTO:+0200
TZNAME:CEST
DTSTART;TZID=Europe/Berlin:19700329T020000
RRULE:FREQ=YEARLY;INTERVAL=1;BYDAY=-1SU;BYMONTH=3
END:DAYLIGHT
BEGIN:STANDARD
TZOFFSETFROM:+0200
TZOFFSETTO:+0100
TZNAME:CET
DTSTART;TZID=Europe/Berlin:19701025T030000
RRULE:FREQ=YEARLY;INTERVAL=1;BYDAY=-1SU;BYMONTH=10
END:STANDARD
END:VTIMEZONE
BEGIN:VEVENT
DTSTAMP:20260422T075900
DTSTART;TZID=Europe/Berlin:20260317T180000
DTEND;TZID=Europe/Berlin:20260317T193000
UID:261SP2123-20260317T180000@VHSZWECKVERBAND VHS HANNOVER LAND
SUMMARY:Spanisch für fortgeschrittene Anfänger (A2) ab Lektion 6 (261SP2123) 
LOCATION:Web-Seminar 8, Den Zugang bekommen Sie ca. eine Woche vor Beginn, Zoom
END:VEVENT
BEGIN:VEVENT
DTSTAMP:20260422T075900
DTSTART;TZID=Europe/Berlin:20260414T180000
DTEND;TZID=Europe/Berlin:20260414T193000
UID:261SP2123-20260414T180000@VHSZWECKVERBAND VHS HANNOVER LAND
SUMMARY:Spanisch für fortgeschrittene Anfänger (A2) ab Lektion 6 (261SP2123) 
LOCATION:Neustadt; VHS (am Schloss Landestrost), EG 01, Schlossstr. 1, 31535 Neustadt a. Rbge.
END:VEVENT
BEGIN:VEVENT
DTSTAMP:20260422T075900
DTSTART;TZID=Europe/Berlin:20260428T180000
DTEND;TZID=Europe/Berlin:20260428T193000
UID:261SP2123-20260428T180000@VHSZWECKVERBAND VHS HANNOVER LAND
SUMMARY:Spanisch für fortgeschrittene Anfänger (A2) ab Lektion 6 (261SP2123) 
LOCATION:Neustadt; VHS (am Schloss Landestrost), OG 02, Schlossstr. 1, 31535 Neustadt a. Rbge.
END:VEVENT
BEGIN:VEVENT
DTSTAMP:20260422T075900
DTSTART;TZID=Europe/Berlin:20260505T180000
DTEND;TZID=Europe/Berlin:20260505T193000
UID:261SP2123-20260505T180000@VHSZWECKVERBAND VHS HANNOVER LAND
SUMMARY:Spanisch für fortgeschrittene Anfänger (A2) ab Lektion 6 (261SP2123) 
LOCATION:Neustadt; VHS (am Schloss Landestrost), OG 02, Schlossstr. 1, 31535 Neustadt a. Rbge.
END:VEVENT
BEGIN:VEVENT
DTSTAMP:20260422T075900
DTSTART;TZID=Europe/Berlin:20260512T180000
DTEND;TZID=Europe/Berlin:20260512T193000
UID:261SP2123-20260512T180000@VHSZWECKVERBAND VHS HANNOVER LAND
SUMMARY:Spanisch für fortgeschrittene Anfänger (A2) ab Lektion 6 (261SP2123) 
LOCATION:Neustadt; VHS (am Schloss Landestrost), OG 02, Schlossstr. 1, 31535 Neustadt a. Rbge.
END:VEVENT
BEGIN:VEVENT
DTSTAMP:20260422T075900
DTSTART;TZID=Europe/Berlin:20260519T180000
DTEND;TZID=Europe/Berlin:20260519T193000
UID:261SP2123-20260519T180000@VHSZWECKVERBAND VHS HANNOVER LAND
SUMMARY:Spanisch für fortgeschrittene Anfänger (A2) ab Lektion 6 (261SP2123) 
LOCATION:Web-Seminar 8, Den Zugang bekommen Sie ca. eine Woche vor Beginn, Zoom
END:VEVENT
BEGIN:VEVENT
DTSTAMP:20260422T075900
DTSTART;TZID=Europe/Berlin:20260602T180000
DTEND;TZID=Europe/Berlin:20260602T193000
UID:261SP2123-20260602T180000@VHSZWECKVERBAND VHS HANNOVER LAND
SUMMARY:Spanisch für fortgeschrittene Anfänger (A2) ab Lektion 6 (261SP2123) 
LOCATION:Neustadt; VHS (am Schloss Landestrost), OG 02, Schlossstr. 1, 31535 Neustadt a. Rbge.
END:VEVENT
BEGIN:VEVENT
DTSTAMP:20260422T075900
DTSTART;TZID=Europe/Berlin:20260609T180000
DTEND;TZID=Europe/Berlin:20260609T193000
UID:261SP2123-20260609T180000@VHSZWECKVERBAND VHS HANNOVER LAND
SUMMARY:Spanisch für fortgeschrittene Anfänger (A2) ab Lektion 6 (261SP2123) 
LOCATION:Web-Seminar 8, Den Zugang bekommen Sie ca. eine Woche vor Beginn, Zoom
END:VEVENT
BEGIN:VEVENT
DTSTAMP:20260422T075900
DTSTART;TZID=Europe/Berlin:20260616T180000
DTEND;TZID=Europe/Berlin:20260616T193000
UID:261SP2123-20260616T180000@VHSZWECKVERBAND VHS HANNOVER LAND
SUMMARY:Spanisch für fortgeschrittene Anfänger (A2) ab Lektion 6 (261SP2123) 
LOCATION:Web-Seminar 8, Den Zugang bekommen Sie ca. eine Woche vor Beginn, Zoom
END:VEVENT
BEGIN:VEVENT
DTSTAMP:20260422T075900
DTSTART;TZID=Europe/Berlin:20260623T180000
DTEND;TZID=Europe/Berlin:20260623T193000
UID:261SP2123-20260623T180000@VHSZWECKVERBAND VHS HANNOVER LAND
SUMMARY:Spanisch für fortgeschrittene Anfänger (A2) ab Lektion 6 (261SP2123) 
LOCATION:Web-Seminar 8, Den Zugang bekommen Sie ca. eine Woche vor Beginn, Zoom
END:VEVENT
BEGIN:VEVENT
DTSTAMP:20260422T075900
DTSTART;TZID=Europe/Berlin:20260630T180000
DTEND;TZID=Europe/Berlin:20260630T193000
UID:261SP2123-20260630T180000@VHSZWECKVERBAND VHS HANNOVER LAND
SUMMARY:Spanisch für fortgeschrittene Anfänger (A2) ab Lektion 6 (261SP2123) 
LOCATION:Web-Seminar 8, Den Zugang bekommen Sie ca. eine Woche vor Beginn, Zoom
END:VEVENT
BEGIN:VEVENT
DTSTAMP:20260422T075900
DTSTART;TZID=Europe/Berlin:20260707T180000
DTEND;TZID=Europe/Berlin:20260707T193000
UID:261SP2123-20260707T180000@VHSZWECKVERBAND VHS HANNOVER LAND
DESCRIPTION:wird nachgeholt am 30.06.2026
Ersatz für Ausfall am 03.03.2026
SUMMARY:Spanisch für fortgeschrittene Anfänger (A2) ab Lektion 6 (261SP2123) 
LOCATION:Neustadt; VHS (am Schloss Landestrost), OG 02, Schlossstr. 1, 31535 Neustadt a. Rbge.
END:VEVENT
BEGIN:VEVENT
DTSTAMP:20260422T075900
DTSTART;TZID=Europe/Berlin:20260714T180000
DTEND;TZID=Europe/Berlin:20260714T193000
UID:261SP2123-20260714T180000@VHSZWECKVERBAND VHS HANNOVER LAND
DESCRIPTION:Ersatz für Ausfall am 10.03.2026
SUMMARY:Spanisch für fortgeschrittene Anfänger (A2) ab Lektion 6 (261SP2123) 
LOCATION:Web-Seminar 8, Den Zugang bekommen Sie ca. eine Woche vor Beginn, Zoom
END:VEVENT
END:VCALENDAR