BEGIN:VCALENDAR
VERSION:2.0
PRODID:http://www.kufer.de/kuferweb / DE
METHOD:PUBLISH
CALSCALE:GREGORIAN
X-WR-TIMEZONE:Europe/Berlin
BEGIN:VTIMEZONE
TZID:Europe/Berlin
X-LIC-LOCATION:Europe/Berlin
BEGIN:DAYLIGHT
TZOFFSETFROM:+0100
TZOFFSETTO:+0200
TZNAME:CEST
DTSTART;TZID=Europe/Berlin:19700329T020000
RRULE:FREQ=YEARLY;INTERVAL=1;BYDAY=-1SU;BYMONTH=3
END:DAYLIGHT
BEGIN:STANDARD
TZOFFSETFROM:+0200
TZOFFSETTO:+0100
TZNAME:CET
DTSTART;TZID=Europe/Berlin:19701025T030000
RRULE:FREQ=YEARLY;INTERVAL=1;BYDAY=-1SU;BYMONTH=10
END:STANDARD
END:VTIMEZONE
BEGIN:VEVENT
DTSTAMP:20260422T124307
DTSTART;TZID=Europe/Berlin:20260209T164500
DTEND;TZID=Europe/Berlin:20260209T181500
UID:261SP3111-20260209T164500@VHSZWECKVERBAND VHS HANNOVER LAND
SUMMARY:Spanisch für Fortgeschrittene (B1) ab Lektion 9: Intermedio Inferior (261SP3111) 
LOCATION:Burgwedel; Kulturzentrum-Amtshof; 206, Auf dem Amtshof 8, 30938 Burgwedel-Großburgwedel
END:VEVENT
BEGIN:VEVENT
DTSTAMP:20260422T124307
DTSTART;TZID=Europe/Berlin:20260216T164500
DTEND;TZID=Europe/Berlin:20260216T181500
UID:261SP3111-20260216T164500@VHSZWECKVERBAND VHS HANNOVER LAND
SUMMARY:Spanisch für Fortgeschrittene (B1) ab Lektion 9: Intermedio Inferior (261SP3111) 
LOCATION:Burgwedel; Kulturzentrum-Amtshof; 206, Auf dem Amtshof 8, 30938 Burgwedel-Großburgwedel
END:VEVENT
BEGIN:VEVENT
DTSTAMP:20260422T124307
DTSTART;TZID=Europe/Berlin:20260223T164500
DTEND;TZID=Europe/Berlin:20260223T181500
UID:261SP3111-20260223T164500@VHSZWECKVERBAND VHS HANNOVER LAND
SUMMARY:Spanisch für Fortgeschrittene (B1) ab Lektion 9: Intermedio Inferior (261SP3111) 
LOCATION:Burgwedel; Kulturzentrum-Amtshof; 206, Auf dem Amtshof 8, 30938 Burgwedel-Großburgwedel
END:VEVENT
BEGIN:VEVENT
DTSTAMP:20260422T124307
DTSTART;TZID=Europe/Berlin:20260302T164500
DTEND;TZID=Europe/Berlin:20260302T181500
UID:261SP3111-20260302T164500@VHSZWECKVERBAND VHS HANNOVER LAND
SUMMARY:Spanisch für Fortgeschrittene (B1) ab Lektion 9: Intermedio Inferior (261SP3111) 
LOCATION:Burgwedel; Kulturzentrum-Amtshof; 206, Auf dem Amtshof 8, 30938 Burgwedel-Großburgwedel
END:VEVENT
BEGIN:VEVENT
DTSTAMP:20260422T124307
DTSTART;TZID=Europe/Berlin:20260309T164500
DTEND;TZID=Europe/Berlin:20260309T181500
UID:261SP3111-20260309T164500@VHSZWECKVERBAND VHS HANNOVER LAND
SUMMARY:Spanisch für Fortgeschrittene (B1) ab Lektion 9: Intermedio Inferior (261SP3111) 
LOCATION:Burgwedel; Kulturzentrum-Amtshof; 206, Auf dem Amtshof 8, 30938 Burgwedel-Großburgwedel
END:VEVENT
BEGIN:VEVENT
DTSTAMP:20260422T124307
DTSTART;TZID=Europe/Berlin:20260316T164500
DTEND;TZID=Europe/Berlin:20260316T181500
UID:261SP3111-20260316T164500@VHSZWECKVERBAND VHS HANNOVER LAND
SUMMARY:Spanisch für Fortgeschrittene (B1) ab Lektion 9: Intermedio Inferior (261SP3111) 
LOCATION:Burgwedel; Kulturzentrum-Amtshof; 206, Auf dem Amtshof 8, 30938 Burgwedel-Großburgwedel
END:VEVENT
BEGIN:VEVENT
DTSTAMP:20260422T124307
DTSTART;TZID=Europe/Berlin:20260413T164500
DTEND;TZID=Europe/Berlin:20260413T181500
UID:261SP3111-20260413T164500@VHSZWECKVERBAND VHS HANNOVER LAND
SUMMARY:Spanisch für Fortgeschrittene (B1) ab Lektion 9: Intermedio Inferior (261SP3111) 
LOCATION:Burgwedel; Kulturzentrum-Amtshof; 206, Auf dem Amtshof 8, 30938 Burgwedel-Großburgwedel
END:VEVENT
BEGIN:VEVENT
DTSTAMP:20260422T124307
DTSTART;TZID=Europe/Berlin:20260420T164500
DTEND;TZID=Europe/Berlin:20260420T181500
UID:261SP3111-20260420T164500@VHSZWECKVERBAND VHS HANNOVER LAND
SUMMARY:Spanisch für Fortgeschrittene (B1) ab Lektion 9: Intermedio Inferior (261SP3111) 
LOCATION:Burgwedel; Kulturzentrum-Amtshof; 206, Auf dem Amtshof 8, 30938 Burgwedel-Großburgwedel
END:VEVENT
BEGIN:VEVENT
DTSTAMP:20260422T124307
DTSTART;TZID=Europe/Berlin:20260427T164500
DTEND;TZID=Europe/Berlin:20260427T181500
UID:261SP3111-20260427T164500@VHSZWECKVERBAND VHS HANNOVER LAND
SUMMARY:Spanisch für Fortgeschrittene (B1) ab Lektion 9: Intermedio Inferior (261SP3111) 
LOCATION:Burgwedel; Kulturzentrum-Amtshof; 206, Auf dem Amtshof 8, 30938 Burgwedel-Großburgwedel
END:VEVENT
BEGIN:VEVENT
DTSTAMP:20260422T124307
DTSTART;TZID=Europe/Berlin:20260504T164500
DTEND;TZID=Europe/Berlin:20260504T181500
UID:261SP3111-20260504T164500@VHSZWECKVERBAND VHS HANNOVER LAND
SUMMARY:Spanisch für Fortgeschrittene (B1) ab Lektion 9: Intermedio Inferior (261SP3111) 
LOCATION:Burgwedel; Kulturzentrum-Amtshof; 206, Auf dem Amtshof 8, 30938 Burgwedel-Großburgwedel
END:VEVENT
BEGIN:VEVENT
DTSTAMP:20260422T124307
DTSTART;TZID=Europe/Berlin:20260511T164500
DTEND;TZID=Europe/Berlin:20260511T181500
UID:261SP3111-20260511T164500@VHSZWECKVERBAND VHS HANNOVER LAND
SUMMARY:Spanisch für Fortgeschrittene (B1) ab Lektion 9: Intermedio Inferior (261SP3111) 
LOCATION:Burgwedel; Kulturzentrum-Amtshof; 206, Auf dem Amtshof 8, 30938 Burgwedel-Großburgwedel
END:VEVENT
BEGIN:VEVENT
DTSTAMP:20260422T124307
DTSTART;TZID=Europe/Berlin:20260518T164500
DTEND;TZID=Europe/Berlin:20260518T181500
UID:261SP3111-20260518T164500@VHSZWECKVERBAND VHS HANNOVER LAND
SUMMARY:Spanisch für Fortgeschrittene (B1) ab Lektion 9: Intermedio Inferior (261SP3111) 
LOCATION:Burgwedel; Kulturzentrum-Amtshof; 206, Auf dem Amtshof 8, 30938 Burgwedel-Großburgwedel
END:VEVENT
BEGIN:VEVENT
DTSTAMP:20260422T124307
DTSTART;TZID=Europe/Berlin:20260601T164500
DTEND;TZID=Europe/Berlin:20260601T181500
UID:261SP3111-20260601T164500@VHSZWECKVERBAND VHS HANNOVER LAND
SUMMARY:Spanisch für Fortgeschrittene (B1) ab Lektion 9: Intermedio Inferior (261SP3111) 
LOCATION:Burgwedel; Kulturzentrum-Amtshof; 206, Auf dem Amtshof 8, 30938 Burgwedel-Großburgwedel
END:VEVENT
BEGIN:VEVENT
DTSTAMP:20260422T124307
DTSTART;TZID=Europe/Berlin:20260608T164500
DTEND;TZID=Europe/Berlin:20260608T181500
UID:261SP3111-20260608T164500@VHSZWECKVERBAND VHS HANNOVER LAND
SUMMARY:Spanisch für Fortgeschrittene (B1) ab Lektion 9: Intermedio Inferior (261SP3111) 
LOCATION:Burgwedel; Kulturzentrum-Amtshof; 206, Auf dem Amtshof 8, 30938 Burgwedel-Großburgwedel
END:VEVENT
END:VCALENDAR