BEGIN:VCALENDAR
VERSION:2.0
PRODID:http://www.kufer.de/kuferweb / DE
METHOD:PUBLISH
CALSCALE:GREGORIAN
X-WR-TIMEZONE:Europe/Berlin
BEGIN:VTIMEZONE
TZID:Europe/Berlin
X-LIC-LOCATION:Europe/Berlin
BEGIN:DAYLIGHT
TZOFFSETFROM:+0100
TZOFFSETTO:+0200
TZNAME:CEST
DTSTART;TZID=Europe/Berlin:19700329T020000
RRULE:FREQ=YEARLY;INTERVAL=1;BYDAY=-1SU;BYMONTH=3
END:DAYLIGHT
BEGIN:STANDARD
TZOFFSETFROM:+0200
TZOFFSETTO:+0100
TZNAME:CET
DTSTART;TZID=Europe/Berlin:19701025T030000
RRULE:FREQ=YEARLY;INTERVAL=1;BYDAY=-1SU;BYMONTH=10
END:STANDARD
END:VTIMEZONE
BEGIN:VEVENT
DTSTAMP:20260422T075900
DTSTART;TZID=Europe/Berlin:20260615T084500
DTEND;TZID=Europe/Berlin:20260615T120000
UID:261SPB122-20260615T084500@VHSZWECKVERBAND VHS HANNOVER LAND
SUMMARY:Teilzeit-Bildungsurlaub: Spanisch für Anfänger (A1.3) Intensivwoche am Vormittag (261SPB122) 
LOCATION:Garbsen; Geschäftsstelle vhs (am Planetencenter); AUR1, Planetenring 35, 30823 Garbsen
END:VEVENT
BEGIN:VEVENT
DTSTAMP:20260422T075900
DTSTART;TZID=Europe/Berlin:20260616T084500
DTEND;TZID=Europe/Berlin:20260616T120000
UID:261SPB122-20260616T084500@VHSZWECKVERBAND VHS HANNOVER LAND
SUMMARY:Teilzeit-Bildungsurlaub: Spanisch für Anfänger (A1.3) Intensivwoche am Vormittag (261SPB122) 
LOCATION:Garbsen; Geschäftsstelle vhs (am Planetencenter); AUR1, Planetenring 35, 30823 Garbsen
END:VEVENT
BEGIN:VEVENT
DTSTAMP:20260422T075900
DTSTART;TZID=Europe/Berlin:20260617T084500
DTEND;TZID=Europe/Berlin:20260617T120000
UID:261SPB122-20260617T084500@VHSZWECKVERBAND VHS HANNOVER LAND
SUMMARY:Teilzeit-Bildungsurlaub: Spanisch für Anfänger (A1.3) Intensivwoche am Vormittag (261SPB122) 
LOCATION:Garbsen; Geschäftsstelle vhs (am Planetencenter); AUR1, Planetenring 35, 30823 Garbsen
END:VEVENT
BEGIN:VEVENT
DTSTAMP:20260422T075900
DTSTART;TZID=Europe/Berlin:20260618T084500
DTEND;TZID=Europe/Berlin:20260618T120000
UID:261SPB122-20260618T084500@VHSZWECKVERBAND VHS HANNOVER LAND
SUMMARY:Teilzeit-Bildungsurlaub: Spanisch für Anfänger (A1.3) Intensivwoche am Vormittag (261SPB122) 
LOCATION:Garbsen; Geschäftsstelle vhs (am Planetencenter); Kreativ-Studio, Planetenring 35, 30823 Garbsen
END:VEVENT
BEGIN:VEVENT
DTSTAMP:20260422T075900
DTSTART;TZID=Europe/Berlin:20260619T084500
DTEND;TZID=Europe/Berlin:20260619T120000
UID:261SPB122-20260619T084500@VHSZWECKVERBAND VHS HANNOVER LAND
SUMMARY:Teilzeit-Bildungsurlaub: Spanisch für Anfänger (A1.3) Intensivwoche am Vormittag (261SPB122) 
LOCATION:Garbsen; Geschäftsstelle vhs (am Planetencenter); AUR1, Planetenring 35, 30823 Garbsen
END:VEVENT
END:VCALENDAR