BEGIN:VCALENDAR
VERSION:2.0
PRODID:http://www.kufer.de/kuferweb / DE
METHOD:PUBLISH
CALSCALE:GREGORIAN
X-WR-TIMEZONE:Europe/Berlin
BEGIN:VTIMEZONE
TZID:Europe/Berlin
X-LIC-LOCATION:Europe/Berlin
BEGIN:DAYLIGHT
TZOFFSETFROM:+0100
TZOFFSETTO:+0200
TZNAME:CEST
DTSTART;TZID=Europe/Berlin:19700329T020000
RRULE:FREQ=YEARLY;INTERVAL=1;BYDAY=-1SU;BYMONTH=3
END:DAYLIGHT
BEGIN:STANDARD
TZOFFSETFROM:+0200
TZOFFSETTO:+0100
TZNAME:CET
DTSTART;TZID=Europe/Berlin:19701025T030000
RRULE:FREQ=YEARLY;INTERVAL=1;BYDAY=-1SU;BYMONTH=10
END:STANDARD
END:VTIMEZONE
BEGIN:VEVENT
DTSTAMP:20260422T204552
DTSTART;TZID=Europe/Berlin:20260817T180000
DTEND;TZID=Europe/Berlin:20260817T193000
UID:262AS0050-20260817T180000@VHSZWECKVERBAND VHS HANNOVER LAND
SUMMARY:Business English zum Feierabend (262AS0050) 
LOCATION:Web-Seminar 2, Den Zugang bekommen Sie ca. eine Woche vor Beginn, Zoom
END:VEVENT
BEGIN:VEVENT
DTSTAMP:20260422T204552
DTSTART;TZID=Europe/Berlin:20260824T180000
DTEND;TZID=Europe/Berlin:20260824T193000
UID:262AS0050-20260824T180000@VHSZWECKVERBAND VHS HANNOVER LAND
SUMMARY:Business English zum Feierabend (262AS0050) 
LOCATION:Web-Seminar 2, Den Zugang bekommen Sie ca. eine Woche vor Beginn, Zoom
END:VEVENT
BEGIN:VEVENT
DTSTAMP:20260422T204552
DTSTART;TZID=Europe/Berlin:20260831T180000
DTEND;TZID=Europe/Berlin:20260831T193000
UID:262AS0050-20260831T180000@VHSZWECKVERBAND VHS HANNOVER LAND
SUMMARY:Business English zum Feierabend (262AS0050) 
LOCATION:Web-Seminar 2, Den Zugang bekommen Sie ca. eine Woche vor Beginn, Zoom
END:VEVENT
BEGIN:VEVENT
DTSTAMP:20260422T204552
DTSTART;TZID=Europe/Berlin:20260907T180000
DTEND;TZID=Europe/Berlin:20260907T193000
UID:262AS0050-20260907T180000@VHSZWECKVERBAND VHS HANNOVER LAND
SUMMARY:Business English zum Feierabend (262AS0050) 
LOCATION:Web-Seminar 2, Den Zugang bekommen Sie ca. eine Woche vor Beginn, Zoom
END:VEVENT
BEGIN:VEVENT
DTSTAMP:20260422T204552
DTSTART;TZID=Europe/Berlin:20260914T180000
DTEND;TZID=Europe/Berlin:20260914T193000
UID:262AS0050-20260914T180000@VHSZWECKVERBAND VHS HANNOVER LAND
SUMMARY:Business English zum Feierabend (262AS0050) 
LOCATION:Web-Seminar 2, Den Zugang bekommen Sie ca. eine Woche vor Beginn, Zoom
END:VEVENT
BEGIN:VEVENT
DTSTAMP:20260422T204552
DTSTART;TZID=Europe/Berlin:20260921T180000
DTEND;TZID=Europe/Berlin:20260921T193000
UID:262AS0050-20260921T180000@VHSZWECKVERBAND VHS HANNOVER LAND
SUMMARY:Business English zum Feierabend (262AS0050) 
LOCATION:Web-Seminar 2, Den Zugang bekommen Sie ca. eine Woche vor Beginn, Zoom
END:VEVENT
BEGIN:VEVENT
DTSTAMP:20260422T204552
DTSTART;TZID=Europe/Berlin:20260928T180000
DTEND;TZID=Europe/Berlin:20260928T193000
UID:262AS0050-20260928T180000@VHSZWECKVERBAND VHS HANNOVER LAND
SUMMARY:Business English zum Feierabend (262AS0050) 
LOCATION:Web-Seminar 2, Den Zugang bekommen Sie ca. eine Woche vor Beginn, Zoom
END:VEVENT
BEGIN:VEVENT
DTSTAMP:20260422T204552
DTSTART;TZID=Europe/Berlin:20261005T180000
DTEND;TZID=Europe/Berlin:20261005T193000
UID:262AS0050-20261005T180000@VHSZWECKVERBAND VHS HANNOVER LAND
SUMMARY:Business English zum Feierabend (262AS0050) 
LOCATION:Web-Seminar 2, Den Zugang bekommen Sie ca. eine Woche vor Beginn, Zoom
END:VEVENT
END:VCALENDAR