BEGIN:VCALENDAR
VERSION:2.0
PRODID:http://www.kufer.de/kuferweb / DE
METHOD:PUBLISH
CALSCALE:GREGORIAN
X-WR-TIMEZONE:Europe/Berlin
BEGIN:VTIMEZONE
TZID:Europe/Berlin
X-LIC-LOCATION:Europe/Berlin
BEGIN:DAYLIGHT
TZOFFSETFROM:+0100
TZOFFSETTO:+0200
TZNAME:CEST
DTSTART;TZID=Europe/Berlin:19700329T020000
RRULE:FREQ=YEARLY;INTERVAL=1;BYDAY=-1SU;BYMONTH=3
END:DAYLIGHT
BEGIN:STANDARD
TZOFFSETFROM:+0200
TZOFFSETTO:+0100
TZNAME:CET
DTSTART;TZID=Europe/Berlin:19701025T030000
RRULE:FREQ=YEARLY;INTERVAL=1;BYDAY=-1SU;BYMONTH=10
END:STANDARD
END:VTIMEZONE
BEGIN:VEVENT
DTSTAMP:20260422T075857
DTSTART;TZID=Europe/Berlin:20260907T180000
DTEND;TZID=Europe/Berlin:20260907T190000
UID:262AS4610-20260907T180000@VHSZWECKVERBAND VHS HANNOVER LAND
SUMMARY:Business-Spanisch online – Souverän kommunizieren im Job (B1/B2) (262AS4610) 
LOCATION:Web-Seminar 8, Den Zugang bekommen Sie ca. eine Woche vor Beginn, Zoom
END:VEVENT
BEGIN:VEVENT
DTSTAMP:20260422T075857
DTSTART;TZID=Europe/Berlin:20260914T180000
DTEND;TZID=Europe/Berlin:20260914T190000
UID:262AS4610-20260914T180000@VHSZWECKVERBAND VHS HANNOVER LAND
SUMMARY:Business-Spanisch online – Souverän kommunizieren im Job (B1/B2) (262AS4610) 
LOCATION:Web-Seminar 8, Den Zugang bekommen Sie ca. eine Woche vor Beginn, Zoom
END:VEVENT
BEGIN:VEVENT
DTSTAMP:20260422T075857
DTSTART;TZID=Europe/Berlin:20260921T180000
DTEND;TZID=Europe/Berlin:20260921T190000
UID:262AS4610-20260921T180000@VHSZWECKVERBAND VHS HANNOVER LAND
SUMMARY:Business-Spanisch online – Souverän kommunizieren im Job (B1/B2) (262AS4610) 
LOCATION:Web-Seminar 8, Den Zugang bekommen Sie ca. eine Woche vor Beginn, Zoom
END:VEVENT
BEGIN:VEVENT
DTSTAMP:20260422T075857
DTSTART;TZID=Europe/Berlin:20260928T180000
DTEND;TZID=Europe/Berlin:20260928T190000
UID:262AS4610-20260928T180000@VHSZWECKVERBAND VHS HANNOVER LAND
SUMMARY:Business-Spanisch online – Souverän kommunizieren im Job (B1/B2) (262AS4610) 
LOCATION:Web-Seminar 8, Den Zugang bekommen Sie ca. eine Woche vor Beginn, Zoom
END:VEVENT
BEGIN:VEVENT
DTSTAMP:20260422T075857
DTSTART;TZID=Europe/Berlin:20261005T180000
DTEND;TZID=Europe/Berlin:20261005T190000
UID:262AS4610-20261005T180000@VHSZWECKVERBAND VHS HANNOVER LAND
SUMMARY:Business-Spanisch online – Souverän kommunizieren im Job (B1/B2) (262AS4610) 
LOCATION:Web-Seminar 8, Den Zugang bekommen Sie ca. eine Woche vor Beginn, Zoom
END:VEVENT
BEGIN:VEVENT
DTSTAMP:20260422T075857
DTSTART;TZID=Europe/Berlin:20261026T180000
DTEND;TZID=Europe/Berlin:20261026T190000
UID:262AS4610-20261026T180000@VHSZWECKVERBAND VHS HANNOVER LAND
SUMMARY:Business-Spanisch online – Souverän kommunizieren im Job (B1/B2) (262AS4610) 
LOCATION:Web-Seminar 8, Den Zugang bekommen Sie ca. eine Woche vor Beginn, Zoom
END:VEVENT
BEGIN:VEVENT
DTSTAMP:20260422T075857
DTSTART;TZID=Europe/Berlin:20261102T180000
DTEND;TZID=Europe/Berlin:20261102T190000
UID:262AS4610-20261102T180000@VHSZWECKVERBAND VHS HANNOVER LAND
SUMMARY:Business-Spanisch online – Souverän kommunizieren im Job (B1/B2) (262AS4610) 
LOCATION:Web-Seminar 8, Den Zugang bekommen Sie ca. eine Woche vor Beginn, Zoom
END:VEVENT
BEGIN:VEVENT
DTSTAMP:20260422T075857
DTSTART;TZID=Europe/Berlin:20261109T180000
DTEND;TZID=Europe/Berlin:20261109T190000
UID:262AS4610-20261109T180000@VHSZWECKVERBAND VHS HANNOVER LAND
SUMMARY:Business-Spanisch online – Souverän kommunizieren im Job (B1/B2) (262AS4610) 
LOCATION:Web-Seminar 8, Den Zugang bekommen Sie ca. eine Woche vor Beginn, Zoom
END:VEVENT
BEGIN:VEVENT
DTSTAMP:20260422T075857
DTSTART;TZID=Europe/Berlin:20261116T180000
DTEND;TZID=Europe/Berlin:20261116T190000
UID:262AS4610-20261116T180000@VHSZWECKVERBAND VHS HANNOVER LAND
SUMMARY:Business-Spanisch online – Souverän kommunizieren im Job (B1/B2) (262AS4610) 
LOCATION:Web-Seminar 8, Den Zugang bekommen Sie ca. eine Woche vor Beginn, Zoom
END:VEVENT
BEGIN:VEVENT
DTSTAMP:20260422T075857
DTSTART;TZID=Europe/Berlin:20261123T180000
DTEND;TZID=Europe/Berlin:20261123T190000
UID:262AS4610-20261123T180000@VHSZWECKVERBAND VHS HANNOVER LAND
SUMMARY:Business-Spanisch online – Souverän kommunizieren im Job (B1/B2) (262AS4610) 
LOCATION:Web-Seminar 8, Den Zugang bekommen Sie ca. eine Woche vor Beginn, Zoom
END:VEVENT
END:VCALENDAR