BEGIN:VCALENDAR
VERSION:2.0
PRODID:http://www.kufer.de/kuferweb / DE
METHOD:PUBLISH
CALSCALE:GREGORIAN
X-WR-TIMEZONE:Europe/Berlin
BEGIN:VTIMEZONE
TZID:Europe/Berlin
X-LIC-LOCATION:Europe/Berlin
BEGIN:DAYLIGHT
TZOFFSETFROM:+0100
TZOFFSETTO:+0200
TZNAME:CEST
DTSTART;TZID=Europe/Berlin:19700329T020000
RRULE:FREQ=YEARLY;INTERVAL=1;BYDAY=-1SU;BYMONTH=3
END:DAYLIGHT
BEGIN:STANDARD
TZOFFSETFROM:+0200
TZOFFSETTO:+0100
TZNAME:CET
DTSTART;TZID=Europe/Berlin:19701025T030000
RRULE:FREQ=YEARLY;INTERVAL=1;BYDAY=-1SU;BYMONTH=10
END:STANDARD
END:VTIMEZONE
BEGIN:VEVENT
DTSTAMP:20260422T190750
DTSTART;TZID=Europe/Berlin:20260819T163000
DTEND;TZID=Europe/Berlin:20260819T173000
UID:262GY0132-20260819T163000@VHSZWECKVERBAND VHS HANNOVER LAND
SUMMARY:Hatha Yoga mit Pilateselementen (262GY0132) 
LOCATION:Garbsen; Geschäftsstelle vhs (am Planetencenter); Entspannung, Planetenring 35, 30823 Garbsen
END:VEVENT
BEGIN:VEVENT
DTSTAMP:20260422T190750
DTSTART;TZID=Europe/Berlin:20260826T163000
DTEND;TZID=Europe/Berlin:20260826T173000
UID:262GY0132-20260826T163000@VHSZWECKVERBAND VHS HANNOVER LAND
SUMMARY:Hatha Yoga mit Pilateselementen (262GY0132) 
LOCATION:Garbsen; Geschäftsstelle vhs (am Planetencenter); Entspannung, Planetenring 35, 30823 Garbsen
END:VEVENT
BEGIN:VEVENT
DTSTAMP:20260422T190750
DTSTART;TZID=Europe/Berlin:20260902T163000
DTEND;TZID=Europe/Berlin:20260902T173000
UID:262GY0132-20260902T163000@VHSZWECKVERBAND VHS HANNOVER LAND
SUMMARY:Hatha Yoga mit Pilateselementen (262GY0132) 
LOCATION:Garbsen; Geschäftsstelle vhs (am Planetencenter); Entspannung, Planetenring 35, 30823 Garbsen
END:VEVENT
BEGIN:VEVENT
DTSTAMP:20260422T190750
DTSTART;TZID=Europe/Berlin:20260909T163000
DTEND;TZID=Europe/Berlin:20260909T173000
UID:262GY0132-20260909T163000@VHSZWECKVERBAND VHS HANNOVER LAND
SUMMARY:Hatha Yoga mit Pilateselementen (262GY0132) 
LOCATION:Garbsen; Geschäftsstelle vhs (am Planetencenter); Entspannung, Planetenring 35, 30823 Garbsen
END:VEVENT
BEGIN:VEVENT
DTSTAMP:20260422T190750
DTSTART;TZID=Europe/Berlin:20260916T163000
DTEND;TZID=Europe/Berlin:20260916T173000
UID:262GY0132-20260916T163000@VHSZWECKVERBAND VHS HANNOVER LAND
SUMMARY:Hatha Yoga mit Pilateselementen (262GY0132) 
LOCATION:Garbsen; Geschäftsstelle vhs (am Planetencenter); Entspannung, Planetenring 35, 30823 Garbsen
END:VEVENT
BEGIN:VEVENT
DTSTAMP:20260422T190750
DTSTART;TZID=Europe/Berlin:20260923T163000
DTEND;TZID=Europe/Berlin:20260923T173000
UID:262GY0132-20260923T163000@VHSZWECKVERBAND VHS HANNOVER LAND
SUMMARY:Hatha Yoga mit Pilateselementen (262GY0132) 
LOCATION:Garbsen; Geschäftsstelle vhs (am Planetencenter); Entspannung, Planetenring 35, 30823 Garbsen
END:VEVENT
BEGIN:VEVENT
DTSTAMP:20260422T190750
DTSTART;TZID=Europe/Berlin:20260930T163000
DTEND;TZID=Europe/Berlin:20260930T173000
UID:262GY0132-20260930T163000@VHSZWECKVERBAND VHS HANNOVER LAND
SUMMARY:Hatha Yoga mit Pilateselementen (262GY0132) 
LOCATION:Garbsen; Geschäftsstelle vhs (am Planetencenter); Entspannung, Planetenring 35, 30823 Garbsen
END:VEVENT
BEGIN:VEVENT
DTSTAMP:20260422T190750
DTSTART;TZID=Europe/Berlin:20261007T163000
DTEND;TZID=Europe/Berlin:20261007T173000
UID:262GY0132-20261007T163000@VHSZWECKVERBAND VHS HANNOVER LAND
SUMMARY:Hatha Yoga mit Pilateselementen (262GY0132) 
LOCATION:Garbsen; Geschäftsstelle vhs (am Planetencenter); Entspannung, Planetenring 35, 30823 Garbsen
END:VEVENT
END:VCALENDAR