BEGIN:VCALENDAR
VERSION:2.0
PRODID:http://www.kufer.de/kuferweb / DE
METHOD:PUBLISH
CALSCALE:GREGORIAN
X-WR-TIMEZONE:Europe/Berlin
BEGIN:VTIMEZONE
TZID:Europe/Berlin
X-LIC-LOCATION:Europe/Berlin
BEGIN:DAYLIGHT
TZOFFSETFROM:+0100
TZOFFSETTO:+0200
TZNAME:CEST
DTSTART;TZID=Europe/Berlin:19700329T020000
RRULE:FREQ=YEARLY;INTERVAL=1;BYDAY=-1SU;BYMONTH=3
END:DAYLIGHT
BEGIN:STANDARD
TZOFFSETFROM:+0200
TZOFFSETTO:+0100
TZNAME:CET
DTSTART;TZID=Europe/Berlin:19701025T030000
RRULE:FREQ=YEARLY;INTERVAL=1;BYDAY=-1SU;BYMONTH=10
END:STANDARD
END:VTIMEZONE
BEGIN:VEVENT
DTSTAMP:20260422T190748
DTSTART;TZID=Europe/Berlin:20261028T163000
DTEND;TZID=Europe/Berlin:20261028T173000
UID:262GY0142-20261028T163000@VHSZWECKVERBAND VHS HANNOVER LAND
SUMMARY:Hatha Yoga mit Pilateselementen (262GY0142) 
LOCATION:Garbsen; Geschäftsstelle vhs (am Planetencenter); Entspannung, Planetenring 35, 30823 Garbsen
END:VEVENT
BEGIN:VEVENT
DTSTAMP:20260422T190748
DTSTART;TZID=Europe/Berlin:20261104T163000
DTEND;TZID=Europe/Berlin:20261104T173000
UID:262GY0142-20261104T163000@VHSZWECKVERBAND VHS HANNOVER LAND
SUMMARY:Hatha Yoga mit Pilateselementen (262GY0142) 
LOCATION:Garbsen; Geschäftsstelle vhs (am Planetencenter); Entspannung, Planetenring 35, 30823 Garbsen
END:VEVENT
BEGIN:VEVENT
DTSTAMP:20260422T190748
DTSTART;TZID=Europe/Berlin:20261111T163000
DTEND;TZID=Europe/Berlin:20261111T173000
UID:262GY0142-20261111T163000@VHSZWECKVERBAND VHS HANNOVER LAND
SUMMARY:Hatha Yoga mit Pilateselementen (262GY0142) 
LOCATION:Garbsen; Geschäftsstelle vhs (am Planetencenter); Entspannung, Planetenring 35, 30823 Garbsen
END:VEVENT
BEGIN:VEVENT
DTSTAMP:20260422T190748
DTSTART;TZID=Europe/Berlin:20261118T163000
DTEND;TZID=Europe/Berlin:20261118T173000
UID:262GY0142-20261118T163000@VHSZWECKVERBAND VHS HANNOVER LAND
SUMMARY:Hatha Yoga mit Pilateselementen (262GY0142) 
LOCATION:Garbsen; Geschäftsstelle vhs (am Planetencenter); Entspannung, Planetenring 35, 30823 Garbsen
END:VEVENT
BEGIN:VEVENT
DTSTAMP:20260422T190748
DTSTART;TZID=Europe/Berlin:20261125T163000
DTEND;TZID=Europe/Berlin:20261125T173000
UID:262GY0142-20261125T163000@VHSZWECKVERBAND VHS HANNOVER LAND
SUMMARY:Hatha Yoga mit Pilateselementen (262GY0142) 
LOCATION:Garbsen; Geschäftsstelle vhs (am Planetencenter); Entspannung, Planetenring 35, 30823 Garbsen
END:VEVENT
BEGIN:VEVENT
DTSTAMP:20260422T190748
DTSTART;TZID=Europe/Berlin:20261202T163000
DTEND;TZID=Europe/Berlin:20261202T173000
UID:262GY0142-20261202T163000@VHSZWECKVERBAND VHS HANNOVER LAND
SUMMARY:Hatha Yoga mit Pilateselementen (262GY0142) 
LOCATION:Garbsen; Geschäftsstelle vhs (am Planetencenter); Entspannung, Planetenring 35, 30823 Garbsen
END:VEVENT
BEGIN:VEVENT
DTSTAMP:20260422T190748
DTSTART;TZID=Europe/Berlin:20261209T163000
DTEND;TZID=Europe/Berlin:20261209T173000
UID:262GY0142-20261209T163000@VHSZWECKVERBAND VHS HANNOVER LAND
SUMMARY:Hatha Yoga mit Pilateselementen (262GY0142) 
LOCATION:Garbsen; Geschäftsstelle vhs (am Planetencenter); Entspannung, Planetenring 35, 30823 Garbsen
END:VEVENT
BEGIN:VEVENT
DTSTAMP:20260422T190748
DTSTART;TZID=Europe/Berlin:20261216T163000
DTEND;TZID=Europe/Berlin:20261216T173000
UID:262GY0142-20261216T163000@VHSZWECKVERBAND VHS HANNOVER LAND
SUMMARY:Hatha Yoga mit Pilateselementen (262GY0142) 
LOCATION:Garbsen; Geschäftsstelle vhs (am Planetencenter); Entspannung, Planetenring 35, 30823 Garbsen
END:VEVENT
END:VCALENDAR