BEGIN:VCALENDAR
VERSION:2.0
PRODID:http://www.kufer.de/kuferweb / DE
METHOD:PUBLISH
CALSCALE:GREGORIAN
X-WR-TIMEZONE:Europe/Berlin
BEGIN:VTIMEZONE
TZID:Europe/Berlin
X-LIC-LOCATION:Europe/Berlin
BEGIN:DAYLIGHT
TZOFFSETFROM:+0100
TZOFFSETTO:+0200
TZNAME:CEST
DTSTART;TZID=Europe/Berlin:19700329T020000
RRULE:FREQ=YEARLY;INTERVAL=1;BYDAY=-1SU;BYMONTH=3
END:DAYLIGHT
BEGIN:STANDARD
TZOFFSETFROM:+0200
TZOFFSETTO:+0100
TZNAME:CET
DTSTART;TZID=Europe/Berlin:19701025T030000
RRULE:FREQ=YEARLY;INTERVAL=1;BYDAY=-1SU;BYMONTH=10
END:STANDARD
END:VTIMEZONE
BEGIN:VEVENT
DTSTAMP:20260422T171212
DTSTART;TZID=Europe/Berlin:20260930T180000
DTEND;TZID=Europe/Berlin:20260930T191500
UID:262GY0200-20260930T180000@VHSZWECKVERBAND VHS HANNOVER LAND
SUMMARY:Yoga und Pilates - Onlinekurs (262GY0200) 
LOCATION:Online- Kurs, , 
END:VEVENT
BEGIN:VEVENT
DTSTAMP:20260422T171212
DTSTART;TZID=Europe/Berlin:20261007T180000
DTEND;TZID=Europe/Berlin:20261007T191500
UID:262GY0200-20261007T180000@VHSZWECKVERBAND VHS HANNOVER LAND
SUMMARY:Yoga und Pilates - Onlinekurs (262GY0200) 
LOCATION:Online- Kurs, , 
END:VEVENT
BEGIN:VEVENT
DTSTAMP:20260422T171212
DTSTART;TZID=Europe/Berlin:20261014T180000
DTEND;TZID=Europe/Berlin:20261014T191500
UID:262GY0200-20261014T180000@VHSZWECKVERBAND VHS HANNOVER LAND
SUMMARY:Yoga und Pilates - Onlinekurs (262GY0200) 
LOCATION:Online- Kurs, , 
END:VEVENT
BEGIN:VEVENT
DTSTAMP:20260422T171212
DTSTART;TZID=Europe/Berlin:20261021T180000
DTEND;TZID=Europe/Berlin:20261021T191500
UID:262GY0200-20261021T180000@VHSZWECKVERBAND VHS HANNOVER LAND
SUMMARY:Yoga und Pilates - Onlinekurs (262GY0200) 
LOCATION:Online- Kurs, , 
END:VEVENT
BEGIN:VEVENT
DTSTAMP:20260422T171212
DTSTART;TZID=Europe/Berlin:20261028T180000
DTEND;TZID=Europe/Berlin:20261028T191500
UID:262GY0200-20261028T180000@VHSZWECKVERBAND VHS HANNOVER LAND
SUMMARY:Yoga und Pilates - Onlinekurs (262GY0200) 
LOCATION:Online- Kurs, , 
END:VEVENT
BEGIN:VEVENT
DTSTAMP:20260422T171212
DTSTART;TZID=Europe/Berlin:20261104T180000
DTEND;TZID=Europe/Berlin:20261104T191500
UID:262GY0200-20261104T180000@VHSZWECKVERBAND VHS HANNOVER LAND
SUMMARY:Yoga und Pilates - Onlinekurs (262GY0200) 
LOCATION:Online- Kurs, , 
END:VEVENT
BEGIN:VEVENT
DTSTAMP:20260422T171212
DTSTART;TZID=Europe/Berlin:20261111T180000
DTEND;TZID=Europe/Berlin:20261111T191500
UID:262GY0200-20261111T180000@VHSZWECKVERBAND VHS HANNOVER LAND
SUMMARY:Yoga und Pilates - Onlinekurs (262GY0200) 
LOCATION:Online- Kurs, , 
END:VEVENT
BEGIN:VEVENT
DTSTAMP:20260422T171212
DTSTART;TZID=Europe/Berlin:20261118T180000
DTEND;TZID=Europe/Berlin:20261118T191500
UID:262GY0200-20261118T180000@VHSZWECKVERBAND VHS HANNOVER LAND
SUMMARY:Yoga und Pilates - Onlinekurs (262GY0200) 
LOCATION:Online- Kurs, , 
END:VEVENT
BEGIN:VEVENT
DTSTAMP:20260422T171212
DTSTART;TZID=Europe/Berlin:20261125T180000
DTEND;TZID=Europe/Berlin:20261125T191500
UID:262GY0200-20261125T180000@VHSZWECKVERBAND VHS HANNOVER LAND
SUMMARY:Yoga und Pilates - Onlinekurs (262GY0200) 
LOCATION:Online- Kurs, , 
END:VEVENT
BEGIN:VEVENT
DTSTAMP:20260422T171212
DTSTART;TZID=Europe/Berlin:20261202T180000
DTEND;TZID=Europe/Berlin:20261202T191500
UID:262GY0200-20261202T180000@VHSZWECKVERBAND VHS HANNOVER LAND
SUMMARY:Yoga und Pilates - Onlinekurs (262GY0200) 
LOCATION:Online- Kurs, , 
END:VEVENT
BEGIN:VEVENT
DTSTAMP:20260422T171212
DTSTART;TZID=Europe/Berlin:20261209T180000
DTEND;TZID=Europe/Berlin:20261209T191500
UID:262GY0200-20261209T180000@VHSZWECKVERBAND VHS HANNOVER LAND
SUMMARY:Yoga und Pilates - Onlinekurs (262GY0200) 
LOCATION:Online- Kurs, , 
END:VEVENT
BEGIN:VEVENT
DTSTAMP:20260422T171212
DTSTART;TZID=Europe/Berlin:20261216T180000
DTEND;TZID=Europe/Berlin:20261216T191500
UID:262GY0200-20261216T180000@VHSZWECKVERBAND VHS HANNOVER LAND
SUMMARY:Yoga und Pilates - Onlinekurs (262GY0200) 
LOCATION:Online- Kurs, , 
END:VEVENT
END:VCALENDAR