BEGIN:VCALENDAR
VERSION:2.0
PRODID:http://www.kufer.de/kuferweb / DE
METHOD:PUBLISH
CALSCALE:GREGORIAN
X-WR-TIMEZONE:Europe/Berlin
BEGIN:VTIMEZONE
TZID:Europe/Berlin
X-LIC-LOCATION:Europe/Berlin
BEGIN:DAYLIGHT
TZOFFSETFROM:+0100
TZOFFSETTO:+0200
TZNAME:CEST
DTSTART;TZID=Europe/Berlin:19700329T020000
RRULE:FREQ=YEARLY;INTERVAL=1;BYDAY=-1SU;BYMONTH=3
END:DAYLIGHT
BEGIN:STANDARD
TZOFFSETFROM:+0200
TZOFFSETTO:+0100
TZNAME:CET
DTSTART;TZID=Europe/Berlin:19701025T030000
RRULE:FREQ=YEARLY;INTERVAL=1;BYDAY=-1SU;BYMONTH=10
END:STANDARD
END:VTIMEZONE
BEGIN:VEVENT
DTSTAMP:20260422T162131
DTSTART;TZID=Europe/Berlin:20260819T174500
DTEND;TZID=Europe/Berlin:20260819T184500
UID:262GY0432-20260819T174500@VHSZWECKVERBAND VHS HANNOVER LAND
SUMMARY:Yin Yoga - Tiefe muskuläre Spannungen durch intensive Dehnung lösen (262GY0432) 
LOCATION:Garbsen; Geschäftsstelle vhs (am Planetencenter); Entspannung, Planetenring 35, 30823 Garbsen
END:VEVENT
BEGIN:VEVENT
DTSTAMP:20260422T162131
DTSTART;TZID=Europe/Berlin:20260826T174500
DTEND;TZID=Europe/Berlin:20260826T184500
UID:262GY0432-20260826T174500@VHSZWECKVERBAND VHS HANNOVER LAND
SUMMARY:Yin Yoga - Tiefe muskuläre Spannungen durch intensive Dehnung lösen (262GY0432) 
LOCATION:Garbsen; Geschäftsstelle vhs (am Planetencenter); Entspannung, Planetenring 35, 30823 Garbsen
END:VEVENT
BEGIN:VEVENT
DTSTAMP:20260422T162131
DTSTART;TZID=Europe/Berlin:20260902T174500
DTEND;TZID=Europe/Berlin:20260902T184500
UID:262GY0432-20260902T174500@VHSZWECKVERBAND VHS HANNOVER LAND
SUMMARY:Yin Yoga - Tiefe muskuläre Spannungen durch intensive Dehnung lösen (262GY0432) 
LOCATION:Garbsen; Geschäftsstelle vhs (am Planetencenter); Entspannung, Planetenring 35, 30823 Garbsen
END:VEVENT
BEGIN:VEVENT
DTSTAMP:20260422T162131
DTSTART;TZID=Europe/Berlin:20260909T174500
DTEND;TZID=Europe/Berlin:20260909T184500
UID:262GY0432-20260909T174500@VHSZWECKVERBAND VHS HANNOVER LAND
SUMMARY:Yin Yoga - Tiefe muskuläre Spannungen durch intensive Dehnung lösen (262GY0432) 
LOCATION:Garbsen; Geschäftsstelle vhs (am Planetencenter); Entspannung, Planetenring 35, 30823 Garbsen
END:VEVENT
BEGIN:VEVENT
DTSTAMP:20260422T162131
DTSTART;TZID=Europe/Berlin:20260916T174500
DTEND;TZID=Europe/Berlin:20260916T184500
UID:262GY0432-20260916T174500@VHSZWECKVERBAND VHS HANNOVER LAND
SUMMARY:Yin Yoga - Tiefe muskuläre Spannungen durch intensive Dehnung lösen (262GY0432) 
LOCATION:Garbsen; Geschäftsstelle vhs (am Planetencenter); Entspannung, Planetenring 35, 30823 Garbsen
END:VEVENT
BEGIN:VEVENT
DTSTAMP:20260422T162131
DTSTART;TZID=Europe/Berlin:20260923T174500
DTEND;TZID=Europe/Berlin:20260923T184500
UID:262GY0432-20260923T174500@VHSZWECKVERBAND VHS HANNOVER LAND
SUMMARY:Yin Yoga - Tiefe muskuläre Spannungen durch intensive Dehnung lösen (262GY0432) 
LOCATION:Garbsen; Geschäftsstelle vhs (am Planetencenter); Entspannung, Planetenring 35, 30823 Garbsen
END:VEVENT
BEGIN:VEVENT
DTSTAMP:20260422T162131
DTSTART;TZID=Europe/Berlin:20260930T174500
DTEND;TZID=Europe/Berlin:20260930T184500
UID:262GY0432-20260930T174500@VHSZWECKVERBAND VHS HANNOVER LAND
SUMMARY:Yin Yoga - Tiefe muskuläre Spannungen durch intensive Dehnung lösen (262GY0432) 
LOCATION:Garbsen; Geschäftsstelle vhs (am Planetencenter); Entspannung, Planetenring 35, 30823 Garbsen
END:VEVENT
BEGIN:VEVENT
DTSTAMP:20260422T162131
DTSTART;TZID=Europe/Berlin:20261007T174500
DTEND;TZID=Europe/Berlin:20261007T184500
UID:262GY0432-20261007T174500@VHSZWECKVERBAND VHS HANNOVER LAND
SUMMARY:Yin Yoga - Tiefe muskuläre Spannungen durch intensive Dehnung lösen (262GY0432) 
LOCATION:Garbsen; Geschäftsstelle vhs (am Planetencenter); Entspannung, Planetenring 35, 30823 Garbsen
END:VEVENT
END:VCALENDAR