BEGIN:VCALENDAR
VERSION:2.0
PRODID:http://www.kufer.de/kuferweb / DE
METHOD:PUBLISH
CALSCALE:GREGORIAN
X-WR-TIMEZONE:Europe/Berlin
BEGIN:VTIMEZONE
TZID:Europe/Berlin
X-LIC-LOCATION:Europe/Berlin
BEGIN:DAYLIGHT
TZOFFSETFROM:+0100
TZOFFSETTO:+0200
TZNAME:CEST
DTSTART;TZID=Europe/Berlin:19700329T020000
RRULE:FREQ=YEARLY;INTERVAL=1;BYDAY=-1SU;BYMONTH=3
END:DAYLIGHT
BEGIN:STANDARD
TZOFFSETFROM:+0200
TZOFFSETTO:+0100
TZNAME:CET
DTSTART;TZID=Europe/Berlin:19701025T030000
RRULE:FREQ=YEARLY;INTERVAL=1;BYDAY=-1SU;BYMONTH=10
END:STANDARD
END:VTIMEZONE
BEGIN:VEVENT
DTSTAMP:20260422T162154
DTSTART;TZID=Europe/Berlin:20261028T174500
DTEND;TZID=Europe/Berlin:20261028T184500
UID:262GY0442-20261028T174500@VHSZWECKVERBAND VHS HANNOVER LAND
SUMMARY:Yin Yoga - Tiefe muskuläre Spannungen durch intensive Dehnung lösen (262GY0442) 
LOCATION:Garbsen; Geschäftsstelle vhs (am Planetencenter); Entspannung, Planetenring 35, 30823 Garbsen
END:VEVENT
BEGIN:VEVENT
DTSTAMP:20260422T162154
DTSTART;TZID=Europe/Berlin:20261104T174500
DTEND;TZID=Europe/Berlin:20261104T184500
UID:262GY0442-20261104T174500@VHSZWECKVERBAND VHS HANNOVER LAND
SUMMARY:Yin Yoga - Tiefe muskuläre Spannungen durch intensive Dehnung lösen (262GY0442) 
LOCATION:Garbsen; Geschäftsstelle vhs (am Planetencenter); Entspannung, Planetenring 35, 30823 Garbsen
END:VEVENT
BEGIN:VEVENT
DTSTAMP:20260422T162154
DTSTART;TZID=Europe/Berlin:20261111T174500
DTEND;TZID=Europe/Berlin:20261111T184500
UID:262GY0442-20261111T174500@VHSZWECKVERBAND VHS HANNOVER LAND
SUMMARY:Yin Yoga - Tiefe muskuläre Spannungen durch intensive Dehnung lösen (262GY0442) 
LOCATION:Garbsen; Geschäftsstelle vhs (am Planetencenter); Entspannung, Planetenring 35, 30823 Garbsen
END:VEVENT
BEGIN:VEVENT
DTSTAMP:20260422T162154
DTSTART;TZID=Europe/Berlin:20261118T174500
DTEND;TZID=Europe/Berlin:20261118T184500
UID:262GY0442-20261118T174500@VHSZWECKVERBAND VHS HANNOVER LAND
SUMMARY:Yin Yoga - Tiefe muskuläre Spannungen durch intensive Dehnung lösen (262GY0442) 
LOCATION:Garbsen; Geschäftsstelle vhs (am Planetencenter); Entspannung, Planetenring 35, 30823 Garbsen
END:VEVENT
BEGIN:VEVENT
DTSTAMP:20260422T162154
DTSTART;TZID=Europe/Berlin:20261125T174500
DTEND;TZID=Europe/Berlin:20261125T184500
UID:262GY0442-20261125T174500@VHSZWECKVERBAND VHS HANNOVER LAND
SUMMARY:Yin Yoga - Tiefe muskuläre Spannungen durch intensive Dehnung lösen (262GY0442) 
LOCATION:Garbsen; Geschäftsstelle vhs (am Planetencenter); Entspannung, Planetenring 35, 30823 Garbsen
END:VEVENT
BEGIN:VEVENT
DTSTAMP:20260422T162154
DTSTART;TZID=Europe/Berlin:20261202T174500
DTEND;TZID=Europe/Berlin:20261202T184500
UID:262GY0442-20261202T174500@VHSZWECKVERBAND VHS HANNOVER LAND
SUMMARY:Yin Yoga - Tiefe muskuläre Spannungen durch intensive Dehnung lösen (262GY0442) 
LOCATION:Garbsen; Geschäftsstelle vhs (am Planetencenter); Entspannung, Planetenring 35, 30823 Garbsen
END:VEVENT
BEGIN:VEVENT
DTSTAMP:20260422T162154
DTSTART;TZID=Europe/Berlin:20261209T174500
DTEND;TZID=Europe/Berlin:20261209T184500
UID:262GY0442-20261209T174500@VHSZWECKVERBAND VHS HANNOVER LAND
SUMMARY:Yin Yoga - Tiefe muskuläre Spannungen durch intensive Dehnung lösen (262GY0442) 
LOCATION:Garbsen; Geschäftsstelle vhs (am Planetencenter); Entspannung, Planetenring 35, 30823 Garbsen
END:VEVENT
BEGIN:VEVENT
DTSTAMP:20260422T162154
DTSTART;TZID=Europe/Berlin:20261216T174500
DTEND;TZID=Europe/Berlin:20261216T184500
UID:262GY0442-20261216T174500@VHSZWECKVERBAND VHS HANNOVER LAND
SUMMARY:Yin Yoga - Tiefe muskuläre Spannungen durch intensive Dehnung lösen (262GY0442) 
LOCATION:Garbsen; Geschäftsstelle vhs (am Planetencenter); Entspannung, Planetenring 35, 30823 Garbsen
END:VEVENT
END:VCALENDAR