BEGIN:VCALENDAR
VERSION:2.0
PRODID:http://www.kufer.de/kuferweb / DE
METHOD:PUBLISH
CALSCALE:GREGORIAN
X-WR-TIMEZONE:Europe/Berlin
BEGIN:VTIMEZONE
TZID:Europe/Berlin
X-LIC-LOCATION:Europe/Berlin
BEGIN:DAYLIGHT
TZOFFSETFROM:+0100
TZOFFSETTO:+0200
TZNAME:CEST
DTSTART;TZID=Europe/Berlin:19700329T020000
RRULE:FREQ=YEARLY;INTERVAL=1;BYDAY=-1SU;BYMONTH=3
END:DAYLIGHT
BEGIN:STANDARD
TZOFFSETFROM:+0200
TZOFFSETTO:+0100
TZNAME:CET
DTSTART;TZID=Europe/Berlin:19701025T030000
RRULE:FREQ=YEARLY;INTERVAL=1;BYDAY=-1SU;BYMONTH=10
END:STANDARD
END:VTIMEZONE
BEGIN:VEVENT
DTSTAMP:20260422T154516
DTSTART;TZID=Europe/Berlin:20261029T181500
DTEND;TZID=Europe/Berlin:20261029T191500
UID:262GY0562-20261029T181500@VHSZWECKVERBAND VHS HANNOVER LAND
SUMMARY:Yoga zur Linderung von Stresssymptomen (262GY0562) 
LOCATION:Garbsen; IGS D-Trakt; D 4 Gym., Meyenfelder Str. 8, 30823 Garbsen
END:VEVENT
BEGIN:VEVENT
DTSTAMP:20260422T154516
DTSTART;TZID=Europe/Berlin:20261105T181500
DTEND;TZID=Europe/Berlin:20261105T191500
UID:262GY0562-20261105T181500@VHSZWECKVERBAND VHS HANNOVER LAND
SUMMARY:Yoga zur Linderung von Stresssymptomen (262GY0562) 
LOCATION:Garbsen; IGS D-Trakt; D 4 Gym., Meyenfelder Str. 8, 30823 Garbsen
END:VEVENT
BEGIN:VEVENT
DTSTAMP:20260422T154516
DTSTART;TZID=Europe/Berlin:20261112T181500
DTEND;TZID=Europe/Berlin:20261112T191500
UID:262GY0562-20261112T181500@VHSZWECKVERBAND VHS HANNOVER LAND
SUMMARY:Yoga zur Linderung von Stresssymptomen (262GY0562) 
LOCATION:Garbsen; IGS D-Trakt; D 4 Gym., Meyenfelder Str. 8, 30823 Garbsen
END:VEVENT
BEGIN:VEVENT
DTSTAMP:20260422T154516
DTSTART;TZID=Europe/Berlin:20261119T181500
DTEND;TZID=Europe/Berlin:20261119T191500
UID:262GY0562-20261119T181500@VHSZWECKVERBAND VHS HANNOVER LAND
SUMMARY:Yoga zur Linderung von Stresssymptomen (262GY0562) 
LOCATION:Garbsen; IGS D-Trakt; D 4 Gym., Meyenfelder Str. 8, 30823 Garbsen
END:VEVENT
BEGIN:VEVENT
DTSTAMP:20260422T154516
DTSTART;TZID=Europe/Berlin:20261126T181500
DTEND;TZID=Europe/Berlin:20261126T191500
UID:262GY0562-20261126T181500@VHSZWECKVERBAND VHS HANNOVER LAND
SUMMARY:Yoga zur Linderung von Stresssymptomen (262GY0562) 
LOCATION:Garbsen; IGS D-Trakt; D 4 Gym., Meyenfelder Str. 8, 30823 Garbsen
END:VEVENT
BEGIN:VEVENT
DTSTAMP:20260422T154516
DTSTART;TZID=Europe/Berlin:20261203T181500
DTEND;TZID=Europe/Berlin:20261203T191500
UID:262GY0562-20261203T181500@VHSZWECKVERBAND VHS HANNOVER LAND
SUMMARY:Yoga zur Linderung von Stresssymptomen (262GY0562) 
LOCATION:Garbsen; IGS D-Trakt; D 4 Gym., Meyenfelder Str. 8, 30823 Garbsen
END:VEVENT
BEGIN:VEVENT
DTSTAMP:20260422T154516
DTSTART;TZID=Europe/Berlin:20261210T181500
DTEND;TZID=Europe/Berlin:20261210T191500
UID:262GY0562-20261210T181500@VHSZWECKVERBAND VHS HANNOVER LAND
SUMMARY:Yoga zur Linderung von Stresssymptomen (262GY0562) 
LOCATION:Garbsen; IGS D-Trakt; D 4 Gym., Meyenfelder Str. 8, 30823 Garbsen
END:VEVENT
END:VCALENDAR