BEGIN:VCALENDAR
VERSION:2.0
PRODID:http://www.kufer.de/kuferweb / DE
METHOD:PUBLISH
CALSCALE:GREGORIAN
X-WR-TIMEZONE:Europe/Berlin
BEGIN:VTIMEZONE
TZID:Europe/Berlin
X-LIC-LOCATION:Europe/Berlin
BEGIN:DAYLIGHT
TZOFFSETFROM:+0100
TZOFFSETTO:+0200
TZNAME:CEST
DTSTART;TZID=Europe/Berlin:19700329T020000
RRULE:FREQ=YEARLY;INTERVAL=1;BYDAY=-1SU;BYMONTH=3
END:DAYLIGHT
BEGIN:STANDARD
TZOFFSETFROM:+0200
TZOFFSETTO:+0100
TZNAME:CET
DTSTART;TZID=Europe/Berlin:19701025T030000
RRULE:FREQ=YEARLY;INTERVAL=1;BYDAY=-1SU;BYMONTH=10
END:STANDARD
END:VTIMEZONE
BEGIN:VEVENT
DTSTAMP:20260422T171732
DTSTART;TZID=Europe/Berlin:20260820T193000
DTEND;TZID=Europe/Berlin:20260820T203000
UID:262GY0572-20260820T193000@VHSZWECKVERBAND VHS HANNOVER LAND
SUMMARY:Hatha-Yoga für Fortgeschrittene (262GY0572) 
LOCATION:Garbsen; IGS D-Trakt; D 4 Gym., Meyenfelder Str. 8, 30823 Garbsen
END:VEVENT
BEGIN:VEVENT
DTSTAMP:20260422T171732
DTSTART;TZID=Europe/Berlin:20260827T193000
DTEND;TZID=Europe/Berlin:20260827T203000
UID:262GY0572-20260827T193000@VHSZWECKVERBAND VHS HANNOVER LAND
SUMMARY:Hatha-Yoga für Fortgeschrittene (262GY0572) 
LOCATION:Garbsen; IGS D-Trakt; D 4 Gym., Meyenfelder Str. 8, 30823 Garbsen
END:VEVENT
BEGIN:VEVENT
DTSTAMP:20260422T171732
DTSTART;TZID=Europe/Berlin:20260903T193000
DTEND;TZID=Europe/Berlin:20260903T203000
UID:262GY0572-20260903T193000@VHSZWECKVERBAND VHS HANNOVER LAND
SUMMARY:Hatha-Yoga für Fortgeschrittene (262GY0572) 
LOCATION:Garbsen; IGS D-Trakt; D 4 Gym., Meyenfelder Str. 8, 30823 Garbsen
END:VEVENT
BEGIN:VEVENT
DTSTAMP:20260422T171732
DTSTART;TZID=Europe/Berlin:20260910T193000
DTEND;TZID=Europe/Berlin:20260910T203000
UID:262GY0572-20260910T193000@VHSZWECKVERBAND VHS HANNOVER LAND
SUMMARY:Hatha-Yoga für Fortgeschrittene (262GY0572) 
LOCATION:Garbsen; IGS D-Trakt; D 4 Gym., Meyenfelder Str. 8, 30823 Garbsen
END:VEVENT
BEGIN:VEVENT
DTSTAMP:20260422T171732
DTSTART;TZID=Europe/Berlin:20260917T193000
DTEND;TZID=Europe/Berlin:20260917T203000
UID:262GY0572-20260917T193000@VHSZWECKVERBAND VHS HANNOVER LAND
SUMMARY:Hatha-Yoga für Fortgeschrittene (262GY0572) 
LOCATION:Garbsen; IGS D-Trakt; D 4 Gym., Meyenfelder Str. 8, 30823 Garbsen
END:VEVENT
BEGIN:VEVENT
DTSTAMP:20260422T171732
DTSTART;TZID=Europe/Berlin:20260924T193000
DTEND;TZID=Europe/Berlin:20260924T203000
UID:262GY0572-20260924T193000@VHSZWECKVERBAND VHS HANNOVER LAND
SUMMARY:Hatha-Yoga für Fortgeschrittene (262GY0572) 
LOCATION:Garbsen; IGS D-Trakt; D 4 Gym., Meyenfelder Str. 8, 30823 Garbsen
END:VEVENT
BEGIN:VEVENT
DTSTAMP:20260422T171732
DTSTART;TZID=Europe/Berlin:20261001T193000
DTEND;TZID=Europe/Berlin:20261001T203000
UID:262GY0572-20261001T193000@VHSZWECKVERBAND VHS HANNOVER LAND
SUMMARY:Hatha-Yoga für Fortgeschrittene (262GY0572) 
LOCATION:Garbsen; IGS D-Trakt; D 4 Gym., Meyenfelder Str. 8, 30823 Garbsen
END:VEVENT
END:VCALENDAR