BEGIN:VCALENDAR
VERSION:2.0
PRODID:http://www.kufer.de/kuferweb / DE
METHOD:PUBLISH
CALSCALE:GREGORIAN
X-WR-TIMEZONE:Europe/Berlin
BEGIN:VTIMEZONE
TZID:Europe/Berlin
X-LIC-LOCATION:Europe/Berlin
BEGIN:DAYLIGHT
TZOFFSETFROM:+0100
TZOFFSETTO:+0200
TZNAME:CEST
DTSTART;TZID=Europe/Berlin:19700329T020000
RRULE:FREQ=YEARLY;INTERVAL=1;BYDAY=-1SU;BYMONTH=3
END:DAYLIGHT
BEGIN:STANDARD
TZOFFSETFROM:+0200
TZOFFSETTO:+0100
TZNAME:CET
DTSTART;TZID=Europe/Berlin:19701025T030000
RRULE:FREQ=YEARLY;INTERVAL=1;BYDAY=-1SU;BYMONTH=10
END:STANDARD
END:VTIMEZONE
BEGIN:VEVENT
DTSTAMP:20260422T123701
DTSTART;TZID=Europe/Berlin:20261029T193000
DTEND;TZID=Europe/Berlin:20261029T203000
UID:262GY0582-20261029T193000@VHSZWECKVERBAND VHS HANNOVER LAND
SUMMARY:Hatha-Yoga für Fortgeschrittene (262GY0582) 
LOCATION:Garbsen; IGS D-Trakt; D 4 Gym., Meyenfelder Str. 8, 30823 Garbsen
END:VEVENT
BEGIN:VEVENT
DTSTAMP:20260422T123701
DTSTART;TZID=Europe/Berlin:20261105T193000
DTEND;TZID=Europe/Berlin:20261105T203000
UID:262GY0582-20261105T193000@VHSZWECKVERBAND VHS HANNOVER LAND
SUMMARY:Hatha-Yoga für Fortgeschrittene (262GY0582) 
LOCATION:Garbsen; IGS D-Trakt; D 4 Gym., Meyenfelder Str. 8, 30823 Garbsen
END:VEVENT
BEGIN:VEVENT
DTSTAMP:20260422T123701
DTSTART;TZID=Europe/Berlin:20261112T193000
DTEND;TZID=Europe/Berlin:20261112T203000
UID:262GY0582-20261112T193000@VHSZWECKVERBAND VHS HANNOVER LAND
SUMMARY:Hatha-Yoga für Fortgeschrittene (262GY0582) 
LOCATION:Garbsen; IGS D-Trakt; D 4 Gym., Meyenfelder Str. 8, 30823 Garbsen
END:VEVENT
BEGIN:VEVENT
DTSTAMP:20260422T123701
DTSTART;TZID=Europe/Berlin:20261119T193000
DTEND;TZID=Europe/Berlin:20261119T203000
UID:262GY0582-20261119T193000@VHSZWECKVERBAND VHS HANNOVER LAND
SUMMARY:Hatha-Yoga für Fortgeschrittene (262GY0582) 
LOCATION:Garbsen; IGS D-Trakt; D 4 Gym., Meyenfelder Str. 8, 30823 Garbsen
END:VEVENT
BEGIN:VEVENT
DTSTAMP:20260422T123701
DTSTART;TZID=Europe/Berlin:20261126T193000
DTEND;TZID=Europe/Berlin:20261126T203000
UID:262GY0582-20261126T193000@VHSZWECKVERBAND VHS HANNOVER LAND
SUMMARY:Hatha-Yoga für Fortgeschrittene (262GY0582) 
LOCATION:Garbsen; IGS D-Trakt; D 4 Gym., Meyenfelder Str. 8, 30823 Garbsen
END:VEVENT
BEGIN:VEVENT
DTSTAMP:20260422T123701
DTSTART;TZID=Europe/Berlin:20261203T193000
DTEND;TZID=Europe/Berlin:20261203T203000
UID:262GY0582-20261203T193000@VHSZWECKVERBAND VHS HANNOVER LAND
SUMMARY:Hatha-Yoga für Fortgeschrittene (262GY0582) 
LOCATION:Garbsen; IGS D-Trakt; D 4 Gym., Meyenfelder Str. 8, 30823 Garbsen
END:VEVENT
BEGIN:VEVENT
DTSTAMP:20260422T123701
DTSTART;TZID=Europe/Berlin:20261210T193000
DTEND;TZID=Europe/Berlin:20261210T203000
UID:262GY0582-20261210T193000@VHSZWECKVERBAND VHS HANNOVER LAND
SUMMARY:Hatha-Yoga für Fortgeschrittene (262GY0582) 
LOCATION:Garbsen; IGS D-Trakt; D 4 Gym., Meyenfelder Str. 8, 30823 Garbsen
END:VEVENT
END:VCALENDAR