BEGIN:VCALENDAR
VERSION:2.0
PRODID:http://www.kufer.de/kuferweb / DE
METHOD:PUBLISH
CALSCALE:GREGORIAN
X-WR-TIMEZONE:Europe/Berlin
BEGIN:VTIMEZONE
TZID:Europe/Berlin
X-LIC-LOCATION:Europe/Berlin
BEGIN:DAYLIGHT
TZOFFSETFROM:+0100
TZOFFSETTO:+0200
TZNAME:CEST
DTSTART;TZID=Europe/Berlin:19700329T020000
RRULE:FREQ=YEARLY;INTERVAL=1;BYDAY=-1SU;BYMONTH=3
END:DAYLIGHT
BEGIN:STANDARD
TZOFFSETFROM:+0200
TZOFFSETTO:+0100
TZNAME:CET
DTSTART;TZID=Europe/Berlin:19701025T030000
RRULE:FREQ=YEARLY;INTERVAL=1;BYDAY=-1SU;BYMONTH=10
END:STANDARD
END:VTIMEZONE
BEGIN:VEVENT
DTSTAMP:20260422T171716
DTSTART;TZID=Europe/Berlin:20260815T110000
DTEND;TZID=Europe/Berlin:20260815T123000
UID:262GY0852-20260815T110000@VHSZWECKVERBAND VHS HANNOVER LAND
SUMMARY:Sanftes Herz Yoga am Samstag (262GY0852) 
LOCATION:Garbsen; IGS D-Trakt; D 4 Gym., Meyenfelder Str. 8, 30823 Garbsen
END:VEVENT
BEGIN:VEVENT
DTSTAMP:20260422T171716
DTSTART;TZID=Europe/Berlin:20260822T110000
DTEND;TZID=Europe/Berlin:20260822T123000
UID:262GY0852-20260822T110000@VHSZWECKVERBAND VHS HANNOVER LAND
SUMMARY:Sanftes Herz Yoga am Samstag (262GY0852) 
LOCATION:Garbsen; IGS D-Trakt; D 4 Gym., Meyenfelder Str. 8, 30823 Garbsen
END:VEVENT
BEGIN:VEVENT
DTSTAMP:20260422T171716
DTSTART;TZID=Europe/Berlin:20260829T110000
DTEND;TZID=Europe/Berlin:20260829T123000
UID:262GY0852-20260829T110000@VHSZWECKVERBAND VHS HANNOVER LAND
SUMMARY:Sanftes Herz Yoga am Samstag (262GY0852) 
LOCATION:Garbsen; IGS D-Trakt; D 4 Gym., Meyenfelder Str. 8, 30823 Garbsen
END:VEVENT
BEGIN:VEVENT
DTSTAMP:20260422T171716
DTSTART;TZID=Europe/Berlin:20260905T110000
DTEND;TZID=Europe/Berlin:20260905T123000
UID:262GY0852-20260905T110000@VHSZWECKVERBAND VHS HANNOVER LAND
SUMMARY:Sanftes Herz Yoga am Samstag (262GY0852) 
LOCATION:Garbsen; IGS D-Trakt; D 4 Gym., Meyenfelder Str. 8, 30823 Garbsen
END:VEVENT
BEGIN:VEVENT
DTSTAMP:20260422T171716
DTSTART;TZID=Europe/Berlin:20260912T110000
DTEND;TZID=Europe/Berlin:20260912T123000
UID:262GY0852-20260912T110000@VHSZWECKVERBAND VHS HANNOVER LAND
SUMMARY:Sanftes Herz Yoga am Samstag (262GY0852) 
LOCATION:Garbsen; IGS D-Trakt; D 4 Gym., Meyenfelder Str. 8, 30823 Garbsen
END:VEVENT
BEGIN:VEVENT
DTSTAMP:20260422T171716
DTSTART;TZID=Europe/Berlin:20260919T110000
DTEND;TZID=Europe/Berlin:20260919T123000
UID:262GY0852-20260919T110000@VHSZWECKVERBAND VHS HANNOVER LAND
SUMMARY:Sanftes Herz Yoga am Samstag (262GY0852) 
LOCATION:Garbsen; IGS D-Trakt; D 4 Gym., Meyenfelder Str. 8, 30823 Garbsen
END:VEVENT
BEGIN:VEVENT
DTSTAMP:20260422T171716
DTSTART;TZID=Europe/Berlin:20260926T110000
DTEND;TZID=Europe/Berlin:20260926T123000
UID:262GY0852-20260926T110000@VHSZWECKVERBAND VHS HANNOVER LAND
SUMMARY:Sanftes Herz Yoga am Samstag (262GY0852) 
LOCATION:Garbsen; IGS D-Trakt; D 4 Gym., Meyenfelder Str. 8, 30823 Garbsen
END:VEVENT
END:VCALENDAR