BEGIN:VCALENDAR
VERSION:2.0
PRODID:http://www.kufer.de/kuferweb / DE
METHOD:PUBLISH
CALSCALE:GREGORIAN
X-WR-TIMEZONE:Europe/Berlin
BEGIN:VTIMEZONE
TZID:Europe/Berlin
X-LIC-LOCATION:Europe/Berlin
BEGIN:DAYLIGHT
TZOFFSETFROM:+0100
TZOFFSETTO:+0200
TZNAME:CEST
DTSTART;TZID=Europe/Berlin:19700329T020000
RRULE:FREQ=YEARLY;INTERVAL=1;BYDAY=-1SU;BYMONTH=3
END:DAYLIGHT
BEGIN:STANDARD
TZOFFSETFROM:+0200
TZOFFSETTO:+0100
TZNAME:CET
DTSTART;TZID=Europe/Berlin:19701025T030000
RRULE:FREQ=YEARLY;INTERVAL=1;BYDAY=-1SU;BYMONTH=10
END:STANDARD
END:VTIMEZONE
BEGIN:VEVENT
DTSTAMP:20260422T171734
DTSTART;TZID=Europe/Berlin:20261107T110000
DTEND;TZID=Europe/Berlin:20261107T123000
UID:262GY0862-20261107T110000@VHSZWECKVERBAND VHS HANNOVER LAND
SUMMARY:Sanftes Herz Yoga am Samstag (262GY0862) 
LOCATION:Garbsen; IGS D-Trakt; D 4 Gym., Meyenfelder Str. 8, 30823 Garbsen
END:VEVENT
BEGIN:VEVENT
DTSTAMP:20260422T171734
DTSTART;TZID=Europe/Berlin:20261114T110000
DTEND;TZID=Europe/Berlin:20261114T123000
UID:262GY0862-20261114T110000@VHSZWECKVERBAND VHS HANNOVER LAND
SUMMARY:Sanftes Herz Yoga am Samstag (262GY0862) 
LOCATION:Garbsen; IGS D-Trakt; D 4 Gym., Meyenfelder Str. 8, 30823 Garbsen
END:VEVENT
BEGIN:VEVENT
DTSTAMP:20260422T171734
DTSTART;TZID=Europe/Berlin:20261121T110000
DTEND;TZID=Europe/Berlin:20261121T123000
UID:262GY0862-20261121T110000@VHSZWECKVERBAND VHS HANNOVER LAND
SUMMARY:Sanftes Herz Yoga am Samstag (262GY0862) 
LOCATION:Garbsen; IGS D-Trakt; D 4 Gym., Meyenfelder Str. 8, 30823 Garbsen
END:VEVENT
BEGIN:VEVENT
DTSTAMP:20260422T171734
DTSTART;TZID=Europe/Berlin:20261128T110000
DTEND;TZID=Europe/Berlin:20261128T123000
UID:262GY0862-20261128T110000@VHSZWECKVERBAND VHS HANNOVER LAND
SUMMARY:Sanftes Herz Yoga am Samstag (262GY0862) 
LOCATION:Garbsen; IGS D-Trakt; D 4 Gym., Meyenfelder Str. 8, 30823 Garbsen
END:VEVENT
BEGIN:VEVENT
DTSTAMP:20260422T171734
DTSTART;TZID=Europe/Berlin:20261205T110000
DTEND;TZID=Europe/Berlin:20261205T123000
UID:262GY0862-20261205T110000@VHSZWECKVERBAND VHS HANNOVER LAND
SUMMARY:Sanftes Herz Yoga am Samstag (262GY0862) 
LOCATION:Garbsen; IGS D-Trakt; D 4 Gym., Meyenfelder Str. 8, 30823 Garbsen
END:VEVENT
BEGIN:VEVENT
DTSTAMP:20260422T171734
DTSTART;TZID=Europe/Berlin:20261212T110000
DTEND;TZID=Europe/Berlin:20261212T123000
UID:262GY0862-20261212T110000@VHSZWECKVERBAND VHS HANNOVER LAND
SUMMARY:Sanftes Herz Yoga am Samstag (262GY0862) 
LOCATION:Garbsen; IGS D-Trakt; D 4 Gym., Meyenfelder Str. 8, 30823 Garbsen
END:VEVENT
BEGIN:VEVENT
DTSTAMP:20260422T171734
DTSTART;TZID=Europe/Berlin:20261219T110000
DTEND;TZID=Europe/Berlin:20261219T123000
UID:262GY0862-20261219T110000@VHSZWECKVERBAND VHS HANNOVER LAND
SUMMARY:Sanftes Herz Yoga am Samstag (262GY0862) 
LOCATION:Garbsen; IGS D-Trakt; D 4 Gym., Meyenfelder Str. 8, 30823 Garbsen
END:VEVENT
END:VCALENDAR