BEGIN:VCALENDAR
VERSION:2.0
PRODID:http://www.kufer.de/kuferweb / DE
METHOD:PUBLISH
CALSCALE:GREGORIAN
X-WR-TIMEZONE:Europe/Berlin
BEGIN:VTIMEZONE
TZID:Europe/Berlin
X-LIC-LOCATION:Europe/Berlin
BEGIN:DAYLIGHT
TZOFFSETFROM:+0100
TZOFFSETTO:+0200
TZNAME:CEST
DTSTART;TZID=Europe/Berlin:19700329T020000
RRULE:FREQ=YEARLY;INTERVAL=1;BYDAY=-1SU;BYMONTH=3
END:DAYLIGHT
BEGIN:STANDARD
TZOFFSETFROM:+0200
TZOFFSETTO:+0100
TZNAME:CET
DTSTART;TZID=Europe/Berlin:19701025T030000
RRULE:FREQ=YEARLY;INTERVAL=1;BYDAY=-1SU;BYMONTH=10
END:STANDARD
END:VTIMEZONE
BEGIN:VEVENT
DTSTAMP:20260422T203857
DTSTART;TZID=Europe/Berlin:20260928T190000
DTEND;TZID=Europe/Berlin:20260928T200000
UID:262GY1370-20260928T190000@VHSZWECKVERBAND VHS HANNOVER LAND
SUMMARY:Faszien Yoga - Onlinekurs (262GY1370) 
LOCATION:Online- Kurs, , 
END:VEVENT
BEGIN:VEVENT
DTSTAMP:20260422T203857
DTSTART;TZID=Europe/Berlin:20261005T190000
DTEND;TZID=Europe/Berlin:20261005T200000
UID:262GY1370-20261005T190000@VHSZWECKVERBAND VHS HANNOVER LAND
SUMMARY:Faszien Yoga - Onlinekurs (262GY1370) 
LOCATION:Online- Kurs, , 
END:VEVENT
BEGIN:VEVENT
DTSTAMP:20260422T203857
DTSTART;TZID=Europe/Berlin:20261012T190000
DTEND;TZID=Europe/Berlin:20261012T200000
UID:262GY1370-20261012T190000@VHSZWECKVERBAND VHS HANNOVER LAND
SUMMARY:Faszien Yoga - Onlinekurs (262GY1370) 
LOCATION:Online- Kurs, , 
END:VEVENT
BEGIN:VEVENT
DTSTAMP:20260422T203857
DTSTART;TZID=Europe/Berlin:20261019T190000
DTEND;TZID=Europe/Berlin:20261019T200000
UID:262GY1370-20261019T190000@VHSZWECKVERBAND VHS HANNOVER LAND
SUMMARY:Faszien Yoga - Onlinekurs (262GY1370) 
LOCATION:Online- Kurs, , 
END:VEVENT
BEGIN:VEVENT
DTSTAMP:20260422T203857
DTSTART;TZID=Europe/Berlin:20261026T190000
DTEND;TZID=Europe/Berlin:20261026T200000
UID:262GY1370-20261026T190000@VHSZWECKVERBAND VHS HANNOVER LAND
SUMMARY:Faszien Yoga - Onlinekurs (262GY1370) 
LOCATION:Online- Kurs, , 
END:VEVENT
BEGIN:VEVENT
DTSTAMP:20260422T203857
DTSTART;TZID=Europe/Berlin:20261102T190000
DTEND;TZID=Europe/Berlin:20261102T200000
UID:262GY1370-20261102T190000@VHSZWECKVERBAND VHS HANNOVER LAND
SUMMARY:Faszien Yoga - Onlinekurs (262GY1370) 
LOCATION:Online- Kurs, , 
END:VEVENT
BEGIN:VEVENT
DTSTAMP:20260422T203857
DTSTART;TZID=Europe/Berlin:20261109T190000
DTEND;TZID=Europe/Berlin:20261109T200000
UID:262GY1370-20261109T190000@VHSZWECKVERBAND VHS HANNOVER LAND
SUMMARY:Faszien Yoga - Onlinekurs (262GY1370) 
LOCATION:Online- Kurs, , 
END:VEVENT
BEGIN:VEVENT
DTSTAMP:20260422T203857
DTSTART;TZID=Europe/Berlin:20261116T190000
DTEND;TZID=Europe/Berlin:20261116T200000
UID:262GY1370-20261116T190000@VHSZWECKVERBAND VHS HANNOVER LAND
SUMMARY:Faszien Yoga - Onlinekurs (262GY1370) 
LOCATION:Online- Kurs, , 
END:VEVENT
BEGIN:VEVENT
DTSTAMP:20260422T203857
DTSTART;TZID=Europe/Berlin:20261123T190000
DTEND;TZID=Europe/Berlin:20261123T200000
UID:262GY1370-20261123T190000@VHSZWECKVERBAND VHS HANNOVER LAND
SUMMARY:Faszien Yoga - Onlinekurs (262GY1370) 
LOCATION:Online- Kurs, , 
END:VEVENT
BEGIN:VEVENT
DTSTAMP:20260422T203857
DTSTART;TZID=Europe/Berlin:20261130T190000
DTEND;TZID=Europe/Berlin:20261130T200000
UID:262GY1370-20261130T190000@VHSZWECKVERBAND VHS HANNOVER LAND
SUMMARY:Faszien Yoga - Onlinekurs (262GY1370) 
LOCATION:Online- Kurs, , 
END:VEVENT
BEGIN:VEVENT
DTSTAMP:20260422T203857
DTSTART;TZID=Europe/Berlin:20261207T190000
DTEND;TZID=Europe/Berlin:20261207T200000
UID:262GY1370-20261207T190000@VHSZWECKVERBAND VHS HANNOVER LAND
SUMMARY:Faszien Yoga - Onlinekurs (262GY1370) 
LOCATION:Online- Kurs, , 
END:VEVENT
BEGIN:VEVENT
DTSTAMP:20260422T203857
DTSTART;TZID=Europe/Berlin:20261214T190000
DTEND;TZID=Europe/Berlin:20261214T200000
UID:262GY1370-20261214T190000@VHSZWECKVERBAND VHS HANNOVER LAND
SUMMARY:Faszien Yoga - Onlinekurs (262GY1370) 
LOCATION:Online- Kurs, , 
END:VEVENT
END:VCALENDAR