BEGIN:VCALENDAR
VERSION:2.0
PRODID:http://www.kufer.de/kuferweb / DE
METHOD:PUBLISH
CALSCALE:GREGORIAN
X-WR-TIMEZONE:Europe/Berlin
BEGIN:VTIMEZONE
TZID:Europe/Berlin
X-LIC-LOCATION:Europe/Berlin
BEGIN:DAYLIGHT
TZOFFSETFROM:+0100
TZOFFSETTO:+0200
TZNAME:CEST
DTSTART;TZID=Europe/Berlin:19700329T020000
RRULE:FREQ=YEARLY;INTERVAL=1;BYDAY=-1SU;BYMONTH=3
END:DAYLIGHT
BEGIN:STANDARD
TZOFFSETFROM:+0200
TZOFFSETTO:+0100
TZNAME:CET
DTSTART;TZID=Europe/Berlin:19701025T030000
RRULE:FREQ=YEARLY;INTERVAL=1;BYDAY=-1SU;BYMONTH=10
END:STANDARD
END:VTIMEZONE
BEGIN:VEVENT
DTSTAMP:20260422T140735
DTSTART;TZID=Europe/Berlin:20260928T121500
DTEND;TZID=Europe/Berlin:20260928T123000
UID:262GY2260-20260928T121500@VHSZWECKVERBAND VHS HANNOVER LAND
SUMMARY:Aktive Mittagspause- Onlinekurs (262GY2260) 
LOCATION:Online- Kurs, , 
END:VEVENT
BEGIN:VEVENT
DTSTAMP:20260422T140735
DTSTART;TZID=Europe/Berlin:20261005T121500
DTEND;TZID=Europe/Berlin:20261005T123000
UID:262GY2260-20261005T121500@VHSZWECKVERBAND VHS HANNOVER LAND
SUMMARY:Aktive Mittagspause- Onlinekurs (262GY2260) 
LOCATION:Online- Kurs, , 
END:VEVENT
BEGIN:VEVENT
DTSTAMP:20260422T140735
DTSTART;TZID=Europe/Berlin:20261012T121500
DTEND;TZID=Europe/Berlin:20261012T123000
UID:262GY2260-20261012T121500@VHSZWECKVERBAND VHS HANNOVER LAND
SUMMARY:Aktive Mittagspause- Onlinekurs (262GY2260) 
LOCATION:Online- Kurs, , 
END:VEVENT
BEGIN:VEVENT
DTSTAMP:20260422T140735
DTSTART;TZID=Europe/Berlin:20261019T121500
DTEND;TZID=Europe/Berlin:20261019T123000
UID:262GY2260-20261019T121500@VHSZWECKVERBAND VHS HANNOVER LAND
SUMMARY:Aktive Mittagspause- Onlinekurs (262GY2260) 
LOCATION:Online- Kurs, , 
END:VEVENT
BEGIN:VEVENT
DTSTAMP:20260422T140735
DTSTART;TZID=Europe/Berlin:20261026T121500
DTEND;TZID=Europe/Berlin:20261026T123000
UID:262GY2260-20261026T121500@VHSZWECKVERBAND VHS HANNOVER LAND
SUMMARY:Aktive Mittagspause- Onlinekurs (262GY2260) 
LOCATION:Online- Kurs, , 
END:VEVENT
BEGIN:VEVENT
DTSTAMP:20260422T140735
DTSTART;TZID=Europe/Berlin:20261102T121500
DTEND;TZID=Europe/Berlin:20261102T123000
UID:262GY2260-20261102T121500@VHSZWECKVERBAND VHS HANNOVER LAND
SUMMARY:Aktive Mittagspause- Onlinekurs (262GY2260) 
LOCATION:Online- Kurs, , 
END:VEVENT
BEGIN:VEVENT
DTSTAMP:20260422T140735
DTSTART;TZID=Europe/Berlin:20261109T121500
DTEND;TZID=Europe/Berlin:20261109T123000
UID:262GY2260-20261109T121500@VHSZWECKVERBAND VHS HANNOVER LAND
SUMMARY:Aktive Mittagspause- Onlinekurs (262GY2260) 
LOCATION:Online- Kurs, , 
END:VEVENT
BEGIN:VEVENT
DTSTAMP:20260422T140735
DTSTART;TZID=Europe/Berlin:20261116T121500
DTEND;TZID=Europe/Berlin:20261116T123000
UID:262GY2260-20261116T121500@VHSZWECKVERBAND VHS HANNOVER LAND
SUMMARY:Aktive Mittagspause- Onlinekurs (262GY2260) 
LOCATION:Online- Kurs, , 
END:VEVENT
BEGIN:VEVENT
DTSTAMP:20260422T140735
DTSTART;TZID=Europe/Berlin:20261123T121500
DTEND;TZID=Europe/Berlin:20261123T123000
UID:262GY2260-20261123T121500@VHSZWECKVERBAND VHS HANNOVER LAND
SUMMARY:Aktive Mittagspause- Onlinekurs (262GY2260) 
LOCATION:Online- Kurs, , 
END:VEVENT
BEGIN:VEVENT
DTSTAMP:20260422T140735
DTSTART;TZID=Europe/Berlin:20261130T121500
DTEND;TZID=Europe/Berlin:20261130T123000
UID:262GY2260-20261130T121500@VHSZWECKVERBAND VHS HANNOVER LAND
SUMMARY:Aktive Mittagspause- Onlinekurs (262GY2260) 
LOCATION:Online- Kurs, , 
END:VEVENT
BEGIN:VEVENT
DTSTAMP:20260422T140735
DTSTART;TZID=Europe/Berlin:20261207T121500
DTEND;TZID=Europe/Berlin:20261207T123000
UID:262GY2260-20261207T121500@VHSZWECKVERBAND VHS HANNOVER LAND
SUMMARY:Aktive Mittagspause- Onlinekurs (262GY2260) 
LOCATION:Online- Kurs, , 
END:VEVENT
BEGIN:VEVENT
DTSTAMP:20260422T140735
DTSTART;TZID=Europe/Berlin:20261214T121500
DTEND;TZID=Europe/Berlin:20261214T123000
UID:262GY2260-20261214T121500@VHSZWECKVERBAND VHS HANNOVER LAND
SUMMARY:Aktive Mittagspause- Onlinekurs (262GY2260) 
LOCATION:Online- Kurs, , 
END:VEVENT
END:VCALENDAR