BEGIN:VCALENDAR
VERSION:2.0
PRODID:http://www.kufer.de/kuferweb / DE
METHOD:PUBLISH
CALSCALE:GREGORIAN
X-WR-TIMEZONE:Europe/Berlin
BEGIN:VTIMEZONE
TZID:Europe/Berlin
X-LIC-LOCATION:Europe/Berlin
BEGIN:DAYLIGHT
TZOFFSETFROM:+0100
TZOFFSETTO:+0200
TZNAME:CEST
DTSTART;TZID=Europe/Berlin:19700329T020000
RRULE:FREQ=YEARLY;INTERVAL=1;BYDAY=-1SU;BYMONTH=3
END:DAYLIGHT
BEGIN:STANDARD
TZOFFSETFROM:+0200
TZOFFSETTO:+0100
TZNAME:CET
DTSTART;TZID=Europe/Berlin:19701025T030000
RRULE:FREQ=YEARLY;INTERVAL=1;BYDAY=-1SU;BYMONTH=10
END:STANDARD
END:VTIMEZONE
BEGIN:VEVENT
DTSTAMP:20260422T180455
DTSTART;TZID=Europe/Berlin:20260819T140000
DTEND;TZID=Europe/Berlin:20260819T161500
UID:262LN0012-20260819T140000@VHSZWECKVERBAND VHS HANNOVER LAND
SUMMARY:Fit mit Smartphone & Tablet – Der Treff für Senior*innen (262LN0012) 
LOCATION:Garbsen; Geschäftsstelle vhs (am Planetencenter); EDV-Raum, Planetenring 35, 30823 Garbsen
END:VEVENT
BEGIN:VEVENT
DTSTAMP:20260422T180455
DTSTART;TZID=Europe/Berlin:20260916T140000
DTEND;TZID=Europe/Berlin:20260916T161500
UID:262LN0012-20260916T140000@VHSZWECKVERBAND VHS HANNOVER LAND
SUMMARY:Fit mit Smartphone & Tablet – Der Treff für Senior*innen (262LN0012) 
LOCATION:Garbsen; Geschäftsstelle vhs (am Planetencenter); EDV-Raum, Planetenring 35, 30823 Garbsen
END:VEVENT
BEGIN:VEVENT
DTSTAMP:20260422T180455
DTSTART;TZID=Europe/Berlin:20261118T140000
DTEND;TZID=Europe/Berlin:20261118T161500
UID:262LN0012-20261118T140000@VHSZWECKVERBAND VHS HANNOVER LAND
SUMMARY:Fit mit Smartphone & Tablet – Der Treff für Senior*innen (262LN0012) 
LOCATION:Garbsen; Geschäftsstelle vhs (am Planetencenter); EDV-Raum, Planetenring 35, 30823 Garbsen
END:VEVENT
BEGIN:VEVENT
DTSTAMP:20260422T180455
DTSTART;TZID=Europe/Berlin:20261216T140000
DTEND;TZID=Europe/Berlin:20261216T161500
UID:262LN0012-20261216T140000@VHSZWECKVERBAND VHS HANNOVER LAND
SUMMARY:Fit mit Smartphone & Tablet – Der Treff für Senior*innen (262LN0012) 
LOCATION:Garbsen; Geschäftsstelle vhs (am Planetencenter); EDV-Raum, Planetenring 35, 30823 Garbsen
END:VEVENT
END:VCALENDAR