BEGIN:VCALENDAR
VERSION:2.0
PRODID:http://www.kufer.de/kuferweb / DE
METHOD:PUBLISH
CALSCALE:GREGORIAN
X-WR-TIMEZONE:Europe/Berlin
BEGIN:VTIMEZONE
TZID:Europe/Berlin
X-LIC-LOCATION:Europe/Berlin
BEGIN:DAYLIGHT
TZOFFSETFROM:+0100
TZOFFSETTO:+0200
TZNAME:CEST
DTSTART;TZID=Europe/Berlin:19700329T020000
RRULE:FREQ=YEARLY;INTERVAL=1;BYDAY=-1SU;BYMONTH=3
END:DAYLIGHT
BEGIN:STANDARD
TZOFFSETFROM:+0200
TZOFFSETTO:+0100
TZNAME:CET
DTSTART;TZID=Europe/Berlin:19701025T030000
RRULE:FREQ=YEARLY;INTERVAL=1;BYDAY=-1SU;BYMONTH=10
END:STANDARD
END:VTIMEZONE
BEGIN:VEVENT
DTSTAMP:20260422T124417
DTSTART;TZID=Europe/Berlin:20261012T093000
DTEND;TZID=Europe/Berlin:20261012T173000
UID:262LWB220-20261012T093000@VHSZWECKVERBAND VHS HANNOVER LAND
SUMMARY:Bildungsurlaub: Die Welt spielt verrückt – müssen wir da mitspielen? (262LWB220) 
LOCATION:Spiekeroog; Katholisches Ferienwerk Haus Winfried, Süderloog 24, 26747 Spiekeroog
END:VEVENT
BEGIN:VEVENT
DTSTAMP:20260422T124417
DTSTART;TZID=Europe/Berlin:20261013T090000
DTEND;TZID=Europe/Berlin:20261013T180000
UID:262LWB220-20261013T090000@VHSZWECKVERBAND VHS HANNOVER LAND
SUMMARY:Bildungsurlaub: Die Welt spielt verrückt – müssen wir da mitspielen? (262LWB220) 
LOCATION:Spiekeroog; Katholisches Ferienwerk Haus Winfried, Süderloog 24, 26747 Spiekeroog
END:VEVENT
BEGIN:VEVENT
DTSTAMP:20260422T124417
DTSTART;TZID=Europe/Berlin:20261014T090000
DTEND;TZID=Europe/Berlin:20261014T203000
UID:262LWB220-20261014T090000@VHSZWECKVERBAND VHS HANNOVER LAND
SUMMARY:Bildungsurlaub: Die Welt spielt verrückt – müssen wir da mitspielen? (262LWB220) 
LOCATION:Spiekeroog; Katholisches Ferienwerk Haus Winfried, Süderloog 24, 26747 Spiekeroog
END:VEVENT
BEGIN:VEVENT
DTSTAMP:20260422T124417
DTSTART;TZID=Europe/Berlin:20261015T090000
DTEND;TZID=Europe/Berlin:20261015T173000
UID:262LWB220-20261015T090000@VHSZWECKVERBAND VHS HANNOVER LAND
SUMMARY:Bildungsurlaub: Die Welt spielt verrückt – müssen wir da mitspielen? (262LWB220) 
LOCATION:Spiekeroog; Katholisches Ferienwerk Haus Winfried, Süderloog 24, 26747 Spiekeroog
END:VEVENT
BEGIN:VEVENT
DTSTAMP:20260422T124417
DTSTART;TZID=Europe/Berlin:20261016T083000
DTEND;TZID=Europe/Berlin:20261016T130000
UID:262LWB220-20261016T083000@VHSZWECKVERBAND VHS HANNOVER LAND
SUMMARY:Bildungsurlaub: Die Welt spielt verrückt – müssen wir da mitspielen? (262LWB220) 
LOCATION:Spiekeroog; Katholisches Ferienwerk Haus Winfried, Süderloog 24, 26747 Spiekeroog
END:VEVENT
END:VCALENDAR