BEGIN:VCALENDAR
VERSION:2.0
PRODID:http://www.kufer.de/kuferweb / DE
METHOD:PUBLISH
CALSCALE:GREGORIAN
X-WR-TIMEZONE:Europe/Berlin
BEGIN:VTIMEZONE
TZID:Europe/Berlin
X-LIC-LOCATION:Europe/Berlin
BEGIN:DAYLIGHT
TZOFFSETFROM:+0100
TZOFFSETTO:+0200
TZNAME:CEST
DTSTART;TZID=Europe/Berlin:19700329T020000
RRULE:FREQ=YEARLY;INTERVAL=1;BYDAY=-1SU;BYMONTH=3
END:DAYLIGHT
BEGIN:STANDARD
TZOFFSETFROM:+0200
TZOFFSETTO:+0100
TZNAME:CET
DTSTART;TZID=Europe/Berlin:19701025T030000
RRULE:FREQ=YEARLY;INTERVAL=1;BYDAY=-1SU;BYMONTH=10
END:STANDARD
END:VTIMEZONE
BEGIN:VEVENT
DTSTAMP:20260422T191104
DTSTART;TZID=Europe/Berlin:20261026T091500
DTEND;TZID=Europe/Berlin:20261026T163000
UID:262SDB510-20261026T091500@VHSZWECKVERBAND VHS HANNOVER LAND
SUMMARY:Bildungsurlaub: Plattdeutsch lernen auf Baltrum (262SDB510) 
LOCATION:Baltrum, Sonnenhütte Baltrum, Westdorf 105 26570 Baltrum, Westdorf 105, 26579 Baltrum
END:VEVENT
BEGIN:VEVENT
DTSTAMP:20260422T191104
DTSTART;TZID=Europe/Berlin:20261027T091500
DTEND;TZID=Europe/Berlin:20261027T163000
UID:262SDB510-20261027T091500@VHSZWECKVERBAND VHS HANNOVER LAND
SUMMARY:Bildungsurlaub: Plattdeutsch lernen auf Baltrum (262SDB510) 
LOCATION:Baltrum, Sonnenhütte Baltrum, Westdorf 105 26570 Baltrum, Westdorf 105, 26579 Baltrum
END:VEVENT
BEGIN:VEVENT
DTSTAMP:20260422T191104
DTSTART;TZID=Europe/Berlin:20261028T091500
DTEND;TZID=Europe/Berlin:20261028T180000
UID:262SDB510-20261028T091500@VHSZWECKVERBAND VHS HANNOVER LAND
SUMMARY:Bildungsurlaub: Plattdeutsch lernen auf Baltrum (262SDB510) 
LOCATION:Baltrum, Sonnenhütte Baltrum, Westdorf 105 26570 Baltrum, Westdorf 105, 26579 Baltrum
END:VEVENT
BEGIN:VEVENT
DTSTAMP:20260422T191104
DTSTART;TZID=Europe/Berlin:20261029T091500
DTEND;TZID=Europe/Berlin:20261029T191500
UID:262SDB510-20261029T091500@VHSZWECKVERBAND VHS HANNOVER LAND
SUMMARY:Bildungsurlaub: Plattdeutsch lernen auf Baltrum (262SDB510) 
LOCATION:Baltrum, Sonnenhütte Baltrum, Westdorf 105 26570 Baltrum, Westdorf 105, 26579 Baltrum
END:VEVENT
BEGIN:VEVENT
DTSTAMP:20260422T191104
DTSTART;TZID=Europe/Berlin:20261030T091500
DTEND;TZID=Europe/Berlin:20261030T123000
UID:262SDB510-20261030T091500@VHSZWECKVERBAND VHS HANNOVER LAND
SUMMARY:Bildungsurlaub: Plattdeutsch lernen auf Baltrum (262SDB510) 
LOCATION:Baltrum, Sonnenhütte Baltrum, Westdorf 105 26570 Baltrum, Westdorf 105, 26579 Baltrum
END:VEVENT
END:VCALENDAR