BEGIN:VCALENDAR
VERSION:2.0
PRODID:http://www.kufer.de/kuferweb / DE
METHOD:PUBLISH
CALSCALE:GREGORIAN
X-WR-TIMEZONE:Europe/Berlin
BEGIN:VTIMEZONE
TZID:Europe/Berlin
X-LIC-LOCATION:Europe/Berlin
BEGIN:DAYLIGHT
TZOFFSETFROM:+0100
TZOFFSETTO:+0200
TZNAME:CEST
DTSTART;TZID=Europe/Berlin:19700329T020000
RRULE:FREQ=YEARLY;INTERVAL=1;BYDAY=-1SU;BYMONTH=3
END:DAYLIGHT
BEGIN:STANDARD
TZOFFSETFROM:+0200
TZOFFSETTO:+0100
TZNAME:CET
DTSTART;TZID=Europe/Berlin:19701025T030000
RRULE:FREQ=YEARLY;INTERVAL=1;BYDAY=-1SU;BYMONTH=10
END:STANDARD
END:VTIMEZONE
BEGIN:VEVENT
DTSTAMP:20260422T093453
DTSTART;TZID=Europe/Berlin:20260908T144500
DTEND;TZID=Europe/Berlin:20260908T161500
UID:262SE2513-20260908T144500@VHSZWECKVERBAND VHS HANNOVER LAND
SUMMARY:Englisch für Wiedereinsteiger (A2): Seniorenkurs (262SE2513) 
LOCATION:Neustadt; VHS (am Schloss Landestrost), OG 02, Schlossstr. 1, 31535 Neustadt a. Rbge.
END:VEVENT
BEGIN:VEVENT
DTSTAMP:20260422T093453
DTSTART;TZID=Europe/Berlin:20260915T144500
DTEND;TZID=Europe/Berlin:20260915T161500
UID:262SE2513-20260915T144500@VHSZWECKVERBAND VHS HANNOVER LAND
SUMMARY:Englisch für Wiedereinsteiger (A2): Seniorenkurs (262SE2513) 
LOCATION:Neustadt; VHS (am Schloss Landestrost), OG 04, Schlossstr. 1, 31535 Neustadt a. Rbge.
END:VEVENT
BEGIN:VEVENT
DTSTAMP:20260422T093453
DTSTART;TZID=Europe/Berlin:20260922T144500
DTEND;TZID=Europe/Berlin:20260922T161500
UID:262SE2513-20260922T144500@VHSZWECKVERBAND VHS HANNOVER LAND
SUMMARY:Englisch für Wiedereinsteiger (A2): Seniorenkurs (262SE2513) 
LOCATION:Neustadt; VHS (am Schloss Landestrost), OG 02, Schlossstr. 1, 31535 Neustadt a. Rbge.
END:VEVENT
BEGIN:VEVENT
DTSTAMP:20260422T093453
DTSTART;TZID=Europe/Berlin:20260929T144500
DTEND;TZID=Europe/Berlin:20260929T161500
UID:262SE2513-20260929T144500@VHSZWECKVERBAND VHS HANNOVER LAND
SUMMARY:Englisch für Wiedereinsteiger (A2): Seniorenkurs (262SE2513) 
LOCATION:Neustadt; VHS (am Schloss Landestrost), OG 02, Schlossstr. 1, 31535 Neustadt a. Rbge.
END:VEVENT
BEGIN:VEVENT
DTSTAMP:20260422T093453
DTSTART;TZID=Europe/Berlin:20261006T144500
DTEND;TZID=Europe/Berlin:20261006T161500
UID:262SE2513-20261006T144500@VHSZWECKVERBAND VHS HANNOVER LAND
SUMMARY:Englisch für Wiedereinsteiger (A2): Seniorenkurs (262SE2513) 
LOCATION:Neustadt; VHS (am Schloss Landestrost), OG 02, Schlossstr. 1, 31535 Neustadt a. Rbge.
END:VEVENT
BEGIN:VEVENT
DTSTAMP:20260422T093453
DTSTART;TZID=Europe/Berlin:20261027T144500
DTEND;TZID=Europe/Berlin:20261027T161500
UID:262SE2513-20261027T144500@VHSZWECKVERBAND VHS HANNOVER LAND
SUMMARY:Englisch für Wiedereinsteiger (A2): Seniorenkurs (262SE2513) 
LOCATION:Neustadt; VHS (am Schloss Landestrost), OG 04, Schlossstr. 1, 31535 Neustadt a. Rbge.
END:VEVENT
BEGIN:VEVENT
DTSTAMP:20260422T093453
DTSTART;TZID=Europe/Berlin:20261103T144500
DTEND;TZID=Europe/Berlin:20261103T161500
UID:262SE2513-20261103T144500@VHSZWECKVERBAND VHS HANNOVER LAND
SUMMARY:Englisch für Wiedereinsteiger (A2): Seniorenkurs (262SE2513) 
LOCATION:Neustadt; VHS (am Schloss Landestrost), OG 02, Schlossstr. 1, 31535 Neustadt a. Rbge.
END:VEVENT
BEGIN:VEVENT
DTSTAMP:20260422T093453
DTSTART;TZID=Europe/Berlin:20261110T144500
DTEND;TZID=Europe/Berlin:20261110T161500
UID:262SE2513-20261110T144500@VHSZWECKVERBAND VHS HANNOVER LAND
SUMMARY:Englisch für Wiedereinsteiger (A2): Seniorenkurs (262SE2513) 
LOCATION:Neustadt; VHS (am Schloss Landestrost), OG 04, Schlossstr. 1, 31535 Neustadt a. Rbge.
END:VEVENT
BEGIN:VEVENT
DTSTAMP:20260422T093453
DTSTART;TZID=Europe/Berlin:20261117T144500
DTEND;TZID=Europe/Berlin:20261117T161500
UID:262SE2513-20261117T144500@VHSZWECKVERBAND VHS HANNOVER LAND
SUMMARY:Englisch für Wiedereinsteiger (A2): Seniorenkurs (262SE2513) 
LOCATION:Neustadt; VHS (am Schloss Landestrost), OG 02, Schlossstr. 1, 31535 Neustadt a. Rbge.
END:VEVENT
BEGIN:VEVENT
DTSTAMP:20260422T093453
DTSTART;TZID=Europe/Berlin:20261124T144500
DTEND;TZID=Europe/Berlin:20261124T161500
UID:262SE2513-20261124T144500@VHSZWECKVERBAND VHS HANNOVER LAND
SUMMARY:Englisch für Wiedereinsteiger (A2): Seniorenkurs (262SE2513) 
LOCATION:Neustadt; VHS (am Schloss Landestrost), OG 02, Schlossstr. 1, 31535 Neustadt a. Rbge.
END:VEVENT
BEGIN:VEVENT
DTSTAMP:20260422T093453
DTSTART;TZID=Europe/Berlin:20261201T144500
DTEND;TZID=Europe/Berlin:20261201T161500
UID:262SE2513-20261201T144500@VHSZWECKVERBAND VHS HANNOVER LAND
SUMMARY:Englisch für Wiedereinsteiger (A2): Seniorenkurs (262SE2513) 
LOCATION:Neustadt; VHS (am Schloss Landestrost), OG 02, Schlossstr. 1, 31535 Neustadt a. Rbge.
END:VEVENT
BEGIN:VEVENT
DTSTAMP:20260422T093453
DTSTART;TZID=Europe/Berlin:20261208T144500
DTEND;TZID=Europe/Berlin:20261208T161500
UID:262SE2513-20261208T144500@VHSZWECKVERBAND VHS HANNOVER LAND
SUMMARY:Englisch für Wiedereinsteiger (A2): Seniorenkurs (262SE2513) 
LOCATION:Neustadt; VHS (am Schloss Landestrost), OG 02, Schlossstr. 1, 31535 Neustadt a. Rbge.
END:VEVENT
END:VCALENDAR